BEGIN:VCALENDAR
VERSION:2.0
PRODID:-// - ECPv6.15.14//NONSGML v1.0//EN
CALSCALE:GREGORIAN
METHOD:PUBLISH
X-ORIGINAL-URL:https://insiderguide.me
X-WR-CALDESC:Events for 
REFRESH-INTERVAL;VALUE=DURATION:PT1H
X-Robots-Tag:noindex
X-PUBLISHED-TTL:PT1H
BEGIN:VTIMEZONE
TZID:Europe/Sofia
BEGIN:DAYLIGHT
TZOFFSETFROM:+0200
TZOFFSETTO:+0300
TZNAME:EEST
DTSTART:20170326T010000
END:DAYLIGHT
BEGIN:STANDARD
TZOFFSETFROM:+0300
TZOFFSETTO:+0200
TZNAME:EET
DTSTART:20171029T010000
END:STANDARD
BEGIN:DAYLIGHT
TZOFFSETFROM:+0200
TZOFFSETTO:+0300
TZNAME:EEST
DTSTART:20180325T010000
END:DAYLIGHT
BEGIN:STANDARD
TZOFFSETFROM:+0300
TZOFFSETTO:+0200
TZNAME:EET
DTSTART:20181028T010000
END:STANDARD
BEGIN:DAYLIGHT
TZOFFSETFROM:+0200
TZOFFSETTO:+0300
TZNAME:EEST
DTSTART:20190331T010000
END:DAYLIGHT
BEGIN:STANDARD
TZOFFSETFROM:+0300
TZOFFSETTO:+0200
TZNAME:EET
DTSTART:20191027T010000
END:STANDARD
BEGIN:DAYLIGHT
TZOFFSETFROM:+0200
TZOFFSETTO:+0300
TZNAME:EEST
DTSTART:20200329T010000
END:DAYLIGHT
BEGIN:STANDARD
TZOFFSETFROM:+0300
TZOFFSETTO:+0200
TZNAME:EET
DTSTART:20201025T010000
END:STANDARD
END:VTIMEZONE
BEGIN:VEVENT
DTSTART;VALUE=DATE:20190106
DTEND;VALUE=DATE:20190107
DTSTAMP:20260422T011420
CREATED:20190104T082820Z
LAST-MODIFIED:20190104T083121Z
UID:6896-1546732800-1546819199@insiderguide.me
SUMMARY:Организирани от Общината събития
DESCRIPTION:11:00 ч. Богоявление Литийно шествие от Катедрален храм „Св. Троица“.\n11:30 ч. Богоявленски водосвет на понтон под хотел „Рига“.\n12:00 ч. събота Ice Adventure Ruse 2018 Международен фестивал на ледените скулптури Русе Айс Фест‘ 2018 на тема Сребърните кънки.\n11:30 ч. Ледена пързалка. Първи стъпки на кънки върху лед – урок за начинаещи с инструктор.\n12:00 ч. пред х-л  Дунав плаза Мини състезание некласически кърлинг за деца и родители.\n18:00 ч. Сцена. Концерт на Маги Джанаварова \n/ Various whole-day events organized by the Municipality.
URL:https://insiderguide.me/event/municipality-6jan2019/
END:VEVENT
BEGIN:VEVENT
DTSTART;TZID=Europe/Sofia:20190105T110000
DTEND;TZID=Europe/Sofia:20190105T120000
DTSTAMP:20260422T011420
CREATED:20190104T120538Z
LAST-MODIFIED:20190104T120538Z
UID:6945-1546686000-1546689600@insiderguide.me
SUMMARY:Регионална библиотека
DESCRIPTION:Детска работилница. / Workshop for children @ City Library.\nhttp://www.libruse.bg/
URL:https://insiderguide.me/event/atelierlibrary-5jan2019/
END:VEVENT
BEGIN:VEVENT
DTSTART;TZID=Europe/Sofia:20190105T100000
DTEND;TZID=Europe/Sofia:20190105T120000
DTSTAMP:20260422T011420
CREATED:20190104T110419Z
LAST-MODIFIED:20190104T110419Z
UID:6926-1546682400-1546689600@insiderguide.me
SUMMARY:МОЛ Русе
DESCRIPTION:Ателие за деца. / Art workshop for children @ the Rousse MALL.
URL:https://insiderguide.me/event/atelier-5jan2019/
END:VEVENT
BEGIN:VEVENT
DTSTART;TZID=Europe/Sofia:20181231T230000
DTEND;TZID=Europe/Sofia:20181231T230000
DTSTAMP:20260422T011420
CREATED:20181207T110458Z
LAST-MODIFIED:20181207T110458Z
UID:6869-1546297200-1546297200@insiderguide.me
SUMMARY:Площад пред Общината
DESCRIPTION:Да посрещнем заедно Новата 2019 година! Специални гости: Рок група Б.Т.Р. Оркестър и солистите на ФТТ „Найден Киров“. /  New Year’s Eve in front of the Municipality.
URL:https://insiderguide.me/event/newyear-31dec2018/
END:VEVENT
BEGIN:VEVENT
DTSTART;TZID=Europe/Sofia:20181229T220000
DTEND;TZID=Europe/Sofia:20181229T233000
DTSTAMP:20260422T011420
CREATED:20181207T112002Z
LAST-MODIFIED:20181207T112002Z
UID:6880-1546120800-1546126200@insiderguide.me
SUMMARY:Макс клуб
DESCRIPTION:МЕРУДИЯ. / Merudia\, live @ Max Club.\nhttp://www.maxclubruse.com/
URL:https://insiderguide.me/event/merudia-29dec2018/
END:VEVENT
BEGIN:VEVENT
DTSTART;TZID=Europe/Sofia:20181229T190000
DTEND;TZID=Europe/Sofia:20181229T210000
DTSTAMP:20260422T011420
CREATED:20181207T095218Z
LAST-MODIFIED:20181207T095457Z
UID:6850-1546110000-1546117200@insiderguide.me
SUMMARY:Държавна опера Русе
DESCRIPTION:„Прилепът“. / The Bat @ the State Opera.\nhttp://www.ruseopera.com/
URL:https://insiderguide.me/event/bat-29dec2018/
END:VEVENT
BEGIN:VEVENT
DTSTART;TZID=Europe/Sofia:20181229T113000
DTEND;TZID=Europe/Sofia:20181229T130000
DTSTAMP:20260422T011420
CREATED:20181206T140456Z
LAST-MODIFIED:20181206T140456Z
UID:6800-1546083000-1546088400@insiderguide.me
SUMMARY:Ледена пързалка
DESCRIPTION:Танцувай на лед с любими приказни герои. / Ice Dancing with Favorite Fairy Tale Heros @ the ice rink in front of the Opera House.
URL:https://insiderguide.me/event/icedance-29dec2018/
END:VEVENT
BEGIN:VEVENT
DTSTART;TZID=Europe/Sofia:20181229T110000
DTEND;TZID=Europe/Sofia:20181229T120000
DTSTAMP:20260422T011420
CREATED:20181206T150116Z
LAST-MODIFIED:20181206T150116Z
UID:6811-1546081200-1546084800@insiderguide.me
SUMMARY:МОЛ Русе
DESCRIPTION:Ателие за деца. / Art workshop for children @ the Rousse MALL.
URL:https://insiderguide.me/event/atelier-29dec2018/
END:VEVENT
BEGIN:VEVENT
DTSTART;TZID=Europe/Sofia:20181228T200000
DTEND;TZID=Europe/Sofia:20181228T230000
DTSTAMP:20260422T011420
CREATED:20181207T112719Z
LAST-MODIFIED:20181207T112830Z
UID:6886-1546027200-1546038000@insiderguide.me
SUMMARY:Караоке стар
DESCRIPTION:Иво Минчев\, празничен концерт. / Ivo Minchev\, live @ Karaoke Star.\nhttps://www.facebook.com/events/1639182042849875/
URL:https://insiderguide.me/event/ivominchev-28dec2018/
END:VEVENT
BEGIN:VEVENT
DTSTART;TZID=Europe/Sofia:20181227T190000
DTEND;TZID=Europe/Sofia:20181227T210000
DTSTAMP:20260422T011420
CREATED:20181207T095959Z
LAST-MODIFIED:20181207T095959Z
UID:6852-1545937200-1545944400@insiderguide.me
SUMMARY:Зала Филхармония
DESCRIPTION:Симфоничен концерт на Русенска филхармония. / Rousse Philharmonic Orchestra\, live @ Philharmony Hall.\nhttp://www.ruseopera.com/
URL:https://insiderguide.me/event/orchestra-27dec2018/
END:VEVENT
BEGIN:VEVENT
DTSTART;TZID=Europe/Sofia:20181227T180000
DTEND;TZID=Europe/Sofia:20181227T200000
DTSTAMP:20260422T011420
CREATED:20181207T082618Z
LAST-MODIFIED:20181207T082618Z
UID:6823-1545933600-1545940800@insiderguide.me
SUMMARY:Ледена пързалка
DESCRIPTION:Концерт на рок група „Ред хаус“. / Red House\, live @ the Ice Rink.
URL:https://insiderguide.me/event/redhouse-27dec2018/
END:VEVENT
BEGIN:VEVENT
DTSTART;TZID=Europe/Sofia:20181226T180000
DTEND;TZID=Europe/Sofia:20181226T200000
DTSTAMP:20260422T011420
CREATED:20181206T160422Z
LAST-MODIFIED:20181207T082715Z
UID:6822-1545847200-1545854400@insiderguide.me
SUMMARY:Ледена пързалка
DESCRIPTION:11:00 Церемония по награждаване на участниците в пленера за леден барелеф на тема „Сребърните кънки“.\n18:00 Концерт на рок група „Popokate5l“ с брас-секция. В програмата изпълнения на поп\, суинг\, етно\, джаз-рок и класически рок. / 6pm – Popokate5l\, live  @ the Ice Rink.
URL:https://insiderguide.me/event/popokate-26dec2018/
END:VEVENT
BEGIN:VEVENT
DTSTART;TZID=Europe/Sofia:20181226T113000
DTEND;TZID=Europe/Sofia:20181226T123000
DTSTAMP:20260422T011420
CREATED:20181206T134312Z
LAST-MODIFIED:20181206T134312Z
UID:6791-1545823800-1545827400@insiderguide.me
SUMMARY:Хотел Дунав Плаза
DESCRIPTION:Леден бал на открито за деца и родители. / Ice Ball in the Open for Children and Parents @ the Dunav Plaza Hotel.
URL:https://insiderguide.me/event/iceball-26dec2018/
END:VEVENT
BEGIN:VEVENT
DTSTART;TZID=Europe/Sofia:20181224T110000
DTEND;TZID=Europe/Sofia:20181224T130000
DTSTAMP:20260422T011420
CREATED:20181206T160145Z
LAST-MODIFIED:20181206T160508Z
UID:6820-1545649200-1545656400@insiderguide.me
SUMMARY:Ледена пързалка
DESCRIPTION:11:00 Церемония по награждаване на участниците в пленера за ледена рисунка на тема „Сребърните кънки“.\n11:30 „Настроение на max и щипка канела” Коледна пекарна на открито за деца и родители. \n12:30 “Валс на снежинките” феерия с кънки на лед./ Xmas event for children and parents @ the Ice Rink.
URL:https://insiderguide.me/event/eventschildrenparents-24dec2018/
END:VEVENT
BEGIN:VEVENT
DTSTART;TZID=Europe/Sofia:20181223T110000
DTEND;TZID=Europe/Sofia:20181223T130000
DTSTAMP:20260422T011420
CREATED:20181207T101008Z
LAST-MODIFIED:20181207T101008Z
UID:6857-1545562800-1545570000@insiderguide.me
SUMMARY:Държавен куклен театър
DESCRIPTION:11:00 и 12:00 часа – Приказка приказка. / Faitytale Tale @ the Puppet Theatre.\nhttp://puppetruse.com/
URL:https://insiderguide.me/event/taletale-23dec2018/
END:VEVENT
BEGIN:VEVENT
DTSTART;TZID=Europe/Sofia:20181223T110000
DTEND;TZID=Europe/Sofia:20181223T120000
DTSTAMP:20260422T011420
CREATED:20181206T155932Z
LAST-MODIFIED:20181206T155932Z
UID:6821-1545562800-1545566400@insiderguide.me
SUMMARY:Ледена пързалка
DESCRIPTION:11:00 ч. – Откриване на пленер за леден барелеф на тема „Сребърните кънки“.\n11:30 ч. – Коледна щуроландия на лед. Шоу на инструкторите на Ruse Ice Rink. с участието на Вокална група „Приста“./ Christmas Crazy Parties @ the Ice Rink.
URL:https://insiderguide.me/event/crazyxmas-23dec2018/
END:VEVENT
BEGIN:VEVENT
DTSTART;TZID=Europe/Sofia:20181222T220000
DTEND;TZID=Europe/Sofia:20181222T233000
DTSTAMP:20260422T011420
CREATED:20181207T111833Z
LAST-MODIFIED:20181207T112327Z
UID:6877-1545516000-1545521400@insiderguide.me
SUMMARY:Макс клуб
DESCRIPTION:ПоПоКАТЕ5л. / PoPoKATE5l\, live @ Max Club.\nhttp://www.maxclubruse.com/
URL:https://insiderguide.me/event/popokate-22dec2018/
END:VEVENT
BEGIN:VEVENT
DTSTART;TZID=Europe/Sofia:20181222T120000
DTEND;TZID=Europe/Sofia:20181222T130000
DTSTAMP:20260422T011420
CREATED:20181207T095146Z
LAST-MODIFIED:20181207T095432Z
UID:6849-1545480000-1545483600@insiderguide.me
SUMMARY:Държавна опера Русе
DESCRIPTION:12:00 и 19:00 часа – „Царевич“. / Tsarevich @ the State Opera.\nhttp://www.ruseopera.com/
URL:https://insiderguide.me/event/tsarevich-22dec2018/
END:VEVENT
BEGIN:VEVENT
DTSTART;TZID=Europe/Sofia:20181222T110000
DTEND;TZID=Europe/Sofia:20181222T120000
DTSTAMP:20260422T011420
CREATED:20181206T150110Z
LAST-MODIFIED:20181206T150110Z
UID:6810-1545476400-1545480000@insiderguide.me
SUMMARY:МОЛ Русе
DESCRIPTION:Ателие за деца. / Art workshop for children @ the Rousse MALL.
URL:https://insiderguide.me/event/atelier-22dec2018/
END:VEVENT
BEGIN:VEVENT
DTSTART;TZID=Europe/Sofia:20181222T110000
DTEND;TZID=Europe/Sofia:20181222T120000
DTSTAMP:20260422T011420
CREATED:20181206T134439Z
LAST-MODIFIED:20181206T155953Z
UID:6782-1545476400-1545480000@insiderguide.me
SUMMARY:Хотел Дунав Плаза
DESCRIPTION:11:00 Снежни! Бързи! Грациозни! Ледено приключение с Елза и Ана. \n17:00 Сребърни трели  с ДВГ „Слънце“ и Студио „Икономов“.\n18:00 Концерт на  Биг Бенд Русе./ 2018 Rousse Ice Festival – Ice Adventure with Elza and Ana @ the Dunav Plaza Hotel.
URL:https://insiderguide.me/event/elzaana-22dec2018/
END:VEVENT
BEGIN:VEVENT
DTSTART;VALUE=DATE:20181222
DTEND;VALUE=DATE:20181223
DTSTAMP:20260422T011420
CREATED:20181207T110136Z
LAST-MODIFIED:20181207T110136Z
UID:6868-1545436800-1545523199@insiderguide.me
SUMMARY:Исторически музей
DESCRIPTION:„Фабрика за изкуство: Коледен базар“ – изложба с творби и млади русенски артисти. / Art Factory – Xmas Bazaar @ Regional Museum of History.\nhttp://www.museumruse.com/
URL:https://insiderguide.me/event/artfactory-22dec2018/
END:VEVENT
BEGIN:VEVENT
DTSTART;TZID=Europe/Sofia:20181221T220000
DTEND;TZID=Europe/Sofia:20181221T233000
DTSTAMP:20260422T011420
CREATED:20181207T113357Z
LAST-MODIFIED:20181207T113357Z
UID:6879-1545429600-1545435000@insiderguide.me
SUMMARY:Макс клуб
DESCRIPTION:Odd Crew Acoustic. / Odd Crew Acoustic\, live @ Max Club.\nhttp://www.maxclubruse.com/
URL:https://insiderguide.me/event/oddcrew-21dec2018/
END:VEVENT
BEGIN:VEVENT
DTSTART;TZID=Europe/Sofia:20181220T190000
DTEND;TZID=Europe/Sofia:20181220T210000
DTSTAMP:20260422T011420
CREATED:20181207T082539Z
LAST-MODIFIED:20181207T082539Z
UID:6819-1545332400-1545339600@insiderguide.me
SUMMARY:Доходно здание
DESCRIPTION:Коледен концерт. Тамбурашки оркестър и ДВГ Слънце със специалното участие на Мариана Цветкова и Владимир Маринов. / Christmas concert by tamboura orchestra @ Profit-Yielding Building.
URL:https://insiderguide.me/event/xmasconcert-20dec2018/
END:VEVENT
BEGIN:VEVENT
DTSTART;TZID=Europe/Sofia:20181220T180000
DTEND;TZID=Europe/Sofia:20181220T200000
DTSTAMP:20260422T011420
CREATED:20181206T131714Z
LAST-MODIFIED:20181206T131714Z
UID:6779-1545328800-1545336000@insiderguide.me
SUMMARY:Доходно здание
DESCRIPTION:20 години Формация за модерен балет Мираж. / Mirazh Ballet – 20 Years @ the Profit-Yielding Building.\nhttp://www.dohodnozdanie.com/
URL:https://insiderguide.me/event/mirazhballet-20dec2018/
END:VEVENT
BEGIN:VEVENT
DTSTART;TZID=Europe/Sofia:20181219T190000
DTEND;TZID=Europe/Sofia:20181219T210000
DTSTAMP:20260422T011420
CREATED:20181207T094342Z
LAST-MODIFIED:20181207T094342Z
UID:6844-1545246000-1545253200@insiderguide.me
SUMMARY:Държавна опера Русе
DESCRIPTION:„Аида“. / Aida @ the State Opera.\nhttp://www.ruseopera.com/
URL:https://insiderguide.me/event/aida-19dec2018/
END:VEVENT
BEGIN:VEVENT
DTSTART;TZID=Europe/Sofia:20181219T183000
DTEND;TZID=Europe/Sofia:20181219T200000
DTSTAMP:20260422T011420
CREATED:20181206T160526Z
LAST-MODIFIED:20181207T082703Z
UID:6813-1545244200-1545249600@insiderguide.me
SUMMARY:Доходно здание
DESCRIPTION:„На Коледа с песни и приятели“ – коледен концерт на ДМХ  „Свети Георги Победоносец“. / Christmas with Songs and Friends\, concert by St George Choir @ Profit-Yielding Building.
URL:https://insiderguide.me/event/xmas-19dec2018/
END:VEVENT
BEGIN:VEVENT
DTSTART;TZID=Europe/Sofia:20181217T190000
DTEND;TZID=Europe/Sofia:20181217T210000
DTSTAMP:20260422T011420
CREATED:20181207T103506Z
LAST-MODIFIED:20181207T103506Z
UID:6862-1545073200-1545080400@insiderguide.me
SUMMARY:Канев Център
DESCRIPTION:„Вражалец“. / Fortune Teller @ Kaneff Centre.\nhttps://www.uni-ruse.bg/kaneff
URL:https://insiderguide.me/event/fortuneteller-17dec2018/
END:VEVENT
BEGIN:VEVENT
DTSTART;TZID=Europe/Sofia:20181217T190000
DTEND;TZID=Europe/Sofia:20181217T210000
DTSTAMP:20260422T011420
CREATED:20181207T093035Z
LAST-MODIFIED:20181207T093035Z
UID:6837-1545073200-1545080400@insiderguide.me
SUMMARY:Драматичен театър Сава Огнянов
DESCRIPTION:Държавна опера – Пловдив „По-полека Symphony“. / Take It Easy\, Symphony @ the Theatre.\nhttp://www.theatre.ruse.bg/
URL:https://insiderguide.me/event/%d0%b4%d1%80%d0%b0%d0%bc%d0%b0%d1%82%d0%b8%d1%87%d0%b5%d0%bd-%d1%82%d0%b5%d0%b0%d1%82%d1%8a%d1%80-%d1%81%d0%b0%d0%b2%d0%b0-%d0%be%d0%b3%d0%bd%d1%8f%d0%bd%d0%be%d0%b2-3/
END:VEVENT
BEGIN:VEVENT
DTSTART;TZID=Europe/Sofia:20181216T110000
DTEND;TZID=Europe/Sofia:20181216T130000
DTSTAMP:20260422T011420
CREATED:20181207T100953Z
LAST-MODIFIED:20181207T100953Z
UID:6856-1544958000-1544965200@insiderguide.me
SUMMARY:Държавен куклен театър
DESCRIPTION:11:00 и 12:00 часа – Коледна приказка. / Christmas Fairytale @ the Puppet Theatre.\nhttp://puppetruse.com/
URL:https://insiderguide.me/event/tale-16dec2018/
END:VEVENT
BEGIN:VEVENT
DTSTART;TZID=Europe/Sofia:20181216T110000
DTEND;TZID=Europe/Sofia:20181216T120000
DTSTAMP:20260422T011420
CREATED:20181206T150008Z
LAST-MODIFIED:20181206T150008Z
UID:6808-1544958000-1544961600@insiderguide.me
SUMMARY:МОЛ Русе
DESCRIPTION:Коледен концерт Коледни звезди. / Christmas Stars\, concert @ the Rousse MALL.
URL:https://insiderguide.me/event/christmasstars-16dec2018/
END:VEVENT
END:VCALENDAR