BEGIN:VCALENDAR
VERSION:2.0
PRODID:-// - ECPv6.15.14//NONSGML v1.0//EN
CALSCALE:GREGORIAN
METHOD:PUBLISH
X-ORIGINAL-URL:https://insiderguide.me
X-WR-CALDESC:Events for 
REFRESH-INTERVAL;VALUE=DURATION:PT1H
X-Robots-Tag:noindex
X-PUBLISHED-TTL:PT1H
BEGIN:VTIMEZONE
TZID:Europe/Sofia
BEGIN:DAYLIGHT
TZOFFSETFROM:+0200
TZOFFSETTO:+0300
TZNAME:EEST
DTSTART:20180325T010000
END:DAYLIGHT
BEGIN:STANDARD
TZOFFSETFROM:+0300
TZOFFSETTO:+0200
TZNAME:EET
DTSTART:20181028T010000
END:STANDARD
BEGIN:DAYLIGHT
TZOFFSETFROM:+0200
TZOFFSETTO:+0300
TZNAME:EEST
DTSTART:20190331T010000
END:DAYLIGHT
BEGIN:STANDARD
TZOFFSETFROM:+0300
TZOFFSETTO:+0200
TZNAME:EET
DTSTART:20191027T010000
END:STANDARD
BEGIN:DAYLIGHT
TZOFFSETFROM:+0200
TZOFFSETTO:+0300
TZNAME:EEST
DTSTART:20200329T010000
END:DAYLIGHT
BEGIN:STANDARD
TZOFFSETFROM:+0300
TZOFFSETTO:+0200
TZNAME:EET
DTSTART:20201025T010000
END:STANDARD
END:VTIMEZONE
BEGIN:VEVENT
DTSTART;TZID=Europe/Sofia:20190306T190000
DTEND;TZID=Europe/Sofia:20190306T210000
DTSTAMP:20260421T231047
CREATED:20190303T155620Z
LAST-MODIFIED:20190303T155833Z
UID:7164-1551898800-1551906000@insiderguide.me
SUMMARY:Драматичен театър Сава Огнянов
DESCRIPTION:Казимир и Каролине или И любовта никога не спира. / Kazmir and Karoline or Love Never Ends @ Drama Theatre.
URL:https://insiderguide.me/event/kazimir-6mar2019/
END:VEVENT
BEGIN:VEVENT
DTSTART;TZID=Europe/Sofia:20190306T180000
DTEND;TZID=Europe/Sofia:20190306T200000
DTSTAMP:20260421T231047
CREATED:20190303T193430Z
LAST-MODIFIED:20190303T193430Z
UID:7210-1551895200-1551902400@insiderguide.me
SUMMARY:Регионален исторически музей
DESCRIPTION:Праисторическите проучвания на русенския музей през 2018\, презентация. / Ancient Reasearches by the Museum in 2018\, presentation @ Regiona Museum of History.
URL:https://insiderguide.me/event/present-6mar2019/
END:VEVENT
BEGIN:VEVENT
DTSTART;TZID=Europe/Sofia:20190305T200000
DTEND;TZID=Europe/Sofia:20190305T220000
DTSTAMP:20260421T231047
CREATED:20190303T205244Z
LAST-MODIFIED:20190303T205244Z
UID:7286-1551816000-1551823200@insiderguide.me
SUMMARY:Караоке стар
DESCRIPTION:Lukewarm Ocean\, концерт. / Lukewarm Ocean\, live @ Karaoke Star.
URL:https://insiderguide.me/event/lukewarm-5mar2019/
END:VEVENT
BEGIN:VEVENT
DTSTART;TZID=Europe/Sofia:20190303T080000
DTEND;TZID=Europe/Sofia:20190303T170000
DTSTAMP:20260421T231047
CREATED:20190303T204020Z
LAST-MODIFIED:20190303T204020Z
UID:7270-1551600000-1551632400@insiderguide.me
SUMMARY:Доходно здание
DESCRIPTION:Мартенски музикални дни: ФЕСТИВАЛЕН ОРКЕСТЪР\, Диригент ЕМИЛ ТАБАКОВ\, Солист СВЕТЛИН РУСЕВ цигулка. / March Music Days International Festival: Festival Orchestra\, conductor: Emil Tabakov\, soloist: Svetlin Rusev\, violin @ Profit-Yielding Building.
URL:https://insiderguide.me/event/festorchestra-31mar2019/
END:VEVENT
BEGIN:VEVENT
DTSTART;VALUE=DATE:20190301
DTEND;VALUE=DATE:20190316
DTSTAMP:20260421T231047
CREATED:20190303T192708Z
LAST-MODIFIED:20190303T192708Z
UID:7203-1551398400-1552694399@insiderguide.me
SUMMARY:Художествена галерия
DESCRIPTION:Художници юбиляри 2019 творби от фонда. / Anniversaries\, drawings owned by the Gallery @ Art Gallery.
URL:https://insiderguide.me/event/annivers-115mar2019/
END:VEVENT
BEGIN:VEVENT
DTSTART;TZID=Europe/Sofia:20190228T190000
DTEND;TZID=Europe/Sofia:20190228T210000
DTSTAMP:20260421T231047
CREATED:20190201T122753Z
LAST-MODIFIED:20190201T122753Z
UID:7065-1551380400-1551387600@insiderguide.me
SUMMARY:Зала Филхармония
DESCRIPTION:“Империята на мюзикъла”. / Musical Empire @ Philharmony Hall.
URL:https://insiderguide.me/event/musical-28feb2019/
END:VEVENT
BEGIN:VEVENT
DTSTART;TZID=Europe/Sofia:20190228T190000
DTEND;TZID=Europe/Sofia:20190228T210000
DTSTAMP:20260421T231047
CREATED:20190201T122241Z
LAST-MODIFIED:20190201T122241Z
UID:7054-1551380400-1551387600@insiderguide.me
SUMMARY:Държавна опера Русе
DESCRIPTION:Гостува балетът на Държавна опера\, Стара Загора: “Нестинарка”\, балет. / Nestinarka (https://en.wikipedia.org/wiki/Nestinarstvo)\, ballet @ Rousse Opera.
URL:https://insiderguide.me/event/nestinarka-28feb2019/
END:VEVENT
BEGIN:VEVENT
DTSTART;VALUE=DATE:20190228
DTEND;VALUE=DATE:20190401
DTSTAMP:20260421T231047
CREATED:20190201T125838Z
LAST-MODIFIED:20190201T125838Z
UID:7080-1551312000-1554076799@insiderguide.me
SUMMARY:Регионален исторически музей
DESCRIPTION:Изложба на мартеници. / Martenitsi (https://en.wikipedia.org/wiki/Martenitsa)\, exposition @ Regional Museum of History.
URL:https://insiderguide.me/event/martenitsi-2831mar2019/
END:VEVENT
BEGIN:VEVENT
DTSTART;VALUE=DATE:20190228
DTEND;VALUE=DATE:20190304
DTSTAMP:20260421T231047
CREATED:20190201T111130Z
LAST-MODIFIED:20190201T111317Z
UID:7014-1551312000-1551657599@insiderguide.me
SUMMARY:Зала Арена Русе
DESCRIPTION:Международен турнир по борба “Дан Колов”. / International Wrestling Tournament @ Arena Rousse (Monbat) Sports Hall.
URL:https://insiderguide.me/event/dankolov-283mar2019/
END:VEVENT
BEGIN:VEVENT
DTSTART;TZID=Europe/Sofia:20190227T190000
DTEND;TZID=Europe/Sofia:20190227T210000
DTSTAMP:20260421T231047
CREATED:20190201T153159Z
LAST-MODIFIED:20190201T153159Z
UID:7090-1551294000-1551301200@insiderguide.me
SUMMARY:Драматичен театър Сава Огнянов
DESCRIPTION:ДТ “Адриана Будевска”\, Бургас: “Да минеш под дъгата”. / Going under the Rainbow\, theatrical performance @ the Theatre.
URL:https://insiderguide.me/event/%d0%b4%d1%80%d0%b0%d0%bc%d0%b0%d1%82%d0%b8%d1%87%d0%b5%d0%bd-%d1%82%d0%b5%d0%b0%d1%82%d1%8a%d1%80-%d1%81%d0%b0%d0%b2%d0%b0-%d0%be%d0%b3%d0%bd%d1%8f%d0%bd%d0%be%d0%b2-4/
END:VEVENT
BEGIN:VEVENT
DTSTART;TZID=Europe/Sofia:20190227T190000
DTEND;TZID=Europe/Sofia:20190227T210000
DTSTAMP:20260421T231047
CREATED:20190201T122221Z
LAST-MODIFIED:20190201T122221Z
UID:7053-1551294000-1551301200@insiderguide.me
SUMMARY:Държавна опера Русе
DESCRIPTION:“Любовен еликсир”\, опера. / Love Elixir\, opera @ Rousse Opera.
URL:https://insiderguide.me/event/loveelixir-27feb2019/
END:VEVENT
BEGIN:VEVENT
DTSTART;TZID=Europe/Sofia:20190227T180000
DTEND;TZID=Europe/Sofia:20190227T190000
DTSTAMP:20260421T231047
CREATED:20190201T153144Z
LAST-MODIFIED:20190201T153144Z
UID:7113-1551290400-1551294000@insiderguide.me
SUMMARY:Регионална библиотека
DESCRIPTION:Детски отдел “Ролята на родителите в семейството”\, лекция от поредицата “Родителско кафе” с УМБАЛ “Медика”. / Children’s Department: The Role of Parents in the Family\, a Parent Cafe lecture with the Medica Medical Centre @ the Regional Library.
URL:https://insiderguide.me/event/medika-27feb2019/
END:VEVENT
BEGIN:VEVENT
DTSTART;TZID=Europe/Sofia:20190227T180000
DTEND;TZID=Europe/Sofia:20190227T190000
DTSTAMP:20260421T231047
CREATED:20190201T152841Z
LAST-MODIFIED:20190201T152841Z
UID:7111-1551290400-1551294000@insiderguide.me
SUMMARY:Регионална библиотека
DESCRIPTION:“Изцелителната сила на поста”\, представяне на книгата на Георги Жеков. / The Healing Power of Fasting\, book presentation @ the Regional Library.
URL:https://insiderguide.me/event/fasting-27feb2019/
END:VEVENT
BEGIN:VEVENT
DTSTART;TZID=Europe/Sofia:20190225T190000
DTEND;TZID=Europe/Sofia:20190225T210000
DTSTAMP:20260421T231047
CREATED:20190201T150751Z
LAST-MODIFIED:20190201T151032Z
UID:7085-1551121200-1551128400@insiderguide.me
SUMMARY:Драматичен театър Сава Огнянов
DESCRIPTION:Театър на Българската армия: “Швейк”. / Švejk\, theatrical performance @ the Theatre.
URL:https://insiderguide.me/event/svejk-25feb2019/
END:VEVENT
BEGIN:VEVENT
DTSTART;TZID=Europe/Sofia:20190224T180000
DTEND;TZID=Europe/Sofia:20190224T230000
DTSTAMP:20260421T231047
CREATED:20190204T101414Z
LAST-MODIFIED:20190204T101414Z
UID:7137-1551031200-1551049200@insiderguide.me
SUMMARY:Караоке стар
DESCRIPTION:Meridian Run “Филм за слепи” EP Release & Support. / Meridian Runm\, Movie for the Blind\, EP Release & Support @ Karaoke Star.
URL:https://insiderguide.me/event/blind-24feb2019/
END:VEVENT
BEGIN:VEVENT
DTSTART;TZID=Europe/Sofia:20190224T110000
DTEND;TZID=Europe/Sofia:20190224T130000
DTSTAMP:20260421T231047
CREATED:20190201T124346Z
LAST-MODIFIED:20190201T124636Z
UID:7074-1551006000-1551013200@insiderguide.me
SUMMARY:Държавен куклен театър
DESCRIPTION:“Голямото пътешествие на малкото крокодилче”\, представление за деца: от 11:00 и 12:00 часа. / The Great Adventure of the Little Crocodile\, theatrical performance for children at 11:00am and 12:00pm @ the Puppet House.
URL:https://insiderguide.me/event/crocodile-24feb2019/
END:VEVENT
BEGIN:VEVENT
DTSTART;TZID=Europe/Sofia:20190223T190000
DTEND;TZID=Europe/Sofia:20190223T210000
DTSTAMP:20260421T231047
CREATED:20190201T120108Z
LAST-MODIFIED:20190201T120108Z
UID:7036-1550948400-1550955600@insiderguide.me
SUMMARY:Доходно здание
DESCRIPTION:“Класика и рок”\, опера. / Rock & Classic\, opera  @ the Profit-Yielding Building.
URL:https://insiderguide.me/event/rockclassic-23feb2019/
END:VEVENT
BEGIN:VEVENT
DTSTART;VALUE=DATE:20190223
DTEND;VALUE=DATE:20190224
DTSTAMP:20260421T231047
CREATED:20190201T122105Z
LAST-MODIFIED:20190201T122105Z
UID:7046-1550880000-1550966399@insiderguide.me
SUMMARY:МОЛ Русе
DESCRIPTION:Малките майстори\, театър “Камила”: работилница за деца. / Art Atelier for Children @ MALL Rousse.
URL:https://insiderguide.me/event/atelier-23feb2019/
END:VEVENT
BEGIN:VEVENT
DTSTART;VALUE=DATE:20190223
DTEND;VALUE=DATE:20190224
DTSTAMP:20260421T231047
CREATED:20190201T111121Z
LAST-MODIFIED:20190201T111121Z
UID:7011-1550880000-1550966399@insiderguide.me
SUMMARY:Бабово
DESCRIPTION:Четвърти фолклорен празник “Греяна ракия и зелева чорба от старовремската софра”. / Fourth Folklore Festival in the village of Babovo near Rousse (https://en.wikipedia.org/wiki/Babovo).
URL:https://insiderguide.me/event/folklorebabovo-23frb2019/
END:VEVENT
BEGIN:VEVENT
DTSTART;TZID=Europe/Sofia:20190222T220000
DTEND;TZID=Europe/Sofia:20190222T233000
DTSTAMP:20260421T231047
CREATED:20190204T100751Z
LAST-MODIFIED:20190204T100936Z
UID:7127-1550872800-1550878200@insiderguide.me
SUMMARY:Макс клуб
DESCRIPTION:D2. / D2\, live @ Max Club.
URL:https://insiderguide.me/event/d2-22feb2019/
END:VEVENT
BEGIN:VEVENT
DTSTART;TZID=Europe/Sofia:20190222T190000
DTEND;TZID=Europe/Sofia:20190222T210000
DTSTAMP:20260421T231047
CREATED:20190201T150951Z
LAST-MODIFIED:20190201T151236Z
UID:7096-1550862000-1550869200@insiderguide.me
SUMMARY:Драматичен театър Сава Огнянов
DESCRIPTION:“Легло за трима”. / Bed for Three\, theatrical performance @ the Theatre.
URL:https://insiderguide.me/event/bedthree-22feb2019/
END:VEVENT
BEGIN:VEVENT
DTSTART;TZID=Europe/Sofia:20190221T220000
DTEND;TZID=Europe/Sofia:20190221T233000
DTSTAMP:20260421T231047
CREATED:20190204T100755Z
LAST-MODIFIED:20190204T100849Z
UID:7128-1550786400-1550791800@insiderguide.me
SUMMARY:Макс клуб
DESCRIPTION:Keira Is You. / Keira Is You\, live @ Max Club.
URL:https://insiderguide.me/event/keira-21feb2019/
END:VEVENT
BEGIN:VEVENT
DTSTART;TZID=Europe/Sofia:20190221T190000
DTEND;TZID=Europe/Sofia:20190221T210000
DTSTAMP:20260421T231047
CREATED:20190201T150750Z
LAST-MODIFIED:20190201T151013Z
UID:7082-1550775600-1550782800@insiderguide.me
SUMMARY:Драматичен театър Сава Огнянов
DESCRIPTION:“Сблъсък”. / Crush\, theatrical performance @ the Theatre.
URL:https://insiderguide.me/event/crush-21feb2019/
END:VEVENT
BEGIN:VEVENT
DTSTART;TZID=Europe/Sofia:20190221T190000
DTEND;TZID=Europe/Sofia:20190221T210000
DTSTAMP:20260421T231047
CREATED:20190201T122741Z
LAST-MODIFIED:20190201T122741Z
UID:7064-1550775600-1550782800@insiderguide.me
SUMMARY:Зала Филхармония
DESCRIPTION:“Гласовете на България”\, концерт. / The Voices of Bulgaria\, concert @ Philharmony Hall.
URL:https://insiderguide.me/event/bgvoices-21feb2019/
END:VEVENT
BEGIN:VEVENT
DTSTART;TZID=Europe/Sofia:20190221T180000
DTEND;TZID=Europe/Sofia:20190221T190000
DTSTAMP:20260421T231047
CREATED:20190201T153737Z
LAST-MODIFIED:20190201T153737Z
UID:7107-1550772000-1550775600@insiderguide.me
SUMMARY:Регионална библиотека
DESCRIPTION:“Изпитът – Светът на бъдещето през погледа на любовта и на познанието”\, представяне на книгата на Силвия Ръженкова. / The Exam – The Future World through the Eyes of Love and Awareness\, book presentation @ the Regional Library.
URL:https://insiderguide.me/event/exam-21feb2019/
END:VEVENT
BEGIN:VEVENT
DTSTART;TZID=Europe/Sofia:20190220T190000
DTEND;TZID=Europe/Sofia:20190220T210000
DTSTAMP:20260421T231047
CREATED:20190201T122213Z
LAST-MODIFIED:20190201T122213Z
UID:7052-1550689200-1550696400@insiderguide.me
SUMMARY:Държавна опера Русе
DESCRIPTION:“Бохеми”\, опера. / Bohems\, opera @ Rousse Opera.
URL:https://insiderguide.me/event/bohems-20feb2019/
END:VEVENT
BEGIN:VEVENT
DTSTART;TZID=Europe/Sofia:20190220T180000
DTEND;TZID=Europe/Sofia:20190220T200000
DTSTAMP:20260421T231047
CREATED:20190201T114808Z
LAST-MODIFIED:20190201T114808Z
UID:7035-1550685600-1550692800@insiderguide.me
SUMMARY:Доходно здание
DESCRIPTION:Кинолектория “Любовта е лудост”: “Най-добрият човек\, когото познавам!”. / Love Is Madness\, film fest: The Kindest Person I Know @ the Profit-Yielding Building.
URL:https://insiderguide.me/event/kindest-20feb2019/
END:VEVENT
BEGIN:VEVENT
DTSTART;TZID=Europe/Sofia:20190220T170000
DTEND;TZID=Europe/Sofia:20190220T180000
DTSTAMP:20260421T231047
CREATED:20190201T153640Z
LAST-MODIFIED:20190201T153640Z
UID:7112-1550682000-1550685600@insiderguide.me
SUMMARY:Регионална библиотека
DESCRIPTION:“Освобождението”\, изложба. / The Liberation\, exhibition @ the Regional Library.
URL:https://insiderguide.me/event/liberation-20feb2019/
END:VEVENT
BEGIN:VEVENT
DTSTART;VALUE=DATE:20190220
DTEND;VALUE=DATE:20190221
DTSTAMP:20260421T231047
CREATED:20190201T154317Z
LAST-MODIFIED:20190201T154317Z
UID:7123-1550620800-1550707199@insiderguide.me
SUMMARY:Организирано от Общината
DESCRIPTION:141 години от Освобождението на Русе:\n9:00 ч. „Св.Троица“ – Благодарствен молебен\n11:00 ч. Пантеон възрожденците – Тържествена церемония. Поднасяне на венци и цветя. /\n141 Years since the Liberation of Rousse:\n9:00 St. Trinity Church – Liturgy\n11;00 Pantheon of National Revival – Official ceremony. Wreaths and flowers.
URL:https://insiderguide.me/event/liberation-20feb2019-2/
END:VEVENT
BEGIN:VEVENT
DTSTART;TZID=Europe/Sofia:20190219T180000
DTEND;TZID=Europe/Sofia:20190219T200000
DTSTAMP:20260421T231047
CREATED:20190201T114656Z
LAST-MODIFIED:20190201T114656Z
UID:7031-1550599200-1550606400@insiderguide.me
SUMMARY:Доходно здание
DESCRIPTION:Кинолектория “Любовта е лудост”: “Спомен за близначката”. / Love Is Madness\, film fest: A Memory of the Twin Lady @ the Profit-Yielding Building.
URL:https://insiderguide.me/event/twin-19feb2019/
END:VEVENT
END:VCALENDAR