BEGIN:VCALENDAR
VERSION:2.0
PRODID:-// - ECPv6.15.14//NONSGML v1.0//EN
CALSCALE:GREGORIAN
METHOD:PUBLISH
X-ORIGINAL-URL:https://insiderguide.me
X-WR-CALDESC:Events for 
REFRESH-INTERVAL;VALUE=DURATION:PT1H
X-Robots-Tag:noindex
X-PUBLISHED-TTL:PT1H
BEGIN:VTIMEZONE
TZID:Europe/Sofia
BEGIN:DAYLIGHT
TZOFFSETFROM:+0200
TZOFFSETTO:+0300
TZNAME:EEST
DTSTART:20180325T010000
END:DAYLIGHT
BEGIN:STANDARD
TZOFFSETFROM:+0300
TZOFFSETTO:+0200
TZNAME:EET
DTSTART:20181028T010000
END:STANDARD
BEGIN:DAYLIGHT
TZOFFSETFROM:+0200
TZOFFSETTO:+0300
TZNAME:EEST
DTSTART:20190331T010000
END:DAYLIGHT
BEGIN:STANDARD
TZOFFSETFROM:+0300
TZOFFSETTO:+0200
TZNAME:EET
DTSTART:20191027T010000
END:STANDARD
BEGIN:DAYLIGHT
TZOFFSETFROM:+0200
TZOFFSETTO:+0300
TZNAME:EEST
DTSTART:20200329T010000
END:DAYLIGHT
BEGIN:STANDARD
TZOFFSETFROM:+0300
TZOFFSETTO:+0200
TZNAME:EET
DTSTART:20201025T010000
END:STANDARD
END:VTIMEZONE
BEGIN:VEVENT
DTSTART;VALUE=DATE:20190611
DTEND;VALUE=DATE:20190619
DTSTAMP:20260421T194707
CREATED:20190601T124603Z
LAST-MODIFIED:20190601T124603Z
UID:7649-1560211200-1560902399@insiderguide.me
SUMMARY:Градска художествена галерия
DESCRIPTION:Колажи\, изложба на ученици и преподаватели от НУИ „Проф. В. Стоянов“. / Collages\, exposition by students and teachers at the National Art School @ City Art Gallery.
URL:https://insiderguide.me/event/collages-1118june2019/
END:VEVENT
BEGIN:VEVENT
DTSTART;VALUE=DATE:20190611
DTEND;VALUE=DATE:20190612
DTSTAMP:20260421T194707
CREATED:20190601T134841Z
LAST-MODIFIED:20190601T135025Z
UID:7695-1560211200-1560297599@insiderguide.me
SUMMARY:Регионална библиотека Любен Каравелов
DESCRIPTION:Изложба “Из Европата. Пътеписи и пътеводители”. / Across Europe\, Travel Guides – exposition @ Regional Library.
URL:https://insiderguide.me/event/europetravel-11june2019/
END:VEVENT
BEGIN:VEVENT
DTSTART;TZID=Europe/Sofia:20190609T110000
DTEND;TZID=Europe/Sofia:20190609T130000
DTSTAMP:20260421T194707
CREATED:20190601T121928Z
LAST-MODIFIED:20190601T122055Z
UID:7630-1560078000-1560085200@insiderguide.me
SUMMARY:Куклен театър
DESCRIPTION:„Приказка за Ох“ от 11:00 и 12:00 часа. / Tale about Ouch at 11 and 12 @ Puppet House.
URL:https://insiderguide.me/event/ouch-9june2019/
END:VEVENT
BEGIN:VEVENT
DTSTART;VALUE=DATE:20190609
DTEND;VALUE=DATE:20190610
DTSTAMP:20260421T194707
CREATED:20190531T175605Z
LAST-MODIFIED:20190531T175605Z
UID:7565-1560038400-1560124799@insiderguide.me
SUMMARY:Парк на младежта
DESCRIPTION:50ти фолклорен събор “Златната гъдулка”. / Zlatnata Gadulka (The Golden Fiddle) 50th Folklore Gathering @ Youth’s Park.
URL:https://insiderguide.me/event/fiddle-9june2019/
END:VEVENT
BEGIN:VEVENT
DTSTART;TZID=Europe/Sofia:20190608T180000
DTEND;TZID=Europe/Sofia:20190608T193000
DTSTAMP:20260421T194707
CREATED:20190531T175343Z
LAST-MODIFIED:20190531T175343Z
UID:7564-1560016800-1560022200@insiderguide.me
SUMMARY:Доходно здание
DESCRIPTION:Концерт на детски ансамбъл “Зорница”. / Concert by Zornitza children’s ensemble @ Profit-Yielding Building.
URL:https://insiderguide.me/event/zornitza-8june2019/
END:VEVENT
BEGIN:VEVENT
DTSTART;TZID=Europe/Sofia:20190608T180000
DTEND;TZID=Europe/Sofia:20190608T193000
DTSTAMP:20260421T194707
CREATED:20190518T101516Z
LAST-MODIFIED:20190518T101625Z
UID:7520-1560016800-1560022200@insiderguide.me
SUMMARY:Паметник на свободата
DESCRIPTION:Безплатни пешеходни обиколки в центъра на Русе\, Ruse Summer Free Tour. / Ruse Summer Free Tour\, free walking tours in the central parts of Rousse with a starting point @ Statue of Liberty.
URL:https://insiderguide.me/event/rsft-8june2019/
END:VEVENT
BEGIN:VEVENT
DTSTART;VALUE=DATE:20190608
DTEND;VALUE=DATE:20190609
DTSTAMP:20260421T194707
CREATED:20190601T131102Z
LAST-MODIFIED:20190601T131102Z
UID:7664-1559952000-1560038399@insiderguide.me
SUMMARY:Градска художествена галерия
DESCRIPTION:По пътя\, изложба\, създадена от екип на ПУ „Паисий Хилендарски“ по проект „Cu Tenda – истории\, образи и звуци в движение“. / On the Road\, hoto expostion @ City Art Gallery.
URL:https://insiderguide.me/event/ontheroad-8june2019/
END:VEVENT
BEGIN:VEVENT
DTSTART;TZID=Europe/Sofia:20190607T220000
DTEND;TZID=Europe/Sofia:20190607T233000
DTSTAMP:20260421T194707
CREATED:20190601T131752Z
LAST-MODIFIED:20190601T132122Z
UID:7668-1559944800-1559950200@insiderguide.me
SUMMARY:Макс клуб
DESCRIPTION:Affection @ Max Club.
URL:https://insiderguide.me/event/affection-7june2019/
END:VEVENT
BEGIN:VEVENT
DTSTART;TZID=Europe/Sofia:20190607T180000
DTEND;TZID=Europe/Sofia:20190607T200000
DTSTAMP:20260421T194707
CREATED:20190601T134620Z
LAST-MODIFIED:20190601T134620Z
UID:7692-1559930400-1559937600@insiderguide.me
SUMMARY:Регионална библиотека Любен Каравелов
DESCRIPTION:Среща – разговор за родители и педагози на тема: “Детето и ролята на възрастния в светлината на Монтесори педагогиката”. / The Child and the Role of the Elder in the Light of Montessori Pedagogy\, meetup with experts @ Regional Library.
URL:https://insiderguide.me/event/montessori-7june2019/
END:VEVENT
BEGIN:VEVENT
DTSTART;TZID=Europe/Sofia:20190607T173000
DTEND;TZID=Europe/Sofia:20190607T190000
DTSTAMP:20260421T194707
CREATED:20190601T134458Z
LAST-MODIFIED:20190601T134458Z
UID:7690-1559928600-1559934000@insiderguide.me
SUMMARY:Регионална библиотека Любен Каравелов
DESCRIPTION:Практически аспекти от Геронтологията – науката за активното дълголетие. / Practical aspects of Gerontology – the science of active longevity\, lecture @ Regional Library.
URL:https://insiderguide.me/event/geronthology-7june2019/
END:VEVENT
BEGIN:VEVENT
DTSTART;VALUE=DATE:20190607
DTEND;VALUE=DATE:20190610
DTSTAMP:20260421T194707
CREATED:20190601T130316Z
LAST-MODIFIED:20190601T130316Z
UID:7656-1559865600-1560124799@insiderguide.me
SUMMARY:Регионален исторически музей
DESCRIPTION:„Стари места – нови празници“\, етнографска конференция. / Old Places\, New Fests\, ethnographic conference @ Regional History Museum.
URL:https://insiderguide.me/event/newplaces-79june2019/
END:VEVENT
BEGIN:VEVENT
DTSTART;TZID=Europe/Sofia:20190606T190000
DTEND;TZID=Europe/Sofia:20190606T210000
DTSTAMP:20260421T194707
CREATED:20190601T113211Z
LAST-MODIFIED:20190601T113211Z
UID:7587-1559847600-1559854800@insiderguide.me
SUMMARY:Драматичен театър Сава Огнянов
DESCRIPTION:Театър „Българска армия“: „Белла фигура“. / Bella Figura by the Bulgarian Army Theater @ Theater.
URL:https://insiderguide.me/event/bellafigura-6june2019/
END:VEVENT
BEGIN:VEVENT
DTSTART;VALUE=DATE:20190606
DTEND;VALUE=DATE:20190621
DTSTAMP:20260421T194707
CREATED:20190601T124312Z
LAST-MODIFIED:20190601T124312Z
UID:7646-1559779200-1561075199@insiderguide.me
SUMMARY:Градска художествена галерия
DESCRIPTION:Матера – Нюанси\, фотографска изложба на Дениз Мацарела. / Matera – Nuances\,foto exhposition by Deniz Matzarella @ City Art Gallery.
URL:https://insiderguide.me/event/matera-620june2019/
END:VEVENT
BEGIN:VEVENT
DTSTART;TZID=Europe/Sofia:20190605T200000
DTEND;TZID=Europe/Sofia:20190605T220000
DTSTAMP:20260421T194707
CREATED:20190601T123649Z
LAST-MODIFIED:20190601T123649Z
UID:7639-1559764800-1559772000@insiderguide.me
SUMMARY:Канев център
DESCRIPTION:Иън Пейс от легендите Дийп Пърпъл. / Ian Pace of the legendary Deep Purple @ Kaneff Centre.
URL:https://insiderguide.me/event/ianpace-5june2019/
END:VEVENT
BEGIN:VEVENT
DTSTART;TZID=Europe/Sofia:20190605T190000
DTEND;TZID=Europe/Sofia:20190605T210000
DTSTAMP:20260421T194707
CREATED:20190530T114226Z
LAST-MODIFIED:20190530T114226Z
UID:7537-1559761200-1559768400@insiderguide.me
SUMMARY:Доходно здание
DESCRIPTION:“Опит за летене” от Йордан Радичков\, представление от Студентски театър “Пирон”. / An Attempt to Fly by Yordan Radichkov\, preformed by Piron Theatre at Rousse University @ Profit-Yielding Building.
URL:https://insiderguide.me/event/flight-5june2019/
END:VEVENT
BEGIN:VEVENT
DTSTART;TZID=Europe/Sofia:20190604T180000
DTEND;TZID=Europe/Sofia:20190604T190000
DTSTAMP:20260421T194707
CREATED:20190601T134129Z
LAST-MODIFIED:20190601T134129Z
UID:7686-1559671200-1559674800@insiderguide.me
SUMMARY:Регионална библиотека Любен Каравелов
DESCRIPTION:Представяне на Исторически парк. / History Park\, presentation @ Regional Library.
URL:https://insiderguide.me/event/histpark-4june2019/
END:VEVENT
BEGIN:VEVENT
DTSTART;VALUE=DATE:20190604
DTEND;VALUE=DATE:20190615
DTSTAMP:20260421T194707
CREATED:20190601T134342Z
LAST-MODIFIED:20190601T134342Z
UID:7688-1559606400-1560556799@insiderguide.me
SUMMARY:Регионална библиотека Любен Каравелов
DESCRIPTION:„Живот в приказки“ Артинсталация от декори и костюми на герои от детски приказки. / A Life in Fairy Tales\, exposition of costumes @ Regional Library.
URL:https://insiderguide.me/event/tales-414june2019/
END:VEVENT
BEGIN:VEVENT
DTSTART;VALUE=DATE:20190604
DTEND;VALUE=DATE:20190605
DTSTAMP:20260421T194707
CREATED:20190601T133947Z
LAST-MODIFIED:20190601T133947Z
UID:7685-1559606400-1559692799@insiderguide.me
SUMMARY:Регионална библиотека Любен Каравелов
DESCRIPTION:Изложба “Из книгите на Европа”. / From the Books of Europe\, exposition @ Regional Library.
URL:https://insiderguide.me/event/bookseurope-4june2019/
END:VEVENT
BEGIN:VEVENT
DTSTART;TZID=Europe/Sofia:20190603T200000
DTEND;TZID=Europe/Sofia:20190603T220000
DTSTAMP:20260421T194707
CREATED:20190531T173932Z
LAST-MODIFIED:20190531T173932Z
UID:7561-1559592000-1559599200@insiderguide.me
SUMMARY:Площад пред Общината
DESCRIPTION:„Роди дете в България – Мечта за дете“\, информационна кампания. Концерт на Дичо\, Теди Кацарова и Бенд. / Have a Child in Bulgaria\, the Dream of a Child\, information campaign and concert by Dicho\, Tedi Katzarova and their band @ square in front of the Municipality.
URL:https://insiderguide.me/event/childbg-3june2019/
END:VEVENT
BEGIN:VEVENT
DTSTART;TZID=Europe/Sofia:20190603T183000
DTEND;TZID=Europe/Sofia:20190603T200000
DTSTAMP:20260421T194707
CREATED:20190601T133638Z
LAST-MODIFIED:20190601T133638Z
UID:7682-1559586600-1559592000@insiderguide.me
SUMMARY:Регионална библиотека Любен Каравелов
DESCRIPTION:Творческа среща с писателката Таня Иванова. / Meeting Tanya Ivanova @ Regional Library.
URL:https://insiderguide.me/event/tanyaivanova-3june2019/
END:VEVENT
BEGIN:VEVENT
DTSTART;TZID=Europe/Sofia:20190603T140000
DTEND;TZID=Europe/Sofia:20190603T170000
DTSTAMP:20260421T194707
CREATED:20190601T125249Z
LAST-MODIFIED:20190601T125249Z
UID:7655-1559570400-1559581200@insiderguide.me
SUMMARY:Регионален исторически музей
DESCRIPTION:Състезание по „Русезнание“. / Contest on knowledge about Rousse @ Regional History Museum.
URL:https://insiderguide.me/event/rousseknowledge-3june2019/
END:VEVENT
BEGIN:VEVENT
DTSTART;TZID=Europe/Sofia:20190602T113000
DTEND;TZID=Europe/Sofia:20190602T123000
DTSTAMP:20260421T194707
CREATED:20190531T173107Z
LAST-MODIFIED:20190531T173107Z
UID:7557-1559475000-1559478600@insiderguide.me
SUMMARY:Паметник на загиналите във войните
DESCRIPTION:Тържествена церемония по случай Деня на Ботев и падналите за свободата на България. / Ceremony on the occasion of the Botev Day and the Fallen for the Freedom of Bulgaria @ Memorial of the War Victims.
URL:https://insiderguide.me/event/botev-2june2019/
END:VEVENT
BEGIN:VEVENT
DTSTART;TZID=Europe/Sofia:20190602T110000
DTEND;TZID=Europe/Sofia:20190602T170000
DTSTAMP:20260421T194707
CREATED:20190601T121817Z
LAST-MODIFIED:20190601T121817Z
UID:7628-1559473200-1559494800@insiderguide.me
SUMMARY:Куклен театър
DESCRIPTION:“Мечо Пух” от 11:00 и от 12:00 часа. / Whinnie the Pooh at 11 and 12 @ Puppet House.
URL:https://insiderguide.me/event/whinnie-2june2019/
END:VEVENT
BEGIN:VEVENT
DTSTART;VALUE=DATE:20190602
DTEND;VALUE=DATE:20190603
DTSTAMP:20260421T194707
CREATED:20190531T173719Z
LAST-MODIFIED:20190531T173719Z
UID:7559-1559433600-1559519999@insiderguide.me
SUMMARY:Мото поход
DESCRIPTION:Мото-поход “Ботевият устрем” с маршрут СОУ “Христо Ботев” – бул. “Ген. Скобелев” – бул.”Липник” – бул.”България” – ГКПП ‘Дунав мост” – PTF Giurgiu – Bucuresti. / Botev’s Urge\, a route with motorbikes starting from Hristo Botev High School to Bucarest.
URL:https://insiderguide.me/event/motorroute-2june2019/
END:VEVENT
BEGIN:VEVENT
DTSTART;TZID=Europe/Sofia:20190601T220000
DTEND;TZID=Europe/Sofia:20190601T233000
DTSTAMP:20260421T194707
CREATED:20190601T131717Z
LAST-MODIFIED:20190601T132046Z
UID:7667-1559426400-1559431800@insiderguide.me
SUMMARY:Макс клуб
DESCRIPTION:Seattle Rock Night with Soundfull @ Max Club.
URL:https://insiderguide.me/event/seattle-1june2019/
END:VEVENT
BEGIN:VEVENT
DTSTART;TZID=Europe/Sofia:20190601T180000
DTEND;TZID=Europe/Sofia:20190601T200000
DTSTAMP:20260421T194707
CREATED:20190601T133148Z
LAST-MODIFIED:20190601T133340Z
UID:7677-1559412000-1559419200@insiderguide.me
SUMMARY:Регионална библиотека Любен Каравелов
DESCRIPTION:“Измамна реалност” – филм на Стойчо Керев 2-ра прожекция. / Misleading Reality\, film by Stoicho Kerev @ Regional Library.
URL:https://insiderguide.me/event/mislieading-1june2019/
END:VEVENT
BEGIN:VEVENT
DTSTART;TZID=Europe/Sofia:20190601T180000
DTEND;TZID=Europe/Sofia:20190601T193000
DTSTAMP:20260421T194707
CREATED:20190518T101725Z
LAST-MODIFIED:20190518T101725Z
UID:7519-1559412000-1559417400@insiderguide.me
SUMMARY:Паметник на свободата
DESCRIPTION:Безплатни пешеходни обиколки в центъра на Русе\, Ruse Summer Free Tour. / Ruse Summer Free Tour\, free walking tours in the central parts of Rousse with a starting point @ Statue of Liberty.
URL:https://insiderguide.me/event/rsft-1june2019/
END:VEVENT
BEGIN:VEVENT
DTSTART;TZID=Europe/Sofia:20190601T170000
DTEND;TZID=Europe/Sofia:20190601T180000
DTSTAMP:20260421T194707
CREATED:20190531T172751Z
LAST-MODIFIED:20190531T172751Z
UID:7556-1559408400-1559412000@insiderguide.me
SUMMARY:Площад пред Общината
DESCRIPTION:“При нас е весело”\, детски празник. / It’s Fun with Us\, children’s festival @ Square in front of the Municipality.
URL:https://insiderguide.me/event/fun-1june2019/
END:VEVENT
BEGIN:VEVENT
DTSTART;TZID=Europe/Sofia:20190601T103000
DTEND;TZID=Europe/Sofia:20190601T140000
DTSTAMP:20260421T194707
CREATED:20190530T115547Z
LAST-MODIFIED:20190530T115547Z
UID:7543-1559385000-1559397600@insiderguide.me
SUMMARY:Държавен куклен театър
DESCRIPTION:Празник на детето в Кукления театър: алея на приказни герои\, спектакъл “Голямото пътешествие на малкото крокодилче”\, миниатюра по “Дядовата ръкавичка”\, томбола с награди. / Childrens’ Day at the Puppet House: the promenade of fabulous fairy tale heroes\, the spectacle The Great Adventure of the Little Crocodile\, the miniature of the Grandfather’s Mitten\, a prize draw @ at the Puppet House.
URL:https://insiderguide.me/event/childrensday-1june2019/
END:VEVENT
BEGIN:VEVENT
DTSTART;TZID=Europe/Sofia:20190601T103000
DTEND;TZID=Europe/Sofia:20190601T130000
DTSTAMP:20260421T194707
CREATED:20190530T114608Z
LAST-MODIFIED:20190530T114608Z
UID:7539-1559385000-1559394000@insiderguide.me
SUMMARY:Улица Александровска
DESCRIPTION:Детски карнавал-дефиле “В света на приказките” на децата от всички детски градини в Русе. Повече на https://dariknews.bg/regioni/ruse/prikazki-s-neochakvan-kraj-shte-pokazhat-na-1-iuni-malchuganite-ot-vsichki-19-obshtinski-detski-gradini-2168666. / Fairy tale carnival by the children from all kindergardens in Rousse. Starts on Aleksandrovska Street and will vcontinue to Liberty Square.
URL:https://insiderguide.me/event/fairytales-1june2019/
END:VEVENT
END:VCALENDAR