BEGIN:VCALENDAR
VERSION:2.0
PRODID:-// - ECPv6.15.14//NONSGML v1.0//EN
CALSCALE:GREGORIAN
METHOD:PUBLISH
X-ORIGINAL-URL:https://insiderguide.me
X-WR-CALDESC:Events for 
REFRESH-INTERVAL;VALUE=DURATION:PT1H
X-Robots-Tag:noindex
X-PUBLISHED-TTL:PT1H
BEGIN:VTIMEZONE
TZID:Europe/Sofia
BEGIN:DAYLIGHT
TZOFFSETFROM:+0200
TZOFFSETTO:+0300
TZNAME:EEST
DTSTART:20150329T010000
END:DAYLIGHT
BEGIN:STANDARD
TZOFFSETFROM:+0300
TZOFFSETTO:+0200
TZNAME:EET
DTSTART:20151025T010000
END:STANDARD
BEGIN:DAYLIGHT
TZOFFSETFROM:+0200
TZOFFSETTO:+0300
TZNAME:EEST
DTSTART:20160327T010000
END:DAYLIGHT
BEGIN:STANDARD
TZOFFSETFROM:+0300
TZOFFSETTO:+0200
TZNAME:EET
DTSTART:20161030T010000
END:STANDARD
BEGIN:DAYLIGHT
TZOFFSETFROM:+0200
TZOFFSETTO:+0300
TZNAME:EEST
DTSTART:20170326T010000
END:DAYLIGHT
BEGIN:STANDARD
TZOFFSETFROM:+0300
TZOFFSETTO:+0200
TZNAME:EET
DTSTART:20171029T010000
END:STANDARD
END:VTIMEZONE
BEGIN:VEVENT
DTSTART;TZID=Europe/Sofia:20160323T190000
DTEND;TZID=Europe/Sofia:20160323T203000
DTSTAMP:20260423T210550
CREATED:20160204T210304Z
LAST-MODIFIED:20160204T210326Z
UID:747-1458759600-1458765000@insiderguide.me
SUMMARY:Мартенски музикални дни
DESCRIPTION:Доходно здание. Мартенски музикални дни. Русенска филхармония. Хор “Дунавски звуци”. /\nMarch Music Days at the Profit-Yielding Building. Rousse Philharmonic Orchestra. Danube Sounds Choir.\nhttp://www.dohodnozdanie.com/
URL:https://insiderguide.me/event/rousse-philharmonic-orchestra/
ATTACH;FMTTYPE=image/jpeg:https://insiderguide.me/wp-content/uploads/2016/01/Dohodno_sn-3.jpg
END:VEVENT
BEGIN:VEVENT
DTSTART;VALUE=DATE:20160323
DTEND;VALUE=DATE:20160406
DTSTAMP:20260423T210550
CREATED:20160321T182558Z
LAST-MODIFIED:20160321T182558Z
UID:1363-1458691200-1459900799@insiderguide.me
SUMMARY:МОЛ Русе
DESCRIPTION:Изложба на фотографиите\, участвали в Международния конкурс за фотография и рисунка по случай Световния ден на водата. / Exhibition of the photos from the International Competition for Photographs and Drawings on the occasion of the World Day of Water\, at the Rousse MALL.\nhttp://www.mallrousse.bg/
URL:https://insiderguide.me/event/water-day-exhibition/
ATTACH;FMTTYPE=image/jpeg:https://insiderguide.me/wp-content/uploads/2016/02/mol-ruse.jpg
END:VEVENT
BEGIN:VEVENT
DTSTART;TZID=Europe/Sofia:20160322T210000
DTEND;TZID=Europe/Sofia:20160322T223000
DTSTAMP:20260423T210550
CREATED:20160204T210042Z
LAST-MODIFIED:20160218T102602Z
UID:746-1458680400-1458685800@insiderguide.me
SUMMARY:Мартенски музикални дни
DESCRIPTION:Доходно здание. Мартенски музикални дни. Късна джаз вечер – поколения: Владигерови и Големанови младши. /\nMarch Music Days at the Profit-Yielding Building. Late Jazz Еevening. Generations: Vladigerovs and Golemanovs\, Jr.\nhttp://www.dohodnozdanie.com/
URL:https://insiderguide.me/event/vladigerovs-and-golemanovs/
ATTACH;FMTTYPE=image/jpeg:https://insiderguide.me/wp-content/uploads/2016/01/Dohodno_sn-3.jpg
END:VEVENT
END:VCALENDAR