BEGIN:VCALENDAR
VERSION:2.0
PRODID:-// - ECPv6.15.14//NONSGML v1.0//EN
CALSCALE:GREGORIAN
METHOD:PUBLISH
X-ORIGINAL-URL:https://insiderguide.me
X-WR-CALDESC:Events for 
REFRESH-INTERVAL;VALUE=DURATION:PT1H
X-Robots-Tag:noindex
X-PUBLISHED-TTL:PT1H
BEGIN:VTIMEZONE
TZID:Europe/Sofia
BEGIN:DAYLIGHT
TZOFFSETFROM:+0200
TZOFFSETTO:+0300
TZNAME:EEST
DTSTART:20150329T010000
END:DAYLIGHT
BEGIN:STANDARD
TZOFFSETFROM:+0300
TZOFFSETTO:+0200
TZNAME:EET
DTSTART:20151025T010000
END:STANDARD
BEGIN:DAYLIGHT
TZOFFSETFROM:+0200
TZOFFSETTO:+0300
TZNAME:EEST
DTSTART:20160327T010000
END:DAYLIGHT
BEGIN:STANDARD
TZOFFSETFROM:+0300
TZOFFSETTO:+0200
TZNAME:EET
DTSTART:20161030T010000
END:STANDARD
BEGIN:DAYLIGHT
TZOFFSETFROM:+0200
TZOFFSETTO:+0300
TZNAME:EEST
DTSTART:20170326T010000
END:DAYLIGHT
BEGIN:STANDARD
TZOFFSETFROM:+0300
TZOFFSETTO:+0200
TZNAME:EET
DTSTART:20171029T010000
END:STANDARD
END:VTIMEZONE
BEGIN:VEVENT
DTSTART;TZID=Europe/Sofia:20160417T110000
DTEND;TZID=Europe/Sofia:20160417T120000
DTSTAMP:20260423T192516
CREATED:20160329T174316Z
LAST-MODIFIED:20160329T174316Z
UID:1439-1460890800-1460894400@insiderguide.me
SUMMARY:Държавен куклен театър Русе
DESCRIPTION:“Добро утро\, лека нощ”\, представление за деца. / “Good Morning\, Good Night”\, play for children at the Puppet House.\nhttp://puppetruse.com/
URL:https://insiderguide.me/event/good-morning-april/
ATTACH;FMTTYPE=image/jpeg:https://insiderguide.me/wp-content/uploads/2016/01/kuklen_teatur_ruse.jpg
END:VEVENT
BEGIN:VEVENT
DTSTART;TZID=Europe/Sofia:20160416T220000
DTEND;TZID=Europe/Sofia:20160416T220000
DTSTAMP:20260423T192516
CREATED:20160330T192709Z
LAST-MODIFIED:20160330T192709Z
UID:1521-1460844000-1460844000@insiderguide.me
SUMMARY:Стейшън Хол
DESCRIPTION:Deso\, Cacao Beach. / Deso\, Cacao Beach\, at Station Hall.\nhttps://www.facebook.com/Station-HALL-298379270314875/
URL:https://insiderguide.me/event/deso-cacao-beach/
ATTACH;FMTTYPE=image/jpeg:https://insiderguide.me/wp-content/uploads/2016/01/stationhall-mine.jpg
END:VEVENT
BEGIN:VEVENT
DTSTART;TZID=Europe/Sofia:20160416T220000
DTEND;TZID=Europe/Sofia:20160416T220000
DTSTAMP:20260423T192516
CREATED:20160329T180705Z
LAST-MODIFIED:20160329T180705Z
UID:1451-1460844000-1460844000@insiderguide.me
SUMMARY:Макс клуб
DESCRIPTION:Черно фередже\, концерт на живо\, промотиране на новия албум. / Cherno Feredje\, live at at Max Club.\nhttp://www.maxclubruse.com/
URL:https://insiderguide.me/event/cherno-feredje/
ATTACH;FMTTYPE=image/jpeg:https://insiderguide.me/wp-content/uploads/2016/02/max-club.jpg
END:VEVENT
BEGIN:VEVENT
DTSTART;TZID=Europe/Sofia:20160416T190000
DTEND;TZID=Europe/Sofia:20160416T203000
DTSTAMP:20260423T192516
CREATED:20160224T203709Z
LAST-MODIFIED:20160224T203709Z
UID:1114-1460833200-1460838600@insiderguide.me
SUMMARY:Канев Център
DESCRIPTION:Трио Тенорите\, музика за ценители. / The Tenors Trio\, live concert for music lovers at Kaneff Centre.\nhttps://www.uni-ruse.bg/kaneff
URL:https://insiderguide.me/event/the-tenors-trio/
ATTACH;FMTTYPE=image/jpeg:https://insiderguide.me/wp-content/uploads/2016/01/Kaneff_Centre.jpg
END:VEVENT
BEGIN:VEVENT
DTSTART;TZID=Europe/Sofia:20160416T110000
DTEND;TZID=Europe/Sofia:20160416T170000
DTSTAMP:20260423T192516
CREATED:20160402T101503Z
LAST-MODIFIED:20160402T101503Z
UID:1551-1460804400-1460826000@insiderguide.me
SUMMARY:Регионална библиотека
DESCRIPTION:Маратон на четенето 2016: Семейна събота в Библиотеката\, кастинг за книга. / 2016 Reading Marathon: Family Saturday at the Library\, Casting for a Book.\nhttp://www.libruse.bg/
URL:https://insiderguide.me/event/book-casting/
ATTACH;FMTTYPE=image/jpeg:https://insiderguide.me/wp-content/uploads/2016/01/biblioteka-ruse.jpg
END:VEVENT
BEGIN:VEVENT
DTSTART;TZID=Europe/Sofia:20160415T210000
DTEND;TZID=Europe/Sofia:20160415T230000
DTSTAMP:20260423T192516
CREATED:20160317T214630Z
LAST-MODIFIED:20160317T214630Z
UID:1317-1460754000-1460761200@insiderguide.me
SUMMARY:Макс клуб
DESCRIPTION:Sentimental Swingers\, концерт на живо. / Sentimental Swingers\, live at at Max Club.\nhttp://www.maxclubruse.com/
URL:https://insiderguide.me/event/sentimental-swingers/
ATTACH;FMTTYPE=image/jpeg:https://insiderguide.me/wp-content/uploads/2016/02/max-club.jpg
END:VEVENT
BEGIN:VEVENT
DTSTART;TZID=Europe/Sofia:20160415T190000
DTEND;TZID=Europe/Sofia:20160415T210000
DTSTAMP:20260423T192516
CREATED:20160405T194458Z
LAST-MODIFIED:20160405T194458Z
UID:1630-1460746800-1460754000@insiderguide.me
SUMMARY:Зала Филхармония
DESCRIPTION:Симфоничен концерт на Русенска филхармония. / Symphony concert of the Rousse Philharmonic Orchestra at the Phlharmonia Hall.\nhttp://www.ruseopera.com/
URL:https://insiderguide.me/event/symphony-concert-april/
ATTACH;FMTTYPE=image/jpeg:https://insiderguide.me/wp-content/uploads/2016/02/Optimized-IMG_0396.jpg
END:VEVENT
BEGIN:VEVENT
DTSTART;TZID=Europe/Sofia:20160415T190000
DTEND;TZID=Europe/Sofia:20160415T210000
DTSTAMP:20260423T192516
CREATED:20160317T215412Z
LAST-MODIFIED:20160317T215446Z
UID:1320-1460746800-1460754000@insiderguide.me
SUMMARY:Драматичен театър Сава Огнянов
DESCRIPTION:“Дванайста нощ” от Уилям Шекспир\, постановка Петър Денчев. / Twelfth Night by W.Shakespeare\, play at the Drama Theatre.\nhttp://www.theatre.ruse.bg/
URL:https://insiderguide.me/event/twelfth-night-april/
ATTACH;FMTTYPE=image/jpeg:https://insiderguide.me/wp-content/uploads/2016/01/teatara-1.jpg
END:VEVENT
BEGIN:VEVENT
DTSTART;TZID=Europe/Sofia:20160415T133000
DTEND;TZID=Europe/Sofia:20160415T150000
DTSTAMP:20260423T192516
CREATED:20160402T093329Z
LAST-MODIFIED:20160402T093329Z
UID:1541-1460727000-1460732400@insiderguide.me
SUMMARY:Регионална библиотека
DESCRIPTION:“Стани студент във ВТУ!”\, представяне на специалностите с немски език във ВТУ “Св. св. Кирил и Методий”. / Become Our Student\, a lecture on the German language Majors at the veliko Tarnovo University\, at the Regional Library.\nhttp://www.libruse.bg/
URL:https://insiderguide.me/event/german-lang-majors/
ATTACH;FMTTYPE=image/jpeg:https://insiderguide.me/wp-content/uploads/2016/01/biblioteka-ruse.jpg
END:VEVENT
BEGIN:VEVENT
DTSTART;TZID=Europe/Sofia:20160414T190000
DTEND;TZID=Europe/Sofia:20160414T210000
DTSTAMP:20260423T192516
CREATED:20160323T201523Z
LAST-MODIFIED:20160323T201530Z
UID:1388-1460660400-1460667600@insiderguide.me
SUMMARY:Канев Център
DESCRIPTION:“Жена ми се казва Борис”\, комедия от Рафи Шарт. / My Wife’s Name’s Boris\, comedy at Kaneff Centre.\nhttps://www.uni-ruse.bg/kaneff
URL:https://insiderguide.me/event/wifes-names-boris2/
ATTACH;FMTTYPE=image/jpeg:https://insiderguide.me/wp-content/uploads/2016/01/Kaneff_Centre.jpg
END:VEVENT
BEGIN:VEVENT
DTSTART;TZID=Europe/Sofia:20160414T190000
DTEND;TZID=Europe/Sofia:20160414T210000
DTSTAMP:20260423T192516
CREATED:20160323T195201Z
LAST-MODIFIED:20160323T195201Z
UID:1381-1460660400-1460667600@insiderguide.me
SUMMARY:Държавна опера Русе
DESCRIPTION:“Жизел”\, балет\, Адолф Адам\, композитор П.И.Чайковски. / “Giselle” ballet\, Adolph Adam\, composer Tchaikovsky at the Opera House.\nhttp://www.ruseopera.com/
URL:https://insiderguide.me/event/giselle-april/
ATTACH;FMTTYPE=image/jpeg:https://insiderguide.me/wp-content/uploads/2016/02/opera.jpg
END:VEVENT
BEGIN:VEVENT
DTSTART;TZID=Europe/Sofia:20160414T183000
DTEND;TZID=Europe/Sofia:20160414T193000
DTSTAMP:20260423T192516
CREATED:20160405T192241Z
LAST-MODIFIED:20160405T192241Z
UID:1624-1460658600-1460662200@insiderguide.me
SUMMARY:Национално у-ще по изкуствата
DESCRIPTION:Концерт на класовете по ударни инструменти\, поп и джаз пеене. / Concert of the classes in percussion\, pop and jazz singing at the National School of Arts.\nhttp://www.artrousse.com/
URL:https://insiderguide.me/event/pop-jazz-percussion-concert/
ATTACH;FMTTYPE=image/jpeg:https://insiderguide.me/wp-content/uploads/2016/02/Optimized-IMG_0467.jpg
END:VEVENT
BEGIN:VEVENT
DTSTART;TZID=Europe/Sofia:20160414T180000
DTEND;TZID=Europe/Sofia:20160414T190000
DTSTAMP:20260423T192516
CREATED:20160413T053603Z
LAST-MODIFIED:20160413T053603Z
UID:1651-1460656800-1460660400@insiderguide.me
SUMMARY:Исторически музей
DESCRIPTION:“Крепостните стени на Сексагинта Приста”\, презентация\, арх. Никола Русев. / The Fortress Walls of Sexaginta Prista\, presentation by Archaeologist Nikola Rusev at the Regional Museum of History.\nhttp://www.museumruse.com/
URL:https://insiderguide.me/event/sexaginta-presentation/
ATTACH;FMTTYPE=image/jpeg:https://insiderguide.me/wp-content/uploads/2016/02/history-museum.jpg
END:VEVENT
BEGIN:VEVENT
DTSTART;TZID=Europe/Sofia:20160414T173000
DTEND;TZID=Europe/Sofia:20160414T190000
DTSTAMP:20260423T192516
CREATED:20160402T093118Z
LAST-MODIFIED:20160402T093118Z
UID:1540-1460655000-1460660400@insiderguide.me
SUMMARY:Регионална библиотека
DESCRIPTION:Маратон на четенето 2016: “Вулкан”\, среща с Любомир Заркин и представяне на документална книга за неговия баща Георги Заркин. / 2016 Reading Marathon: Volcano\, presentation of Lyubomir Zarjkin’s book at the Regional Library.\nhttp://www.libruse.bg/
URL:https://insiderguide.me/event/volcano-book/
ATTACH;FMTTYPE=image/jpeg:https://insiderguide.me/wp-content/uploads/2016/01/biblioteka-ruse.jpg
END:VEVENT
BEGIN:VEVENT
DTSTART;TZID=Europe/Sofia:20160414T100000
DTEND;TZID=Europe/Sofia:20160414T120000
DTSTAMP:20260423T192516
CREATED:20160402T092915Z
LAST-MODIFIED:20160402T092915Z
UID:1539-1460628000-1460635200@insiderguide.me
SUMMARY:Регионална библиотека
DESCRIPTION:Маратон на четенето 2016: “Приказка ми изиграй!”\, драматизация по приказки на Ран Босилек в ЦДГ “Зора”. / 2016 Reading Marathon: Play Me a Tale\, dramatization of stories for children by Ran Bosilek\, at Zora Kindergarten\, organized by the Regional Library.\nhttp://www.libruse.bg/
URL:https://insiderguide.me/event/playme-atale/
ATTACH;FMTTYPE=image/jpeg:https://insiderguide.me/wp-content/uploads/2016/01/biblioteka-ruse.jpg
END:VEVENT
BEGIN:VEVENT
DTSTART;TZID=Europe/Sofia:20160414T080000
DTEND;TZID=Europe/Sofia:20160503T170000
DTSTAMP:20260423T192516
CREATED:20160405T195743Z
LAST-MODIFIED:20160405T195743Z
UID:1634-1460620800-1462294800@insiderguide.me
SUMMARY:Художествена галерия
DESCRIPTION:Изкуството\, сътворено в Израел\, изложба живопис в 17:30 часа. / Israeli Art\, paintings – at 5:30 pm at the Art Gallery.\nhttp://ruseartgallery.weebly.com/
URL:https://insiderguide.me/event/israeli-art/
ATTACH;FMTTYPE=image/jpeg:https://insiderguide.me/wp-content/uploads/2016/01/hud-galeria.jpg
END:VEVENT
BEGIN:VEVENT
DTSTART;TZID=Europe/Sofia:20160413T190000
DTEND;TZID=Europe/Sofia:20160413T210000
DTSTAMP:20260423T192516
CREATED:20160323T201427Z
LAST-MODIFIED:20160323T201442Z
UID:1387-1460574000-1460581200@insiderguide.me
SUMMARY:Канев Център
DESCRIPTION:“Жена ми се казва Борис”\, комедия от Рафи Шарт. / My Wife’s Name’s Boris\, comedy at Kaneff Centre.\nhttps://www.uni-ruse.bg/kaneff
URL:https://insiderguide.me/event/wifes-names-boris/
ATTACH;FMTTYPE=image/jpeg:https://insiderguide.me/wp-content/uploads/2016/01/Kaneff_Centre.jpg
END:VEVENT
BEGIN:VEVENT
DTSTART;TZID=Europe/Sofia:20160413T183000
DTEND;TZID=Europe/Sofia:20160413T193000
DTSTAMP:20260423T192516
CREATED:20160405T192047Z
LAST-MODIFIED:20160405T192047Z
UID:1623-1460572200-1460575800@insiderguide.me
SUMMARY:Национално у-ще по изкуствата
DESCRIPTION:Същност на изкуството – има ли отговор\, представяне на книга. / What’s the Essence of Art\, book presentation at the National School of Arts.\nhttp://www.artrousse.com/
URL:https://insiderguide.me/event/essence-of-art/
ATTACH;FMTTYPE=image/jpeg:https://insiderguide.me/wp-content/uploads/2016/02/Optimized-IMG_0467.jpg
END:VEVENT
BEGIN:VEVENT
DTSTART;TZID=Europe/Sofia:20160413T173000
DTEND;TZID=Europe/Sofia:20160413T190000
DTSTAMP:20260423T192516
CREATED:20160402T092634Z
LAST-MODIFIED:20160402T092634Z
UID:1538-1460568600-1460574000@insiderguide.me
SUMMARY:Регионална библиотека
DESCRIPTION:Маратон на четенето 2016: “Via Pontica и кръстопътни души”\, представяне на поетичната книга на Лили Качова. / 2016 Reading Marathon: “Via Pontica and and Souls at Crossroads\, presentation of Lili Kachova’s book at the Regional Library.\nhttp://www.libruse.bg/
URL:https://insiderguide.me/event/via-pontica/
ATTACH;FMTTYPE=image/jpeg:https://insiderguide.me/wp-content/uploads/2016/01/biblioteka-ruse.jpg
END:VEVENT
BEGIN:VEVENT
DTSTART;TZID=Europe/Sofia:20160412T190000
DTEND;TZID=Europe/Sofia:20160412T210000
DTSTAMP:20260423T192516
CREATED:20160323T195045Z
LAST-MODIFIED:20160323T195045Z
UID:1380-1460487600-1460494800@insiderguide.me
SUMMARY:Държавна опера Русе
DESCRIPTION:“Лебедово езеро”\, балет\, П.И.Чайковски. / “Swan Lake” ballet\, P.I.Tchaikovsky at the Opera House.\nhttp://www.ruseopera.com/
URL:https://insiderguide.me/event/swan-lake-april/
ATTACH;FMTTYPE=image/jpeg:https://insiderguide.me/wp-content/uploads/2016/02/opera.jpg
END:VEVENT
BEGIN:VEVENT
DTSTART;TZID=Europe/Sofia:20160412T190000
DTEND;TZID=Europe/Sofia:20160412T210000
DTSTAMP:20260423T192516
CREATED:20160323T190754Z
LAST-MODIFIED:20160323T190754Z
UID:1367-1460487600-1460494800@insiderguide.me
SUMMARY:Канев Център
DESCRIPTION:Васил Петров с концерт “100 години Синатра” с музиката на Франк и Гершуин. / Vasil Petrov with 100 Years Sinatra concert\, live at Kaneff Centre.\nhttps://www.uni-ruse.bg/kaneff
URL:https://insiderguide.me/event/vasil-petrov-sinatra/
ATTACH;FMTTYPE=image/jpeg:https://insiderguide.me/wp-content/uploads/2016/01/Kaneff_Centre.jpg
END:VEVENT
BEGIN:VEVENT
DTSTART;TZID=Europe/Sofia:20160412T190000
DTEND;TZID=Europe/Sofia:20160412T210000
DTSTAMP:20260423T192516
CREATED:20160317T215659Z
LAST-MODIFIED:20160317T215659Z
UID:1321-1460487600-1460494800@insiderguide.me
SUMMARY:Драматичен театър Сава Огнянов
DESCRIPTION:“Валят пари” от Себастиен Тиери\, премиера. / It’s Raining Money by Sebastien Thiery\, premiere\, at the Drama Theatre.\nhttp://www.theatre.ruse.bg/
URL:https://insiderguide.me/event/its-raining-money/
ATTACH;FMTTYPE=image/jpeg:https://insiderguide.me/wp-content/uploads/2016/01/teatara-1.jpg
END:VEVENT
BEGIN:VEVENT
DTSTART;TZID=Europe/Sofia:20160412T173000
DTEND;TZID=Europe/Sofia:20160412T190000
DTSTAMP:20260423T192516
CREATED:20160402T092401Z
LAST-MODIFIED:20160402T092401Z
UID:1537-1460482200-1460487600@insiderguide.me
SUMMARY:Регионална библиотека
DESCRIPTION:Клуб “Здраве”: “Поведение и съвременни лечения при острия коронарен синдром”. / Health Club: Behavior and Modern Treatments in Acute Coronary Syndrome\, lecture at the Regional Library.\nhttp://www.libruse.bg/
URL:https://insiderguide.me/event/coronary-syndrom/
ATTACH;FMTTYPE=image/jpeg:https://insiderguide.me/wp-content/uploads/2016/01/biblioteka-ruse.jpg
END:VEVENT
BEGIN:VEVENT
DTSTART;TZID=Europe/Sofia:20160412T103000
DTEND;TZID=Europe/Sofia:20160412T120000
DTSTAMP:20260423T192516
CREATED:20160402T092146Z
LAST-MODIFIED:20160402T092146Z
UID:1536-1460457000-1460462400@insiderguide.me
SUMMARY:Регионална библиотека
DESCRIPTION:Маратон на четенето 2016: “Забавно игрочетене” в ЦДГ “Пинокио”. / 2016 Reading Marathon: Funny Read&Play\, at Pinocchio Kindergarten\, organized by the Regional Library.\nhttp://www.libruse.bg/
URL:https://insiderguide.me/event/read-and-play/
ATTACH;FMTTYPE=image/jpeg:https://insiderguide.me/wp-content/uploads/2016/01/biblioteka-ruse.jpg
END:VEVENT
BEGIN:VEVENT
DTSTART;VALUE=DATE:20160412
DTEND;VALUE=DATE:20160505
DTSTAMP:20260423T192516
CREATED:20160405T195516Z
LAST-MODIFIED:20160405T195516Z
UID:1633-1460419200-1462406399@insiderguide.me
SUMMARY:Художествена галерия
DESCRIPTION:Пролетен салон на Дружеството на художниците – Русе от 18 часа. / Spring Salon of the Society of Artists in Rousse at 6:00 pm at the Art Gallery.\nhttp://ruseartgallery.weebly.com/
URL:https://insiderguide.me/event/spring-salon/
ATTACH;FMTTYPE=image/jpeg:https://insiderguide.me/wp-content/uploads/2016/01/hud-galeria.jpg
END:VEVENT
BEGIN:VEVENT
DTSTART;TZID=Europe/Sofia:20160411T190000
DTEND;TZID=Europe/Sofia:20160411T210000
DTSTAMP:20260423T192516
CREATED:20160317T220047Z
LAST-MODIFIED:20160317T220047Z
UID:1322-1460401200-1460408400@insiderguide.me
SUMMARY:Драматичен театър Сава Огнянов
DESCRIPTION:“Стая 1313” от Рей Куни\, с Руслан Мъйнов\, гостува Бургаски театър “Адриана Будевска”. / Room 1313 by Ray Cooney\, with Ruslan Maynov\, performed by Adriana Budevska Burgas Theatre\, at the Drama Theatre.\nhttp://www.theatre.ruse.bg/
URL:https://insiderguide.me/event/room-1313-april/
ATTACH;FMTTYPE=image/jpeg:https://insiderguide.me/wp-content/uploads/2016/01/teatara-1.jpg
END:VEVENT
BEGIN:VEVENT
DTSTART;VALUE=DATE:20160411
DTEND;VALUE=DATE:20160416
DTSTAMP:20260423T192516
CREATED:20160405T194030Z
LAST-MODIFIED:20160405T194030Z
UID:1629-1460332800-1460764799@insiderguide.me
SUMMARY:Доходно здание
DESCRIPTION:Великденска работилница за ученици. / Easter Workshops for Pupils\, at the Profit Yielding Bldg.\nhttp://www.dohodnozdanie.com/
URL:https://insiderguide.me/event/easter-worksops/
ATTACH;FMTTYPE=image/jpeg:https://insiderguide.me/wp-content/uploads/2016/01/Dohodno_sn-3.jpg
END:VEVENT
BEGIN:VEVENT
DTSTART;TZID=Europe/Sofia:20160410T110000
DTEND;TZID=Europe/Sofia:20160410T120000
DTSTAMP:20260423T192516
CREATED:20160329T174133Z
LAST-MODIFIED:20160329T174133Z
UID:1438-1460286000-1460289600@insiderguide.me
SUMMARY:Държавен куклен театър Русе
DESCRIPTION:“Ян Бибиян”\, представление за деца. / “Ian Bibiyan”\, play for children at the Puppet House.\nhttp://puppetruse.com/
URL:https://insiderguide.me/event/ian-bibian-april/
ATTACH;FMTTYPE=image/jpeg:https://insiderguide.me/wp-content/uploads/2016/01/kuklen_teatur_ruse.jpg
END:VEVENT
BEGIN:VEVENT
DTSTART;TZID=Europe/Sofia:20160410T090000
DTEND;TZID=Europe/Sofia:20160410T130000
DTSTAMP:20260423T192516
CREATED:20160402T091655Z
LAST-MODIFIED:20160402T091707Z
UID:1535-1460278800-1460293200@insiderguide.me
SUMMARY:Регионална библиотека
DESCRIPTION:Майсторски клас по актьорско майсторство с участието на възпитаници на Театър-школа “Артистисимо”. / Master class in acting with the participation of students from Artistisimo Theater School\, at the Regional Library.\nhttp://www.libruse.bg/
URL:https://insiderguide.me/event/artissimo-2/
ATTACH;FMTTYPE=image/jpeg:https://insiderguide.me/wp-content/uploads/2016/01/biblioteka-ruse.jpg
END:VEVENT
BEGIN:VEVENT
DTSTART;TZID=Europe/Sofia:20160409T220000
DTEND;TZID=Europe/Sofia:20160409T220000
DTSTAMP:20260423T192516
CREATED:20160330T192449Z
LAST-MODIFIED:20160330T192449Z
UID:1520-1460239200-1460239200@insiderguide.me
SUMMARY:Стейшън Хол
DESCRIPTION:Peppou\, музика. / Peppou at Station Hall.\nhttps://www.facebook.com/Station-HALL-298379270314875/
URL:https://insiderguide.me/event/peppou/
ATTACH;FMTTYPE=image/jpeg:https://insiderguide.me/wp-content/uploads/2016/01/stationhall-mine.jpg
END:VEVENT
END:VCALENDAR