BEGIN:VCALENDAR
VERSION:2.0
PRODID:-// - ECPv6.15.14//NONSGML v1.0//EN
CALSCALE:GREGORIAN
METHOD:PUBLISH
X-ORIGINAL-URL:https://insiderguide.me
X-WR-CALDESC:Events for 
REFRESH-INTERVAL;VALUE=DURATION:PT1H
X-Robots-Tag:noindex
X-PUBLISHED-TTL:PT1H
BEGIN:VTIMEZONE
TZID:Europe/Sofia
BEGIN:DAYLIGHT
TZOFFSETFROM:+0200
TZOFFSETTO:+0300
TZNAME:EEST
DTSTART:20150329T010000
END:DAYLIGHT
BEGIN:STANDARD
TZOFFSETFROM:+0300
TZOFFSETTO:+0200
TZNAME:EET
DTSTART:20151025T010000
END:STANDARD
BEGIN:DAYLIGHT
TZOFFSETFROM:+0200
TZOFFSETTO:+0300
TZNAME:EEST
DTSTART:20160327T010000
END:DAYLIGHT
BEGIN:STANDARD
TZOFFSETFROM:+0300
TZOFFSETTO:+0200
TZNAME:EET
DTSTART:20161030T010000
END:STANDARD
BEGIN:DAYLIGHT
TZOFFSETFROM:+0200
TZOFFSETTO:+0300
TZNAME:EEST
DTSTART:20170326T010000
END:DAYLIGHT
BEGIN:STANDARD
TZOFFSETFROM:+0300
TZOFFSETTO:+0200
TZNAME:EET
DTSTART:20171029T010000
END:STANDARD
END:VTIMEZONE
BEGIN:VEVENT
DTSTART;TZID=Europe/Sofia:20160507T190000
DTEND;TZID=Europe/Sofia:20160507T210000
DTSTAMP:20260423T173710
CREATED:20160426T192701Z
LAST-MODIFIED:20160427T192024Z
UID:1799-1462647600-1462654800@insiderguide.me
SUMMARY:Държавна опера Русе
DESCRIPTION:XX Австрийски музикални седмици в България\, концерт на Русенска филхармония – диригент Найден Тодоров. Солист и гост Марио Хосен\, цигулка. / 20th Austrian Music Weeks in Bulgaria 2016\, Rousse Philharmonic Orchestra. Conductor – Nayden Todorov. Soloist & guest – Mario Hossen\, violin.\nhttp://www.ruseopera.com/
URL:https://insiderguide.me/event/austrian-weeks-7/
ATTACH;FMTTYPE=image/jpeg:https://insiderguide.me/wp-content/uploads/2016/02/opera.jpg
END:VEVENT
BEGIN:VEVENT
DTSTART;TZID=Europe/Sofia:20160507T110000
DTEND;TZID=Europe/Sofia:20160507T130000
DTSTAMP:20260423T173710
CREATED:20160502T180949Z
LAST-MODIFIED:20160502T180949Z
UID:1895-1462618800-1462626000@insiderguide.me
SUMMARY:МОЛ Русе
DESCRIPTION:Куклен театър с пръстчета\, организирано от Ателие ММ. / Puppet Theater with Fingers\, organized by MM Atelier at the Rousse MALL.\nhttp://www.mallrousse.bg/
URL:https://insiderguide.me/event/puppet-fingers/
ATTACH;FMTTYPE=image/jpeg:https://insiderguide.me/wp-content/uploads/2016/02/mol-ruse.jpg
END:VEVENT
BEGIN:VEVENT
DTSTART;TZID=Europe/Sofia:20160507T080000
DTEND;TZID=Europe/Sofia:20160507T170000
DTSTAMP:20260423T173710
CREATED:20160501T191957Z
LAST-MODIFIED:20160501T191957Z
UID:1854-1462608000-1462640400@insiderguide.me
SUMMARY:Спортен комплекс Локомотив
DESCRIPTION:Турнир по борба за деца. / Wrestling Tournament for children at the Locomotive Sports Centre.
URL:https://insiderguide.me/event/wrestling-for-children/
ATTACH;FMTTYPE=image/jpeg:https://insiderguide.me/wp-content/uploads/2016/05/lokomotiv-ruse.jpg
END:VEVENT
BEGIN:VEVENT
DTSTART;TZID=Europe/Sofia:20160506T220000
DTEND;TZID=Europe/Sofia:20160506T220000
DTSTAMP:20260423T173710
CREATED:20160428T132443Z
LAST-MODIFIED:20160428T132443Z
UID:1845-1462572000-1462572000@insiderguide.me
SUMMARY:Макс клуб
DESCRIPTION:Storytellers\, акустичен концерт. / Storytellers\, acoustic experience\, live at at Max Club.\nhttp://www.maxclubruse.com/
URL:https://insiderguide.me/event/storytellers/
ATTACH;FMTTYPE=image/jpeg:https://insiderguide.me/wp-content/uploads/2016/02/max-club.jpg
END:VEVENT
BEGIN:VEVENT
DTSTART;TZID=Europe/Sofia:20160506T203000
DTEND;TZID=Europe/Sofia:20160506T203000
DTSTAMP:20260423T173710
CREATED:20160503T210857Z
LAST-MODIFIED:20160527T080254Z
UID:1909-1462566600-1462566600@insiderguide.me
SUMMARY:Площад Свобода
DESCRIPTION:Любими песни за любими хора\, концерт с водещ Наско от БГ Радио\, участват Силвия Кацарова\, Теди Кацарова\, Милена Славова\, Искрен Пецов и др. / Favourite Songs for Favourite People\, concert at the square in front of the Municipality.\nhttp://www.ruse-bg.eu/index.php
URL:https://insiderguide.me/event/favourite-songs-people/
ATTACH;FMTTYPE=image/jpeg:https://insiderguide.me/wp-content/uploads/2016/03/municipality.jpg
END:VEVENT
BEGIN:VEVENT
DTSTART;TZID=Europe/Sofia:20160506T160000
DTEND;TZID=Europe/Sofia:20160506T190000
DTSTAMP:20260423T173710
CREATED:20160503T210436Z
LAST-MODIFIED:20160503T210436Z
UID:1908-1462550400-1462561200@insiderguide.me
SUMMARY:Съдебна палата
DESCRIPTION:Демонстрации на екипа на SHELL ECO MARATHON. / Demonstration of the SHELL ECO MARATHON team\, at the square in front of the Court.\nhttps://opoznai.bg/
URL:https://insiderguide.me/event/shell-eco/
ATTACH;FMTTYPE=image/jpeg:https://insiderguide.me/wp-content/uploads/2016/04/sada.jpeg
END:VEVENT
BEGIN:VEVENT
DTSTART;TZID=Europe/Sofia:20160506T130000
DTEND;TZID=Europe/Sofia:20160506T150000
DTSTAMP:20260423T173710
CREATED:20160503T210219Z
LAST-MODIFIED:20160503T210219Z
UID:1907-1462539600-1462546800@insiderguide.me
SUMMARY:Исторически музей
DESCRIPTION:Среща на кмета на Община Русе с Лицата на Русе\, Лапидариум. / The Mayor of the city meets notable Rousse citizens at the lapidarium of the Regional Museum of History.\nhttp://www.museumruse.com/
URL:https://insiderguide.me/event/mayor-meets/
ATTACH;FMTTYPE=image/jpeg:https://insiderguide.me/wp-content/uploads/2016/02/Optimized-IMG_0426.jpg
END:VEVENT
BEGIN:VEVENT
DTSTART;TZID=Europe/Sofia:20160506T120000
DTEND;TZID=Europe/Sofia:20160506T130000
DTSTAMP:20260423T173710
CREATED:20160428T130627Z
LAST-MODIFIED:20160428T130627Z
UID:1838-1462536000-1462539600@insiderguide.me
SUMMARY:Паметник Сръбско-Българска война
DESCRIPTION:Тържествената церемония по поднасяне на венци и цветя. / Solemn ceremony of laying wreaths and flowers at the Monument of the Serbian-Bulgarian War.\nhttps://bg.wikipedia.org/wiki/
URL:https://insiderguide.me/event/serbian-bulgarian-war/
ATTACH;FMTTYPE=image/jpeg:https://insiderguide.me/wp-content/uploads/2016/02/Optimized-IMG_0430.jpg
END:VEVENT
BEGIN:VEVENT
DTSTART;TZID=Europe/Sofia:20160506T110000
DTEND;TZID=Europe/Sofia:20160506T130000
DTSTAMP:20260423T173710
CREATED:20160428T130319Z
LAST-MODIFIED:20160527T080258Z
UID:1837-1462532400-1462539600@insiderguide.me
SUMMARY:Площад Свобода
DESCRIPTION:Концерт на талантливите деца и младежи от града. / Concert of the children and teenagers at the square in front of the Municipality.\nhttp://www.ruse-bg.eu/index.php
URL:https://insiderguide.me/event/concert-talented-children/
ATTACH;FMTTYPE=image/jpeg:https://insiderguide.me/wp-content/uploads/2016/03/municipality.jpg
END:VEVENT
BEGIN:VEVENT
DTSTART;TZID=Europe/Sofia:20160506T103000
DTEND;TZID=Europe/Sofia:20160506T130000
DTSTAMP:20260423T173710
CREATED:20160501T200450Z
LAST-MODIFIED:20160604T123649Z
UID:1862-1462530600-1462539600@insiderguide.me
SUMMARY:Къща-музей Баба Тонка
DESCRIPTION:Феминистична разходка –  по женските места на паметта\, начало на обиколката – къща-музей “Баба Тонка”\, тур по места\, които представят приноса на жените и женското движение за рaзвитието на града през XIX и XX в. / Feminist Walk to the Women’s Places of Memory\, beginning of the tour @ Baba Tonka Museum. The walk will present the contribution of women and the women’s movement to the development of the city in 19th and 20th century.\nhttps://opoznai.bg/view/
URL:https://insiderguide.me/event/feminist-walk/
ATTACH;FMTTYPE=image/jpeg:https://insiderguide.me/wp-content/uploads/2016/05/baba-tonka.jpg
END:VEVENT
BEGIN:VEVENT
DTSTART;TZID=Europe/Sofia:20160506T090000
DTEND;TZID=Europe/Sofia:20160506T110000
DTSTAMP:20260423T173710
CREATED:20160428T130002Z
LAST-MODIFIED:20160428T130002Z
UID:1835-1462525200-1462532400@insiderguide.me
SUMMARY:Храм Свети Георги
DESCRIPTION:Празнична литургия по случай тройния празник на Русе – Деня на храбростта\, Деня на българската армия и Деня на града. / Festive liturgy on the occasion of the triple celebration of Ruse – the National Day of Valor\, the Day of the Bulgarian Army and the Day of the City at the St. George Church.\nhttps://bg.wikipedia.org/wiki/
URL:https://insiderguide.me/event/st-george-liturgy/
ATTACH;FMTTYPE=image/jpeg:https://insiderguide.me/wp-content/uploads/2016/04/st-george-ruse.jpg
END:VEVENT
BEGIN:VEVENT
DTSTART;VALUE=DATE:20160506
DTEND;VALUE=DATE:20160507
DTSTAMP:20260423T173710
CREATED:20160505T083216Z
LAST-MODIFIED:20160505T083216Z
UID:1949-1462492800-1462579199@insiderguide.me
SUMMARY:Площад Св. Троица
DESCRIPTION:Клуб “Малки откриватели”\, градче на малки откриватели\, със съдействието на National Geographic KIDS. / Little Explorers Club\, an improvised town for children to explore nature\, with the support of National Geographic KIDS.\nhttp://poseti.guide-bulgaria.com/a/438/holy_trinity_church.htm
URL:https://insiderguide.me/event/little-explorers/
ATTACH;FMTTYPE=image/jpeg:https://insiderguide.me/wp-content/uploads/2016/02/Optimized-IMG_0459.jpg
END:VEVENT
BEGIN:VEVENT
DTSTART;TZID=Europe/Sofia:20160505T210000
DTEND;TZID=Europe/Sofia:20160505T230000
DTSTAMP:20260423T173710
CREATED:20160414T190604Z
LAST-MODIFIED:20160414T190604Z
UID:1702-1462482000-1462489200@insiderguide.me
SUMMARY:Макс клуб
DESCRIPTION:Оратница\, концерт. / Oratnitza\, live at at Max Club.\nhttp://www.maxclubruse.com/
URL:https://insiderguide.me/event/oratnitza/
ATTACH;FMTTYPE=image/jpeg:https://insiderguide.me/wp-content/uploads/2016/02/max-club.jpg
END:VEVENT
BEGIN:VEVENT
DTSTART;TZID=Europe/Sofia:20160505T190000
DTEND;TZID=Europe/Sofia:20160505T210000
DTSTAMP:20260423T173710
CREATED:20160428T121457Z
LAST-MODIFIED:20160428T121457Z
UID:1826-1462474800-1462482000@insiderguide.me
SUMMARY:ВН Културен Център
DESCRIPTION:Шести май\, (не)официалният празник на Русе\, Толя Чорбаджиева от Държавен архив. / The Sixth of May\, the (un)Official Day of Rousse\, Tolia Chorbadjieva from the State Archive on the traditions of the Rousse citizens through the years\, presentation at the Buddha House Culture Centre.\nhttps://www.facebook.com/BHCafeLibrary
URL:https://insiderguide.me/event/the-un-official-holiday/
ATTACH;FMTTYPE=image/jpeg:https://insiderguide.me/wp-content/uploads/2016/01/bh1-min.jpg
END:VEVENT
BEGIN:VEVENT
DTSTART;TZID=Europe/Sofia:20160505T190000
DTEND;TZID=Europe/Sofia:20160505T210000
DTSTAMP:20260423T173710
CREATED:20160426T203903Z
LAST-MODIFIED:20160426T203903Z
UID:1818-1462474800-1462482000@insiderguide.me
SUMMARY:Зала Филхармония
DESCRIPTION:Празничен концерт. /  Holiday concert at the Philharmony Hall.\nhttp://www.ruseopera.com/
URL:https://insiderguide.me/event/holiday-concert-may/
ATTACH;FMTTYPE=image/jpeg:https://insiderguide.me/wp-content/uploads/2016/02/Optimized-IMG_0396.jpg
END:VEVENT
BEGIN:VEVENT
DTSTART;TZID=Europe/Sofia:20160505T190000
DTEND;TZID=Europe/Sofia:20160505T200000
DTSTAMP:20260423T173710
CREATED:20160504T095414Z
LAST-MODIFIED:20160504T095414Z
UID:1910-1462474800-1462478400@insiderguide.me
SUMMARY:Доходно здание
DESCRIPTION:Тържествен концерт за връчване на званието Почетен гражданин на Русе с участието на Биг Бенд – Русе. / Honourable Citizen of Rousse ceremony\, concert at the Profit Yielding Bldg.\nhttp://www.dohodnozdanie.com/
URL:https://insiderguide.me/event/honourable-citizen/
ATTACH;FMTTYPE=image/jpeg:https://insiderguide.me/wp-content/uploads/2016/01/Dohodno_sn-3.jpg
END:VEVENT
BEGIN:VEVENT
DTSTART;TZID=Europe/Sofia:20160505T160000
DTEND;TZID=Europe/Sofia:20160505T170000
DTSTAMP:20260423T173710
CREATED:20160428T130824Z
LAST-MODIFIED:20160428T130824Z
UID:1839-1462464000-1462467600@insiderguide.me
SUMMARY:Регионална библиотека
DESCRIPTION:Представяне на алманаха “Крайречни гласове”. / Presentation of the Riverside Voices almanac at the Regional Library.\nhttp://www.libruse.bg/
URL:https://insiderguide.me/event/riverside-voices/
ATTACH;FMTTYPE=image/jpeg:https://insiderguide.me/wp-content/uploads/2016/02/Optimized-IMG_0432.jpg
END:VEVENT
BEGIN:VEVENT
DTSTART;TZID=Europe/Sofia:20160505T100000
DTEND;TZID=Europe/Sofia:20160505T140000
DTSTAMP:20260423T173710
CREATED:20160504T210945Z
LAST-MODIFIED:20160504T210945Z
UID:1934-1462442400-1462456800@insiderguide.me
SUMMARY:Спортен комплекс Ялта
DESCRIPTION:Спортен празник „Заедно“. / Sports day at the Yalta Sports Complex.\nhttp://wikimapia.org/
URL:https://insiderguide.me/event/sports-day-yalta/
ATTACH;FMTTYPE=image/jpeg:https://insiderguide.me/wp-content/uploads/2016/05/yalta.jpg
END:VEVENT
BEGIN:VEVENT
DTSTART;VALUE=DATE:20160505
DTEND;VALUE=DATE:20160528
DTSTAMP:20260423T173710
CREATED:20160515T154928Z
LAST-MODIFIED:20160515T154928Z
UID:2037-1462406400-1464393599@insiderguide.me
SUMMARY:Художествена галерия
DESCRIPTION:20 години по-късно\, изложба на Златка Стойкова и Свилен Стефанов. / 20 Years Later\, exhibition at the Art Gallery.\nhttp://ruseartgallery.weebly.com/
URL:https://insiderguide.me/event/twenty-years-later/
ATTACH;FMTTYPE=image/jpeg:https://insiderguide.me/wp-content/uploads/2016/01/hud-galeria.jpg
END:VEVENT
BEGIN:VEVENT
DTSTART;TZID=Europe/Sofia:20160504T190000
DTEND;TZID=Europe/Sofia:20160504T210000
DTSTAMP:20260423T173710
CREATED:20160428T130948Z
LAST-MODIFIED:20160428T130948Z
UID:1840-1462388400-1462395600@insiderguide.me
SUMMARY:Драматичен театър Сава Огнянов
DESCRIPTION:“Господин Ганьо” от Георги Данаилов по мотиви от Алеко Константинов\, Голяма сцена. / Mister Ganyo\, theatre performance at the Drama Theatre.\nhttp://www.theatre.ruse.bg/
URL:https://insiderguide.me/event/ganyo-may/
ATTACH;FMTTYPE=image/jpeg:https://insiderguide.me/wp-content/uploads/2016/01/teatara-1.jpg
END:VEVENT
BEGIN:VEVENT
DTSTART;TZID=Europe/Sofia:20160503T190000
DTEND;TZID=Europe/Sofia:20160503T210000
DTSTAMP:20260423T173710
CREATED:20160428T131129Z
LAST-MODIFIED:20160428T131129Z
UID:1841-1462302000-1462309200@insiderguide.me
SUMMARY:Канев Център
DESCRIPTION:Трио Тенорите\, музика за ценители. / The Tenors Trio\, live concert for music lovers at Kaneff Centre.\nhttps://www.uni-ruse.bg/kaneff
URL:https://insiderguide.me/event/tenors-may/
ATTACH;FMTTYPE=image/jpeg:https://insiderguide.me/wp-content/uploads/2016/01/Kaneff_Centre.jpg
END:VEVENT
BEGIN:VEVENT
DTSTART;TZID=Europe/Sofia:20160503T190000
DTEND;TZID=Europe/Sofia:20160503T210000
DTSTAMP:20260423T173710
CREATED:20160426T203658Z
LAST-MODIFIED:20160427T191917Z
UID:1817-1462302000-1462309200@insiderguide.me
SUMMARY:Държавна опера Русе
DESCRIPTION:Вокален концерт\, Музика на нациите – Музиката на Австрия. / The Music of the Nations – Austrian Music\, vocal concert at the Opera.\nhttp://www.ruseopera.com/
URL:https://insiderguide.me/event/music-of-russia/
ATTACH;FMTTYPE=image/jpeg:https://insiderguide.me/wp-content/uploads/2016/02/opera.jpg
END:VEVENT
BEGIN:VEVENT
DTSTART;TZID=Europe/Sofia:20160503T134500
DTEND;TZID=Europe/Sofia:20160503T170000
DTSTAMP:20260423T173710
CREATED:20160429T172245Z
LAST-MODIFIED:20160429T172245Z
UID:1850-1462283100-1462294800@insiderguide.me
SUMMARY:МГ Баба Тонка
DESCRIPTION:Пролетно надиграване\, състезание\, по програма „Русе – Европейски град на спорта 2016“. / Spring Outplay\, contest under Rousse – 2016 European City of Sports.\nhttp://mg-babatonka.bg/
URL:https://insiderguide.me/event/spring-outplay/
ATTACH;FMTTYPE=image/jpeg:https://insiderguide.me/wp-content/uploads/2016/04/mg-babatonka.jpg
END:VEVENT
BEGIN:VEVENT
DTSTART;VALUE=DATE:20160503
DTEND;VALUE=DATE:20160525
DTSTAMP:20260423T173710
CREATED:20160429T172953Z
LAST-MODIFIED:20160429T172953Z
UID:1852-1462233600-1464134399@insiderguide.me
SUMMARY:Държавна опера Русе
DESCRIPTION:Православието в Полша\, фотоизложба във фоайето на Операта. / Orthodoxy in Poland\, photo exhibition in the foyer of the Opera House.\nhttp://www.ruseopera.com/
URL:https://insiderguide.me/event/photo-exhibition-poland/
ATTACH;FMTTYPE=image/jpeg:https://insiderguide.me/wp-content/uploads/2015/12/opera.jpg
END:VEVENT
BEGIN:VEVENT
DTSTART;VALUE=DATE:20160503
DTEND;VALUE=DATE:20160518
DTSTAMP:20260423T173710
CREATED:20160504T180453Z
LAST-MODIFIED:20160504T180453Z
UID:1915-1462233600-1463529599@insiderguide.me
SUMMARY:Художествена галерия
DESCRIPTION:Изложба “Посоки” на Стоимир Иванов и Таня Пасева. /  Directions\, exhibition by Stoimir Ivanov and Tanya Paseva at the Art Gallery.\nhttp://ruseartgallery.weebly.com/
URL:https://insiderguide.me/event/directions-exhibition/
ATTACH;FMTTYPE=image/jpeg:https://insiderguide.me/wp-content/uploads/2016/01/hud-galeria.jpg
END:VEVENT
BEGIN:VEVENT
DTSTART;TZID=Europe/Sofia:20160502T180000
DTEND;TZID=Europe/Sofia:20160502T190000
DTSTAMP:20260423T173710
CREATED:20160426T192002Z
LAST-MODIFIED:20160426T192002Z
UID:1798-1462212000-1462215600@insiderguide.me
SUMMARY:Линди Хоп Русе
DESCRIPTION:Нови групи по суинг танци за начинаещи. / New Swing Dance groups for beginners at the hall of Lindy Hop\, Rousse.\nhttps://www.facebook.com/lindy.hop.ruse/
URL:https://insiderguide.me/event/new-swing-beginners/
ATTACH;FMTTYPE=image/jpeg:https://insiderguide.me/wp-content/uploads/2016/04/lindyhop.jpg
END:VEVENT
BEGIN:VEVENT
DTSTART;TZID=Europe/Sofia:20160502T100000
DTEND;TZID=Europe/Sofia:20160502T170000
DTSTAMP:20260423T173710
CREATED:20160428T132002Z
LAST-MODIFIED:20160428T132128Z
UID:1842-1462183200-1462208400@insiderguide.me
SUMMARY:Парк на младежта
DESCRIPTION:“Великденско съкровище”\, организирано от Интеракт клуб – младежи канят малки и големи да се включат в различни игри в Парка на младежта. / Easter Treasure\, organizaed by the Interact club – young people invite passers-by to get involved into different games at the Youth Park.\nhttp://www.nasamnatam.com/
URL:https://insiderguide.me/event/easter-treasure/
ATTACH;FMTTYPE=image/jpeg:https://insiderguide.me/wp-content/uploads/2016/04/youth-park.jpg
END:VEVENT
BEGIN:VEVENT
DTSTART;TZID=Europe/Sofia:20160501T220000
DTEND;TZID=Europe/Sofia:20160501T220000
DTSTAMP:20260423T173710
CREATED:20160330T193424Z
LAST-MODIFIED:20160330T193424Z
UID:1526-1462140000-1462140000@insiderguide.me
SUMMARY:Стейшън Хол
DESCRIPTION:SUBMONKS\, Planet Bass 2016. / SUBMONKS\, Planet Bass 2016 at Station Hall.\nhttps://www.facebook.com/Station-HALL-298379270314875/
URL:https://insiderguide.me/event/submonks/
ATTACH;FMTTYPE=image/jpeg:https://insiderguide.me/wp-content/uploads/2016/01/stationhall-mine.jpg
END:VEVENT
BEGIN:VEVENT
DTSTART;TZID=Europe/Sofia:20160501T103000
DTEND;TZID=Europe/Sofia:20160501T170000
DTSTAMP:20260423T173710
CREATED:20160428T123131Z
LAST-MODIFIED:20160527T080309Z
UID:1827-1462098600-1462122000@insiderguide.me
SUMMARY:Площад Свобода
DESCRIPTION:Великденско хоро\, организирано от ФТТ “Найден Киров” и Общината. / Easter folklore dance at the square in front of the Municipality.\nhttp://www.ruse-bg.eu/index.php
URL:https://insiderguide.me/event/easter-folklore-dance/
ATTACH;FMTTYPE=image/jpeg:https://insiderguide.me/wp-content/uploads/2016/03/municipality.jpg
END:VEVENT
BEGIN:VEVENT
DTSTART;TZID=Europe/Sofia:20160430T223000
DTEND;TZID=Europe/Sofia:20160430T223000
DTSTAMP:20260423T173710
CREATED:20160408T092414Z
LAST-MODIFIED:20160408T092414Z
UID:1645-1462055400-1462055400@insiderguide.me
SUMMARY:Макс клуб
DESCRIPTION:5-6 BoyZ\, концерт. / 5-6 BoyZ\, live at at Max Club.\nhttp://www.maxclubruse.com/
URL:https://insiderguide.me/event/5-6-boysz/
ATTACH;FMTTYPE=image/jpeg:https://insiderguide.me/wp-content/uploads/2016/02/max-club.jpg
END:VEVENT
END:VCALENDAR