BEGIN:VCALENDAR
VERSION:2.0
PRODID:-// - ECPv6.15.14//NONSGML v1.0//EN
CALSCALE:GREGORIAN
METHOD:PUBLISH
X-ORIGINAL-URL:https://insiderguide.me
X-WR-CALDESC:Events for 
REFRESH-INTERVAL;VALUE=DURATION:PT1H
X-Robots-Tag:noindex
X-PUBLISHED-TTL:PT1H
BEGIN:VTIMEZONE
TZID:Europe/Sofia
BEGIN:DAYLIGHT
TZOFFSETFROM:+0200
TZOFFSETTO:+0300
TZNAME:EEST
DTSTART:20180325T010000
END:DAYLIGHT
BEGIN:STANDARD
TZOFFSETFROM:+0300
TZOFFSETTO:+0200
TZNAME:EET
DTSTART:20181028T010000
END:STANDARD
BEGIN:DAYLIGHT
TZOFFSETFROM:+0200
TZOFFSETTO:+0300
TZNAME:EEST
DTSTART:20190331T010000
END:DAYLIGHT
BEGIN:STANDARD
TZOFFSETFROM:+0300
TZOFFSETTO:+0200
TZNAME:EET
DTSTART:20191027T010000
END:STANDARD
BEGIN:DAYLIGHT
TZOFFSETFROM:+0200
TZOFFSETTO:+0300
TZNAME:EEST
DTSTART:20200329T010000
END:DAYLIGHT
BEGIN:STANDARD
TZOFFSETFROM:+0300
TZOFFSETTO:+0200
TZNAME:EET
DTSTART:20201025T010000
END:STANDARD
END:VTIMEZONE
BEGIN:VEVENT
DTSTART;TZID=Europe/Sofia:20191018T200000
DTEND;TZID=Europe/Sofia:20191018T220000
DTSTAMP:20260421T155754
CREATED:20191003T073015Z
LAST-MODIFIED:20191003T073015Z
UID:8071-1571428800-1571436000@insiderguide.me
SUMMARY:Макс клуб
DESCRIPTION:Мерудия\, концерт. / Merudia\, live @ Max Club.
URL:https://insiderguide.me/event/merudia-18oct2019/
END:VEVENT
BEGIN:VEVENT
DTSTART;VALUE=DATE:20191017
DTEND;VALUE=DATE:20191101
DTSTAMP:20260421T155754
CREATED:20191003T071426Z
LAST-MODIFIED:20191003T071818Z
UID:8054-1571270400-1572566399@insiderguide.me
SUMMARY:Градска художествена галерия
DESCRIPTION:Изложба на Димитър Радойков. / Exposition of drawings by Dimitar Radoikov @ City Art Gallery.
URL:https://insiderguide.me/event/radoikov-1731oct2019/
END:VEVENT
BEGIN:VEVENT
DTSTART;VALUE=DATE:20191015
DTEND;VALUE=DATE:20191016
DTSTAMP:20260421T155754
CREATED:20191003T065222Z
LAST-MODIFIED:20191003T065222Z
UID:8058-1571097600-1571183999@insiderguide.me
SUMMARY:Екомузей с аквариум
DESCRIPTION:По реката\, артистичен проект. / Along the River\, artistic installation @ Ecomuseum.
URL:https://insiderguide.me/event/alongriver-15oct2019/
END:VEVENT
BEGIN:VEVENT
DTSTART;TZID=Europe/Sofia:20191013T190000
DTEND;TZID=Europe/Sofia:20191013T210000
DTSTAMP:20260421T155754
CREATED:20191003T063527Z
LAST-MODIFIED:20191003T063837Z
UID:8044-1570993200-1571000400@insiderguide.me
SUMMARY:Драматичен театър Сава Огнянов
DESCRIPTION:„Три сватби и едно възкресение“. / Three Weddings and One Resurrection @ Theatre.
URL:https://insiderguide.me/event/threeweddings-13oct2019/
END:VEVENT
BEGIN:VEVENT
DTSTART;TZID=Europe/Sofia:20191013T160000
DTEND;TZID=Europe/Sofia:20191013T170000
DTSTAMP:20260421T155754
CREATED:20191002T200321Z
LAST-MODIFIED:20191002T200608Z
UID:8014-1570982400-1570986000@insiderguide.me
SUMMARY:Държавен куклен театър
DESCRIPTION:Пинокио. / Pinocchio @ Puppet House.
URL:https://insiderguide.me/event/pinocchio-13oct2019/
END:VEVENT
BEGIN:VEVENT
DTSTART;TZID=Europe/Sofia:20191013T110000
DTEND;TZID=Europe/Sofia:20191013T130000
DTSTAMP:20260421T155754
CREATED:20191002T195836Z
LAST-MODIFIED:20191002T195836Z
UID:8011-1570964400-1570971600@insiderguide.me
SUMMARY:Държавен куклен театър
DESCRIPTION:“Пепеляшка” от 11:00 и 12:00 часа. / Cinderella at 11:00 and 12:00 @ Puppet House.
URL:https://insiderguide.me/event/cinderella-13oct2019/
END:VEVENT
BEGIN:VEVENT
DTSTART;TZID=Europe/Sofia:20191012T220000
DTEND;TZID=Europe/Sofia:20191012T233000
DTSTAMP:20260421T155754
CREATED:20190801T093904Z
LAST-MODIFIED:20190801T094023Z
UID:7848-1570917600-1570923000@insiderguide.me
SUMMARY:Макс клуб
DESCRIPTION:Black Rose\, концерт. / Black Rose\, live @ Max Club.
URL:https://insiderguide.me/event/blackrose-12oct2019/
END:VEVENT
BEGIN:VEVENT
DTSTART;TZID=Europe/Sofia:20191012T170000
DTEND;TZID=Europe/Sofia:20191012T190000
DTSTAMP:20260421T155754
CREATED:20191003T062503Z
LAST-MODIFIED:20191003T063015Z
UID:8039-1570899600-1570906800@insiderguide.me
SUMMARY:Драматичен театър Сава Огнянов
DESCRIPTION:„Хляб в джоба“\, гостува Театър Сливен. / Bread in the Pocket by Theatre Sliven @ Theatre.
URL:https://insiderguide.me/event/breadpocket-12oct2019/
END:VEVENT
BEGIN:VEVENT
DTSTART;VALUE=DATE:20191012
DTEND;VALUE=DATE:20191013
DTSTAMP:20260421T155754
CREATED:20191002T192948Z
LAST-MODIFIED:20191002T192948Z
UID:7985-1570838400-1570924799@insiderguide.me
SUMMARY:МОЛ Русе
DESCRIPTION:Творческа работилница за деца. / Art Atelier for Children @ MALL Rousse.
URL:https://insiderguide.me/event/artmall-12oct2019/
END:VEVENT
BEGIN:VEVENT
DTSTART;TZID=Europe/Sofia:20191011T200000
DTEND;TZID=Europe/Sofia:20191011T220000
DTSTAMP:20260421T155754
CREATED:20191003T073106Z
LAST-MODIFIED:20191003T073106Z
UID:8068-1570824000-1570831200@insiderguide.me
SUMMARY:Макс клуб
DESCRIPTION:Godsmack & System Of A Down Tribute by Hedshot. / Godsmack & System Of A Down Tribute by Hedshot @ Max Club.
URL:https://insiderguide.me/event/godsmack-11oct2019/
END:VEVENT
BEGIN:VEVENT
DTSTART;TZID=Europe/Sofia:20191011T190000
DTEND;TZID=Europe/Sofia:20191011T220000
DTSTAMP:20260421T155754
CREATED:20191003T055526Z
LAST-MODIFIED:20191003T055654Z
UID:8027-1570820400-1570831200@insiderguide.me
SUMMARY:Държавна опера Русе
DESCRIPTION:“Жизел”\, балет. / Giselle\, ballet @ Opera House.
URL:https://insiderguide.me/event/giselle-11oct2019/
END:VEVENT
BEGIN:VEVENT
DTSTART;TZID=Europe/Sofia:20191011T190000
DTEND;TZID=Europe/Sofia:20191011T210000
DTSTAMP:20260421T155754
CREATED:20191003T062404Z
LAST-MODIFIED:20191003T063047Z
UID:8037-1570820400-1570827600@insiderguide.me
SUMMARY:Драматичен театър Сава Огнянов
DESCRIPTION:„Животът е сън“\, гостува Театър Азарян. / Life’s a Dream by Azarian Thatre\, Sofia @ Theatre.
URL:https://insiderguide.me/event/lifedream-11oct2019/
END:VEVENT
BEGIN:VEVENT
DTSTART;VALUE=DATE:20191011
DTEND;VALUE=DATE:20200101
DTSTAMP:20260421T155754
CREATED:20191003T071820Z
LAST-MODIFIED:20191003T071820Z
UID:8061-1570752000-1577836799@insiderguide.me
SUMMARY:Градска художествена галерия
DESCRIPTION:Международно биенале „Изкуството на миниатюрата“ 2019. / Miniature Art International Biennale @ City Art Gallery.
URL:https://insiderguide.me/event/miniature-11oct31dec2019/
END:VEVENT
BEGIN:VEVENT
DTSTART;VALUE=DATE:20191011
DTEND;VALUE=DATE:20191013
DTSTAMP:20260421T155754
CREATED:20191003T064945Z
LAST-MODIFIED:20191003T064945Z
UID:8053-1570752000-1570924799@insiderguide.me
SUMMARY:Русенски университет
DESCRIPTION:Международен форум “Арнаудови четения”. / Arnaudovi Chetenia International Forum @ Rousse University.
URL:https://insiderguide.me/event/arnaudoviforum-1112oct2019/
END:VEVENT
BEGIN:VEVENT
DTSTART;TZID=Europe/Sofia:20191010T190000
DTEND;TZID=Europe/Sofia:20191010T210000
DTSTAMP:20260421T155754
CREATED:20191003T061513Z
LAST-MODIFIED:20191003T062248Z
UID:8035-1570734000-1570741200@insiderguide.me
SUMMARY:Драматичен театър Сава Огнянов
DESCRIPTION:„Бурунданга“. / Burundanga @ Theatre.
URL:https://insiderguide.me/event/burundanga-10oct2019/
END:VEVENT
BEGIN:VEVENT
DTSTART;VALUE=DATE:20191010
DTEND;VALUE=DATE:20191011
DTSTAMP:20260421T155754
CREATED:20191002T195644Z
LAST-MODIFIED:20191002T195644Z
UID:8007-1570665600-1570751999@insiderguide.me
SUMMARY:Регионален исторически музей
DESCRIPTION:Теракотени икони от Виничкото кале на Музей „Теракота“ гр. Виница\, Република Македония. / Terracotta icons from Macedonia\, exposition @ Reginal Museum of History.
URL:https://insiderguide.me/event/terracottaicons-10oct2019/
END:VEVENT
BEGIN:VEVENT
DTSTART;TZID=Europe/Sofia:20191009T180000
DTEND;TZID=Europe/Sofia:20191009T190000
DTSTAMP:20260421T155754
CREATED:20191003T072355Z
LAST-MODIFIED:20191003T072355Z
UID:8067-1570644000-1570647600@insiderguide.me
SUMMARY:Макс клуб
DESCRIPTION:Пламен е с нас\, събитие. / Plamen’s with Us\, event @ Max Club.
URL:https://insiderguide.me/event/plamen-9oct2019/
END:VEVENT
BEGIN:VEVENT
DTSTART;TZID=Europe/Sofia:20191009T130000
DTEND;TZID=Europe/Sofia:20191009T140000
DTSTAMP:20260421T155754
CREATED:20191003T055359Z
LAST-MODIFIED:20191003T055359Z
UID:8026-1570626000-1570629600@insiderguide.me
SUMMARY:Държавна опера Русе
DESCRIPTION:„Ани в царството на цветята“\, детска опера. / Ani in the Flower Kingdom\, opera for children @ Opera House.
URL:https://insiderguide.me/event/ani-9oct2019/
END:VEVENT
BEGIN:VEVENT
DTSTART;TZID=Europe/Sofia:20191008T190000
DTEND;TZID=Europe/Sofia:20191008T210000
DTSTAMP:20260421T155754
CREATED:20191003T055849Z
LAST-MODIFIED:20191003T061056Z
UID:8032-1570561200-1570568400@insiderguide.me
SUMMARY:Драматичен театър Сава Огнянов
DESCRIPTION:„Легло за трима“ – комедия. / Bed for Three\, comedy @ Theatre.
URL:https://insiderguide.me/event/bedthree-8oct2019/
END:VEVENT
BEGIN:VEVENT
DTSTART;VALUE=DATE:20191008
DTEND;VALUE=DATE:20191009
DTSTAMP:20260421T155754
CREATED:20191002T195356Z
LAST-MODIFIED:20191002T195356Z
UID:8006-1570492800-1570579199@insiderguide.me
SUMMARY:Регионален исторически музей
DESCRIPTION:Изложба на детски рисунки на участници от различни държави от музея в Голещи\, Румъния. / Exposition of Children’s Drawings from various countries by the Goleshti Museum in Romania @ Reginal Museum of History.
URL:https://insiderguide.me/event/goleshti-8oct2019/
END:VEVENT
BEGIN:VEVENT
DTSTART;VALUE=DATE:20191006
DTEND;VALUE=DATE:20191007
DTSTAMP:20260421T155754
CREATED:20191002T200612Z
LAST-MODIFIED:20191002T200835Z
UID:8010-1570320000-1570406399@insiderguide.me
SUMMARY:Държавен куклен театър
DESCRIPTION:Пинокио от 11:00 и 17:00. / Pinocchio at 11:00 and 17:00 @ Puppet House.
URL:https://insiderguide.me/event/pinocchio-6oct2019/
END:VEVENT
BEGIN:VEVENT
DTSTART;TZID=Europe/Sofia:20191005T200000
DTEND;TZID=Europe/Sofia:20191005T220000
DTSTAMP:20260421T155754
CREATED:20191003T073058Z
LAST-MODIFIED:20191003T073058Z
UID:8066-1570305600-1570312800@insiderguide.me
SUMMARY:Макс клуб
DESCRIPTION:Outhentic. / Outhentic\, live @ Max Club.
URL:https://insiderguide.me/event/outhentic-5oct2019/
END:VEVENT
BEGIN:VEVENT
DTSTART;VALUE=DATE:20191005
DTEND;VALUE=DATE:20191020
DTSTAMP:20260421T155754
CREATED:20191002T195049Z
LAST-MODIFIED:20191002T195206Z
UID:8001-1570233600-1571529599@insiderguide.me
SUMMARY:Стартъп Фектъри
DESCRIPTION:Европейска седмица на програмирането в Русе:  \n5 октомври\, 14:00ч. – Дигитално рисуване на герои от компютърни игри (www.facebook.com/events/1144929479035567/)\n6 октомври\, 14:00ч. – Среща разговор на тема Момичетата също програмират (www.facebook.com/events/1183779595143376/)\n12 октомври\, 14:00ч. – Дигитално рисуване на герои от компютърни игри – втора част\n19 октомври\, 11:00ч. – Дискусия на тема Програмирането като страст или програмирането като професия\n/ European Software Development Week in Rousse @ Startup Factory.
URL:https://insiderguide.me/event/eudevs-519oct2019/
END:VEVENT
BEGIN:VEVENT
DTSTART;VALUE=DATE:20191005
DTEND;VALUE=DATE:20191006
DTSTAMP:20260421T155754
CREATED:20191002T194542Z
LAST-MODIFIED:20191002T194542Z
UID:8000-1570233600-1570319999@insiderguide.me
SUMMARY:Природен парк Русенски Лом
DESCRIPTION:Крос-поход „Русенско Поломие 2019“. / Cross-trekking in Rusenski Lom Nature Park.
URL:https://insiderguide.me/event/rusenskilom-5oct2019/
END:VEVENT
BEGIN:VEVENT
DTSTART;VALUE=DATE:20191005
DTEND;VALUE=DATE:20191006
DTSTAMP:20260421T155754
CREATED:20191002T192823Z
LAST-MODIFIED:20191002T192823Z
UID:7984-1570233600-1570319999@insiderguide.me
SUMMARY:МОЛ Русе
DESCRIPTION:Творческа работилница за деца. / Art Atelier for Children @ MALL Rousse.
URL:https://insiderguide.me/event/artmall-5oct2019/
END:VEVENT
BEGIN:VEVENT
DTSTART;TZID=Europe/Sofia:20191004T220000
DTEND;TZID=Europe/Sofia:20191004T233000
DTSTAMP:20260421T155754
CREATED:20190801T094028Z
LAST-MODIFIED:20190801T094219Z
UID:7846-1570226400-1570231800@insiderguide.me
SUMMARY:Макс клуб
DESCRIPTION:PIF\, концерт. / PIF\, live @ Max Club.
URL:https://insiderguide.me/event/pif-4oct2019/
END:VEVENT
BEGIN:VEVENT
DTSTART;TZID=Europe/Sofia:20191004T190000
DTEND;TZID=Europe/Sofia:20191004T210000
DTSTAMP:20260421T155754
CREATED:20191003T055232Z
LAST-MODIFIED:20191003T055232Z
UID:8025-1570215600-1570222800@insiderguide.me
SUMMARY:Държавна опера Русе
DESCRIPTION:Оперен концерт. / Opera cncert @ Opera House.
URL:https://insiderguide.me/event/concert-4oct2019/
END:VEVENT
BEGIN:VEVENT
DTSTART;TZID=Europe/Sofia:20191004T180000
DTEND;TZID=Europe/Sofia:20191004T190000
DTSTAMP:20260421T155754
CREATED:20191002T200539Z
LAST-MODIFIED:20191002T200540Z
UID:8005-1570212000-1570215600@insiderguide.me
SUMMARY:Държавен куклен театър
DESCRIPTION:Пинокио\, премиера. / Pinocchio\, premiere @ Puppet House.
URL:https://insiderguide.me/event/pinocchio-4oct2019/
END:VEVENT
BEGIN:VEVENT
DTSTART;VALUE=DATE:20191004
DTEND;VALUE=DATE:20191007
DTSTAMP:20260421T155754
CREATED:20191003T071701Z
LAST-MODIFIED:20191003T071701Z
UID:8060-1570147200-1570406399@insiderguide.me
SUMMARY:Площад пред Общината
DESCRIPTION:Четвърти Международен фестивал “Северина”. / Severina Fourth International Festival @ Square in front of the Municipality.
URL:https://insiderguide.me/event/severina-46oct2019/
END:VEVENT
BEGIN:VEVENT
DTSTART;VALUE=DATE:20191004
DTEND;VALUE=DATE:20191007
DTSTAMP:20260421T155754
CREATED:20190817T065926Z
LAST-MODIFIED:20190817T065926Z
UID:7872-1570147200-1570406399@insiderguide.me
SUMMARY:Доходно здание
DESCRIPTION:23-ти международен конкурс за млади изпълнители “Северно сияние”. Вход свободен. Повече на https://www.facebook.com/. / Northern Glow 23rd International Contest for Young Singers @ Profi-Yielding Building. Free admission. More at https://www.facebook.com/.
URL:https://insiderguide.me/event/northernglow-46oct2019/
END:VEVENT
END:VCALENDAR