BEGIN:VCALENDAR
VERSION:2.0
PRODID:-// - ECPv6.15.14//NONSGML v1.0//EN
CALSCALE:GREGORIAN
METHOD:PUBLISH
X-ORIGINAL-URL:https://insiderguide.me
X-WR-CALDESC:Events for 
REFRESH-INTERVAL;VALUE=DURATION:PT1H
X-Robots-Tag:noindex
X-PUBLISHED-TTL:PT1H
BEGIN:VTIMEZONE
TZID:Europe/Sofia
BEGIN:DAYLIGHT
TZOFFSETFROM:+0200
TZOFFSETTO:+0300
TZNAME:EEST
DTSTART:20150329T010000
END:DAYLIGHT
BEGIN:STANDARD
TZOFFSETFROM:+0300
TZOFFSETTO:+0200
TZNAME:EET
DTSTART:20151025T010000
END:STANDARD
BEGIN:DAYLIGHT
TZOFFSETFROM:+0200
TZOFFSETTO:+0300
TZNAME:EEST
DTSTART:20160327T010000
END:DAYLIGHT
BEGIN:STANDARD
TZOFFSETFROM:+0300
TZOFFSETTO:+0200
TZNAME:EET
DTSTART:20161030T010000
END:STANDARD
BEGIN:DAYLIGHT
TZOFFSETFROM:+0200
TZOFFSETTO:+0300
TZNAME:EEST
DTSTART:20170326T010000
END:DAYLIGHT
BEGIN:STANDARD
TZOFFSETFROM:+0300
TZOFFSETTO:+0200
TZNAME:EET
DTSTART:20171029T010000
END:STANDARD
END:VTIMEZONE
BEGIN:VEVENT
DTSTART;TZID=Europe/Sofia:20160612T110000
DTEND;TZID=Europe/Sofia:20160612T120000
DTSTAMP:20260423T135614
CREATED:20160531T181556Z
LAST-MODIFIED:20160531T181606Z
UID:2174-1465729200-1465732800@insiderguide.me
SUMMARY:Държавен куклен театър Русе
DESCRIPTION:“Пепеляшка”\, представление за деца. / Cinderella\, play for children at the Puppet House.\nhttp://puppetruse.com/
URL:https://insiderguide.me/event/cinderella-june/
ATTACH;FMTTYPE=image/jpeg:https://insiderguide.me/wp-content/uploads/2016/05/kuklen-teatar.jpg
END:VEVENT
BEGIN:VEVENT
DTSTART;VALUE=DATE:20160612
DTEND;VALUE=DATE:20160613
DTSTAMP:20260423T135614
CREATED:20160530T171226Z
LAST-MODIFIED:20160531T143450Z
UID:2146-1465689600-1465775999@insiderguide.me
SUMMARY:Дом Канети
DESCRIPTION:Финална изложба\, Фестивал “Процес – Пространство”. / Final exhibition from the Process – Space Fest @ Canetti’s House.\nhttp://www.eliascanetti.org/251.0.html?&L=2
URL:https://insiderguide.me/event/process-space-fest/
ATTACH;FMTTYPE=image/jpeg:https://insiderguide.me/wp-content/uploads/2016/05/dom-canetti.jpg
END:VEVENT
BEGIN:VEVENT
DTSTART;VALUE=DATE:20160612
DTEND;VALUE=DATE:20160613
DTSTAMP:20260423T135614
CREATED:20160527T080808Z
LAST-MODIFIED:20160527T080808Z
UID:2091-1465689600-1465775999@insiderguide.me
SUMMARY:Парк на младежта
DESCRIPTION:Фолклорен събор “Златната гъдулка”. / Golden Fiddle Folklore Festival @ the Youth Park.\nhttp://www.nasamnatam.com/
URL:https://insiderguide.me/event/golden-fiddle/
ATTACH;FMTTYPE=image/jpeg:https://insiderguide.me/wp-content/uploads/2016/04/youth-park.jpg
END:VEVENT
BEGIN:VEVENT
DTSTART;TZID=Europe/Sofia:20160611T220000
DTEND;TZID=Europe/Sofia:20160611T220000
DTSTAMP:20260423T135614
CREATED:20160525T131138Z
LAST-MODIFIED:20160525T131138Z
UID:2066-1465682400-1465682400@insiderguide.me
SUMMARY:Макс клуб
DESCRIPTION:Група “Остава”\, концерт. / Ostava band\, live @ Max Club.\nhttp://www.maxclubruse.com/
URL:https://insiderguide.me/event/ostava/
ATTACH;FMTTYPE=image/jpeg:https://insiderguide.me/wp-content/uploads/2016/02/max-club.jpg
END:VEVENT
BEGIN:VEVENT
DTSTART;TZID=Europe/Sofia:20160611T190000
DTEND;TZID=Europe/Sofia:20160611T220000
DTSTAMP:20260423T135614
CREATED:20160506T151347Z
LAST-MODIFIED:20160527T080157Z
UID:1950-1465671600-1465682400@insiderguide.me
SUMMARY:Площад Свобода
DESCRIPTION:Група “Остава”\, концерт по случай 115 години от създаването на “Оргахим”. / Ostava band\, concert for the 155th year from the establishment of the Orgahim company at Liberty Square.\nhttps://opoznai.bg/view/
URL:https://insiderguide.me/event/ostava-june/
ATTACH;FMTTYPE=image/jpeg:https://insiderguide.me/wp-content/uploads/2016/03/feature-image-sights-1.jpg
END:VEVENT
BEGIN:VEVENT
DTSTART;TZID=Europe/Sofia:20160611T190000
DTEND;TZID=Europe/Sofia:20160611T210000
DTSTAMP:20260423T135614
CREATED:20160602T210912Z
LAST-MODIFIED:20160602T210912Z
UID:2243-1465671600-1465678800@insiderguide.me
SUMMARY:Държавна опера Русе
DESCRIPTION:Вокален цикъл “Музика на нациите”. / Music of the Nations @ the Opera House.\nhttp://www.ruseopera.com/
URL:https://insiderguide.me/event/music-of-the-nations-june/
ATTACH;FMTTYPE=image/jpeg:https://insiderguide.me/wp-content/uploads/2016/02/opera.jpg
END:VEVENT
BEGIN:VEVENT
DTSTART;TZID=Europe/Sofia:20160611T180000
DTEND;TZID=Europe/Sofia:20160611T200000
DTSTAMP:20260423T135614
CREATED:20160606T175647Z
LAST-MODIFIED:20160606T175647Z
UID:2296-1465668000-1465675200@insiderguide.me
SUMMARY:Караоке Стар
DESCRIPTION:Кметълски истории\, представяне на книгата на Цонко Цонев. / Stories about Metal Music\, presentation of the book by the former mayor of Kavarna @ Karaoke Star.\nhttps://www.facebook.com/karaokestarruse
URL:https://insiderguide.me/event/stories-about-metal-music/
ATTACH;FMTTYPE=image/jpeg:https://insiderguide.me/wp-content/uploads/2016/02/karaoke-star.jpg
END:VEVENT
BEGIN:VEVENT
DTSTART;TZID=Europe/Sofia:20160611T110000
DTEND;TZID=Europe/Sofia:20160611T170000
DTSTAMP:20260423T135614
CREATED:20160531T182257Z
LAST-MODIFIED:20160531T182257Z
UID:2178-1465642800-1465664400@insiderguide.me
SUMMARY:Площад Батенберг
DESCRIPTION:Националната кампания за насърчаване на четенето „Чети с мен!“ под патронажа на Президента Росен Плевнелиев\, четене на любими книги пред Библиотеката. / Read with Me National campaign to promote reading under the patronage of President Rosen Plevneliev\, reading of favorite books in front of the Library\, @ the Batenberg Square.\nhttps://foursquare.com/
URL:https://insiderguide.me/event/readwithme/
ATTACH;FMTTYPE=image/jpeg:https://insiderguide.me/wp-content/uploads/2016/05/batenberg.jpg
END:VEVENT
BEGIN:VEVENT
DTSTART;TZID=Europe/Sofia:20160611T103000
DTEND;TZID=Europe/Sofia:20160611T120000
DTSTAMP:20260423T135614
CREATED:20160531T191806Z
LAST-MODIFIED:20160531T191806Z
UID:2195-1465641000-1465646400@insiderguide.me
SUMMARY:Регионална библиотека
DESCRIPTION:Четене на приказки. / Tale reading @ the Library.\nhttp://www.libruse.bg/
URL:https://insiderguide.me/event/tale-reading2/
ATTACH;FMTTYPE=image/jpeg:https://insiderguide.me/wp-content/uploads/2016/05/library.jpg
END:VEVENT
BEGIN:VEVENT
DTSTART;VALUE=DATE:20160611
DTEND;VALUE=DATE:20160612
DTSTAMP:20260423T135614
CREATED:20160531T144400Z
LAST-MODIFIED:20160531T144400Z
UID:2157-1465603200-1465689599@insiderguide.me
SUMMARY:Кея
DESCRIPTION:Международен фестивал “Процес – Пространство”\, акции и пърформанси по крайбрежието на Хот Спот Каравана край хотел Рига. / Process-Space International Festival\, Hot Spot Caravan performance\, alongside the Danube near the Riga Hotel.\nhttps://bg.wikipedia.org/wiki/
URL:https://insiderguide.me/event/process-space-hotspotcaravan/
ATTACH;FMTTYPE=image/jpeg:https://insiderguide.me/wp-content/uploads/2016/05/quay.jpg
END:VEVENT
BEGIN:VEVENT
DTSTART;TZID=Europe/Sofia:20160610T220000
DTEND;TZID=Europe/Sofia:20160610T220000
DTSTAMP:20260423T135614
CREATED:20160602T184233Z
LAST-MODIFIED:20160602T184233Z
UID:2207-1465596000-1465596000@insiderguide.me
SUMMARY:Макс клуб
DESCRIPTION:Владо от Фаворит и приятели\, концерт. / Vlado from the Favorit Band & Friends\, live @ Max Club.\nhttp://www.maxclubruse.com/
URL:https://insiderguide.me/event/vlado-favorit-friends/
ATTACH;FMTTYPE=image/jpeg:https://insiderguide.me/wp-content/uploads/2016/02/max-club.jpg
END:VEVENT
BEGIN:VEVENT
DTSTART;TZID=Europe/Sofia:20160610T213000
DTEND;TZID=Europe/Sofia:20160610T230000
DTSTAMP:20260423T135614
CREATED:20160606T174713Z
LAST-MODIFIED:20160606T174713Z
UID:2290-1465594200-1465599600@insiderguide.me
SUMMARY:ВН Културен Център
DESCRIPTION:Jazz Night\, джаз музика. / Jazz Night @ the Buddha House Culture Centre.\nhttps://www.facebook.com/BHCafeLibrary
URL:https://insiderguide.me/event/jazz-night-june/
ATTACH;FMTTYPE=image/jpeg:https://insiderguide.me/wp-content/uploads/2016/01/bh1-min.jpg
END:VEVENT
BEGIN:VEVENT
DTSTART;TZID=Europe/Sofia:20160610T190000
DTEND;TZID=Europe/Sofia:20160610T210000
DTSTAMP:20260423T135614
CREATED:20160531T144052Z
LAST-MODIFIED:20160531T144052Z
UID:2156-1465585200-1465592400@insiderguide.me
SUMMARY:Доходно здание
DESCRIPTION:Международен фестивал “Процес – Пространство”\, Презентация на Водна кула арт фест. / Process-Space International Festival\, Water Tower Fest\, presentation @ the Profit-Yielding Bldg.\nhttp://www.dohodnozdanie.com/
URL:https://insiderguide.me/event/water-tower-process-space/
ATTACH;FMTTYPE=image/jpeg:https://insiderguide.me/wp-content/uploads/2016/01/Dohodno_sn-3.jpg
END:VEVENT
BEGIN:VEVENT
DTSTART;TZID=Europe/Sofia:20160610T190000
DTEND;TZID=Europe/Sofia:20160610T210000
DTSTAMP:20260423T135614
CREATED:20160525T160422Z
LAST-MODIFIED:20160525T160422Z
UID:2073-1465585200-1465592400@insiderguide.me
SUMMARY:Доходно здание
DESCRIPTION:Джаз вечер\, с участието на Сава Бояджиев (ударни)\, Петър Момчев (саксофони)\, Димитър Карамфилов (контрабас) и Мартин Марков (пиано). / Jazz Night at the Profit Yielding Bldg.\nhttp://www.dohodnozdanie.com/
URL:https://insiderguide.me/event/jazz-night/
ATTACH;FMTTYPE=image/jpeg:https://insiderguide.me/wp-content/uploads/2016/01/Dohodno_sn-3.jpg
END:VEVENT
BEGIN:VEVENT
DTSTART;TZID=Europe/Sofia:20160610T190000
DTEND;TZID=Europe/Sofia:20160610T210000
DTSTAMP:20260423T135614
CREATED:20160520T082106Z
LAST-MODIFIED:20160520T082106Z
UID:2054-1465585200-1465592400@insiderguide.me
SUMMARY:Държавна опера Русе
DESCRIPTION:Концерт на Русенски камерен оркестър\, диригент Дийн Уайтсайт\, солисти Юлия Пургина (виола) и Божидара Кузманова (цигулка). / Rousse Chamber Orchestra\, consuctor Dean Whiteside\, soloists Yulia Purgina (viola) and Bozhidara Kuzmanova (violin) at the Opera House.\nhttp://www.ruseopera.com/
URL:https://insiderguide.me/event/chamber-orchestra-june/
ATTACH;FMTTYPE=image/jpeg:https://insiderguide.me/wp-content/uploads/2016/02/opera.jpg
END:VEVENT
BEGIN:VEVENT
DTSTART;TZID=Europe/Sofia:20160609T190000
DTEND;TZID=Europe/Sofia:20160609T210000
DTSTAMP:20260423T135614
CREATED:20160531T180914Z
LAST-MODIFIED:20160531T180914Z
UID:2171-1465498800-1465506000@insiderguide.me
SUMMARY:Драматичен театър Сава Огнянов
DESCRIPTION:“Рейс” от Станислав Стратиев\, гостува Сатиричен театър “Алеко Константинов”. / Bus\, by Srtanislav Stratiev\, presented by Aleko Konstantinov guest theatre\, @ the Drama Theatre.\nhttp://www.theatre.ruse.bg/
URL:https://insiderguide.me/event/bus-theatre/
ATTACH;FMTTYPE=image/jpeg:https://insiderguide.me/wp-content/uploads/2016/01/teatara-1.jpg
END:VEVENT
BEGIN:VEVENT
DTSTART;TZID=Europe/Sofia:20160609T190000
DTEND;TZID=Europe/Sofia:20160609T210000
DTSTAMP:20260423T135614
CREATED:20160527T071452Z
LAST-MODIFIED:20160527T071520Z
UID:2075-1465498800-1465506000@insiderguide.me
SUMMARY:Зала Филхармония
DESCRIPTION:Симфоничен концерт на Русенска филхармония. / Concert by the Rousse Philharmonic Orchestra at the Philharmony Hall.\nhttp://www.ruseopera.com/
URL:https://insiderguide.me/event/philh-orchestra-9june/
ATTACH;FMTTYPE=image/jpeg:https://insiderguide.me/wp-content/uploads/2016/02/Optimized-IMG_0396.jpg
END:VEVENT
BEGIN:VEVENT
DTSTART;TZID=Europe/Sofia:20160609T173000
DTEND;TZID=Europe/Sofia:20160609T190000
DTSTAMP:20260423T135614
CREATED:20160531T191705Z
LAST-MODIFIED:20160531T191705Z
UID:2194-1465493400-1465498800@insiderguide.me
SUMMARY:Регионална библиотека
DESCRIPTION:„Оргонитите – биоенергиен хармонизатор в полза на нашето здраве. Кембъстър за по-добра жизнена среда“\, Клуб „Здраве“. / Orgonits – Bioenergy\, lecture organized by Health Club @ the Library.\nhttp://www.libruse.bg/
URL:https://insiderguide.me/event/orgonits-bioenergy/
ATTACH;FMTTYPE=image/jpeg:https://insiderguide.me/wp-content/uploads/2016/05/library.jpg
END:VEVENT
BEGIN:VEVENT
DTSTART;VALUE=DATE:20160609
DTEND;VALUE=DATE:20160615
DTSTAMP:20260423T135614
CREATED:20160602T204216Z
LAST-MODIFIED:20160602T204216Z
UID:2234-1465430400-1465948799@insiderguide.me
SUMMARY:Доходно здание
DESCRIPTION:XX Национален ученически театрален фестивал ‘Климент Михайлов”\, вход свободен. / 20th National Students’ Festival\, admission free @ the Profit Yielding Bldg.\nhttp://www.dohodnozdanie.com/
URL:https://insiderguide.me/event/students-festival/
ATTACH;FMTTYPE=image/jpeg:https://insiderguide.me/wp-content/uploads/2016/06/teatyr.jpg
END:VEVENT
BEGIN:VEVENT
DTSTART;VALUE=DATE:20160609
DTEND;VALUE=DATE:20160612
DTSTAMP:20260423T135614
CREATED:20160610T063311Z
LAST-MODIFIED:20160610T063311Z
UID:2301-1465430400-1465689599@insiderguide.me
SUMMARY:СОУ Васил Левски
DESCRIPTION:Катерачна надпревара Русе 2016\, финален кръг. / Climbing Competition @ the Vasil Levski High School.\nhttp://www.soulevski-ruse.org/
URL:https://insiderguide.me/event/climbing-contest/
ATTACH;FMTTYPE=image/jpeg:https://insiderguide.me/wp-content/uploads/2016/06/levski-school.jpg
END:VEVENT
BEGIN:VEVENT
DTSTART;TZID=Europe/Sofia:20160608T190000
DTEND;TZID=Europe/Sofia:20160608T210000
DTSTAMP:20260423T135614
CREATED:20160531T181206Z
LAST-MODIFIED:20160531T181207Z
UID:2172-1465412400-1465419600@insiderguide.me
SUMMARY:Драматичен театър Сава Огнянов
DESCRIPTION:“Жената от морето” от Хенрих Ибсен\, гостува Театър “Българска армия”. / The Woman from the Sea by Henrik Ibsen\, presented by the visiting Bulgarian Army Theatre\, @ the Drama Theatre.\nhttp://www.theatre.ruse.bg/
URL:https://insiderguide.me/event/woman-from-sea/
ATTACH;FMTTYPE=image/jpeg:https://insiderguide.me/wp-content/uploads/2016/01/teatara-1.jpg
END:VEVENT
BEGIN:VEVENT
DTSTART;TZID=Europe/Sofia:20160608T190000
DTEND;TZID=Europe/Sofia:20160608T210000
DTSTAMP:20260423T135614
CREATED:20160527T072254Z
LAST-MODIFIED:20160527T072254Z
UID:2079-1465412400-1465419600@insiderguide.me
SUMMARY:Държавна опера Русе
DESCRIPTION:Сватбата на Фигаро\, опера. / The Marriage of Figaro at the Opera House.\nhttp://www.ruseopera.com/
URL:https://insiderguide.me/event/marriage-figaro-june/
ATTACH;FMTTYPE=image/jpeg:https://insiderguide.me/wp-content/uploads/2016/02/opera.jpg
END:VEVENT
BEGIN:VEVENT
DTSTART;TZID=Europe/Sofia:20160608T173000
DTEND;TZID=Europe/Sofia:20160608T190000
DTSTAMP:20260423T135614
CREATED:20160531T191539Z
LAST-MODIFIED:20160531T191539Z
UID:2193-1465407000-1465412400@insiderguide.me
SUMMARY:Регионална библиотека
DESCRIPTION:„…К нему не зарастëт народная тропа“ – Вечер\, посветена на творчеството на Александър С. Пушкин. / Evening dedicated to the great Russian poet Alexander Pushkin @ the Library.\nhttp://www.libruse.bg/
URL:https://insiderguide.me/event/pushkin-evening/
ATTACH;FMTTYPE=image/jpeg:https://insiderguide.me/wp-content/uploads/2016/05/library.jpg
END:VEVENT
BEGIN:VEVENT
DTSTART;VALUE=DATE:20160608
DTEND;VALUE=DATE:20160728
DTSTAMP:20260423T135614
CREATED:20160607T201629Z
LAST-MODIFIED:20160630T215256Z
UID:2299-1465344000-1469663999@insiderguide.me
SUMMARY:Художествена галерия
DESCRIPTION:Изложба “Пиер-Огюст Реноар (1841 – 1919). Литографии”. / Pierre-Auguste Renoir (1841-1919). Lithography Exhibition @ the City Gallery.\nhttp://ruseartgallery.weebly.com/
URL:https://insiderguide.me/event/pierre-renoir-exhibition/
ATTACH;FMTTYPE=image/jpeg:https://insiderguide.me/wp-content/uploads/2016/06/gallery.jpeg
END:VEVENT
BEGIN:VEVENT
DTSTART;VALUE=DATE:20160608
DTEND;VALUE=DATE:20160611
DTSTAMP:20260423T135614
CREATED:20160604T124751Z
LAST-MODIFIED:20160604T124751Z
UID:2284-1465344000-1465603199@insiderguide.me
SUMMARY:ОУ Никола Обретенов
DESCRIPTION:Обучение по спортна стрелба с пневматично оръжие. / Training in shooting with pneumatic guns @ Nikola Obretenov Primary School.\nhttp://ounikolaobretenov.weebly.com/
URL:https://insiderguide.me/event/training-archery/
ATTACH;FMTTYPE=image/jpeg:https://insiderguide.me/wp-content/uploads/2016/04/nikola-obretenov.jpg
END:VEVENT
BEGIN:VEVENT
DTSTART;TZID=Europe/Sofia:20160607T193000
DTEND;TZID=Europe/Sofia:20160607T210000
DTSTAMP:20260423T135614
CREATED:20160527T075121Z
LAST-MODIFIED:20160607T201110Z
UID:2086-1465327800-1465333200@insiderguide.me
SUMMARY:Военен клуб (Летен театър)
DESCRIPTION:От Ню Орлеанс до Русе\, Ейми Пфриммер (сопрано)\, Военен клуб Русе. / From New Orleans to Rousse\, Amy Pfrimmer (soprano)\, live @ the Military Club in Ruse.\nhttps://www.facebook.com/VoenenKlubRuse
URL:https://insiderguide.me/event/new-orleans-rousse/
ATTACH;FMTTYPE=image/jpeg:https://insiderguide.me/wp-content/uploads/2016/05/leten-teatar.jpg
END:VEVENT
BEGIN:VEVENT
DTSTART;TZID=Europe/Sofia:20160607T190000
DTEND;TZID=Europe/Sofia:20160607T210000
DTSTAMP:20260423T135614
CREATED:20160602T191817Z
LAST-MODIFIED:20160606T174737Z
UID:2221-1465326000-1465333200@insiderguide.me
SUMMARY:ВН Културен Център
DESCRIPTION:Русе – градът на първите неща. / Rousse – the City of the First-Time Events @ the Buddha House Culture Centre.\nhttps://www.facebook.com/BHCafeLibrary
URL:https://insiderguide.me/event/rousse-first-time-events/
ATTACH;FMTTYPE=image/jpeg:https://insiderguide.me/wp-content/uploads/2016/01/IMG_1169-min.jpg
END:VEVENT
BEGIN:VEVENT
DTSTART;TZID=Europe/Sofia:20160607T190000
DTEND;TZID=Europe/Sofia:20160607T210000
DTSTAMP:20260423T135614
CREATED:20160602T184645Z
LAST-MODIFIED:20160602T184812Z
UID:2208-1465326000-1465333200@insiderguide.me
SUMMARY:Драматичен театър Сава Огнянов
DESCRIPTION:Жулиета (Диалог за любовта)\, предпремиера. / Juliet (Love Dialogues)\, pre premiere\, @ the Drama Theatre.\nhttp://www.theatre.ruse.bg/
URL:https://insiderguide.me/event/jueliet-thetre/
ATTACH;FMTTYPE=image/jpeg:https://insiderguide.me/wp-content/uploads/2016/06/teatyr.jpg
END:VEVENT
BEGIN:VEVENT
DTSTART;TZID=Europe/Sofia:20160607T190000
DTEND;TZID=Europe/Sofia:20160607T210000
DTSTAMP:20260423T135614
CREATED:20160531T192829Z
LAST-MODIFIED:20160531T193155Z
UID:2202-1465326000-1465333200@insiderguide.me
SUMMARY:Канев Център
DESCRIPTION:“Когато котката я няма”\, комедия\, с участието на Асен Блатечки\, Калин Врачански\, Елена Петрова\, Силвия Лулчева и др. / When the Cat Is Gone\, comedy @ Kaneff Centre.\nhttps://www.uni-ruse.bg/kaneff
URL:https://insiderguide.me/event/whethecatsgone/
ATTACH;FMTTYPE=image/jpeg:https://insiderguide.me/wp-content/uploads/2016/05/kaneff.jpg
END:VEVENT
BEGIN:VEVENT
DTSTART;TZID=Europe/Sofia:20160607T183000
DTEND;TZID=Europe/Sofia:20160607T204500
DTSTAMP:20260423T135614
CREATED:20160504T182834Z
LAST-MODIFIED:20160504T182834Z
UID:1924-1465324200-1465332300@insiderguide.me
SUMMARY:Startup Factory
DESCRIPTION:Курс за Laravel\, The Laravel Service Container. / Laravel Training Course\, The Laravel Service Container\, at the office of Startup Factory.\nhttps://www.facebook.com/events/491450197707891/
URL:https://insiderguide.me/event/laravel-june7/
ATTACH;FMTTYPE=image/png:https://insiderguide.me/wp-content/uploads/2016/02/startup-factory.png
END:VEVENT
END:VCALENDAR