BEGIN:VCALENDAR
VERSION:2.0
PRODID:-// - ECPv6.15.14//NONSGML v1.0//EN
CALSCALE:GREGORIAN
METHOD:PUBLISH
X-ORIGINAL-URL:https://insiderguide.me
X-WR-CALDESC:Events for 
REFRESH-INTERVAL;VALUE=DURATION:PT1H
X-Robots-Tag:noindex
X-PUBLISHED-TTL:PT1H
BEGIN:VTIMEZONE
TZID:Europe/Sofia
BEGIN:DAYLIGHT
TZOFFSETFROM:+0200
TZOFFSETTO:+0300
TZNAME:EEST
DTSTART:20160327T010000
END:DAYLIGHT
BEGIN:STANDARD
TZOFFSETFROM:+0300
TZOFFSETTO:+0200
TZNAME:EET
DTSTART:20161030T010000
END:STANDARD
BEGIN:DAYLIGHT
TZOFFSETFROM:+0200
TZOFFSETTO:+0300
TZNAME:EEST
DTSTART:20170326T010000
END:DAYLIGHT
BEGIN:STANDARD
TZOFFSETFROM:+0300
TZOFFSETTO:+0200
TZNAME:EET
DTSTART:20171029T010000
END:STANDARD
BEGIN:DAYLIGHT
TZOFFSETFROM:+0200
TZOFFSETTO:+0300
TZNAME:EEST
DTSTART:20180325T010000
END:DAYLIGHT
BEGIN:STANDARD
TZOFFSETFROM:+0300
TZOFFSETTO:+0200
TZNAME:EET
DTSTART:20181028T010000
END:STANDARD
END:VTIMEZONE
BEGIN:VEVENT
DTSTART;TZID=Europe/Sofia:20170211T110000
DTEND;TZID=Europe/Sofia:20170211T120000
DTSTAMP:20260423T040821
CREATED:20170210T083356Z
LAST-MODIFIED:20170210T083356Z
UID:3469-1486810800-1486814400@insiderguide.me
SUMMARY:Съдебна палата
DESCRIPTION:Протест в памет на загиналия Ивайло Андреев. Вижте повече на http://www.arenamedia.net/news.php?newsandpromotion_id=31425. / Protest in memory of Ivailo Andreev\, a rocker from Rousse who was killed in an incident after a truck pushed him out of the road. The Court decided that it was Ivailo who was guilty and not the driver of the truck who caused the incident. The protest will be held in front of the Court.\nhttps://opoznai.bg/
URL:https://insiderguide.me/event/protest-rocker/
ATTACH;FMTTYPE=image/jpeg:https://insiderguide.me/wp-content/uploads/2016/01/staro-ruse3.jpg
END:VEVENT
BEGIN:VEVENT
DTSTART;TZID=Europe/Sofia:20170211T100000
DTEND;TZID=Europe/Sofia:20170211T180000
DTSTAMP:20260423T040821
CREATED:20170207T093725Z
LAST-MODIFIED:20170207T093805Z
UID:3462-1486807200-1486836000@insiderguide.me
SUMMARY:Спортна зала Дунав
DESCRIPTION:Биорезонансна Диагностика на Здравето. Адрес: Спортен комплекс ДУНАВ\, ул. Околчица 6\, Лекарски кабинет ет.2.\nhttp://wikimapia.org/16057245/bg
URL:https://insiderguide.me/event/bioresonance-diagnostics/
END:VEVENT
BEGIN:VEVENT
DTSTART;VALUE=DATE:20170211
DTEND;VALUE=DATE:20170215
DTSTAMP:20260423T040821
CREATED:20170210T081124Z
LAST-MODIFIED:20170210T081124Z
UID:3467-1486771200-1487116799@insiderguide.me
SUMMARY:Общински приют за безстопанствени животни
DESCRIPTION:Искаш ли да си моята валентинка?\, дни на отворените врати за разходки и игри с животните от 10:30 до 15:00 часа. / Wanna Be My Valentine?\, days for volunteers to play and walk the animals @ Municipal Shelter for Stray Animals.\nhttps://www.facebook.com/pages/%D0%9E%D0%B1%D1%89%D0%B8%D0%BD%D1%81%D0%BA%D0%B8-%D0%9F%D1%80%D0%B8%D1%8E%D1%82-%D0%97%D0%B0-%D0%91%D0%B5%D0%B7%D1%81%D1%82%D0%BE%D0%BF%D0%B0%D0%BD%D1%81%D1%82%D0%B2%D0%B5%D0%BD%D0%B8-%D0%96%D0%B8%D0%B2%D0%BE%D1%82%D0%BD%D0%B8-%D0%A0%D1%83%D1%81%D0%B5/1231310580237183
URL:https://insiderguide.me/event/wanna-be-my-valentine/
ATTACH;FMTTYPE=image/jpeg:https://insiderguide.me/wp-content/uploads/2017/02/shelter.jpg
END:VEVENT
BEGIN:VEVENT
DTSTART;TZID=Europe/Sofia:20170210T190000
DTEND;TZID=Europe/Sofia:20170210T210000
DTSTAMP:20260423T040821
CREATED:20170131T142751Z
LAST-MODIFIED:20170131T142751Z
UID:3438-1486753200-1486760400@insiderguide.me
SUMMARY:Драматичен театър Сава Огнянов
DESCRIPTION:“Женско царство”. / Women’s Kingdom @ the Theatre.\nhttp://www.theatre.ruse.bg/
URL:https://insiderguide.me/event/womens-kingdom-feb/
ATTACH;FMTTYPE=image/jpeg:https://insiderguide.me/wp-content/uploads/2016/07/dohodno5-1.jpg
END:VEVENT
BEGIN:VEVENT
DTSTART;TZID=Europe/Sofia:20170210T183000
DTEND;TZID=Europe/Sofia:20170210T200000
DTSTAMP:20260423T040821
CREATED:20170131T142452Z
LAST-MODIFIED:20170131T142452Z
UID:3436-1486751400-1486756800@insiderguide.me
SUMMARY:Национално у-ще по изкуствата
DESCRIPTION:Зимни китарни вечери\, концерт. / Winter Guitar Evenings\, concert @ the National School of Arts.\nhttp://www.artrousse.com/
URL:https://insiderguide.me/event/winter-guitar-eves1/
ATTACH;FMTTYPE=image/jpeg:https://insiderguide.me/wp-content/uploads/2016/02/Optimized-IMG_0467-1.jpg
END:VEVENT
BEGIN:VEVENT
DTSTART;TZID=Europe/Sofia:20170210T100000
DTEND;TZID=Europe/Sofia:20170210T130000
DTSTAMP:20260423T040821
CREATED:20170131T143637Z
LAST-MODIFIED:20170131T143637Z
UID:3447-1486720800-1486731600@insiderguide.me
SUMMARY:Държавна опера Русе
DESCRIPTION:“Ловци на бисери”. / Pearl Hunters @ Opera.\nhttp://www.ruseopera.com/
URL:https://insiderguide.me/event/pearl-hunters-feb/
ATTACH;FMTTYPE=image/jpeg:https://insiderguide.me/wp-content/uploads/2016/01/operata_big-1.jpg
END:VEVENT
BEGIN:VEVENT
DTSTART;VALUE=DATE:20170210
DTEND;VALUE=DATE:20170224
DTSTAMP:20260423T040821
CREATED:20170124T162121Z
LAST-MODIFIED:20170124T162121Z
UID:3385-1486684800-1487894399@insiderguide.me
SUMMARY:Доходно здание
DESCRIPTION:Изложба на театрални художници „Театърът е любов“ Станчо Станчев\, Цанко Цанев и Веселин Николов Със съдействието на сдружение „Ретро Арт“\, Русе. / Theatre Is Love\, exhibition by theatrical artists @ the Profit-Yielding Bldg.\nhttp://www.dohodnozdanie.com/
URL:https://insiderguide.me/event/theatre-love-expo/
ATTACH;FMTTYPE=image/jpeg:https://insiderguide.me/wp-content/uploads/2016/07/dohodno-zdanie-ruse.jpg
END:VEVENT
BEGIN:VEVENT
DTSTART;VALUE=DATE:20170210
DTEND;VALUE=DATE:20170211
DTSTAMP:20260423T040821
CREATED:20170131T144117Z
LAST-MODIFIED:20170131T144117Z
UID:3450-1486684800-1486771199@insiderguide.me
SUMMARY:МОЛ Русе
DESCRIPTION:Валентинска кутийка за подаръци\, Ателие ММ. / Gift Box for St Valentine’s Day by MM Atelier @ the Rousse MALL.\nhttp://www.mallrousse.bg/
URL:https://insiderguide.me/event/gift-box/
ATTACH;FMTTYPE=image/jpeg:https://insiderguide.me/wp-content/uploads/2016/07/IMG_4856.jpg
END:VEVENT
BEGIN:VEVENT
DTSTART;TZID=Europe/Sofia:20170209T180000
DTEND;TZID=Europe/Sofia:20170209T190000
DTSTAMP:20260423T040821
CREATED:20170207T123836Z
LAST-MODIFIED:20170207T123836Z
UID:3463-1486663200-1486666800@insiderguide.me
SUMMARY:ВН Културен Център
DESCRIPTION:“В Русе с Елиас Канети”\, представяне на книгата. / In Rousse with Elias Canetti @ Buddha House.\nhttps://www.facebook.com/BHCafeLibrary
URL:https://insiderguide.me/event/elias-canetti-book/
ATTACH;FMTTYPE=image/jpeg:https://insiderguide.me/wp-content/uploads/2016/12/bh1-min-300x225.jpg
END:VEVENT
BEGIN:VEVENT
DTSTART;TZID=Europe/Sofia:20170208T190000
DTEND;TZID=Europe/Sofia:20170208T210000
DTSTAMP:20260423T040821
CREATED:20170131T143006Z
LAST-MODIFIED:20170131T143006Z
UID:3440-1486580400-1486587600@insiderguide.me
SUMMARY:Драматичен театър Сава Огнянов
DESCRIPTION:„Бурунданга“ от Жорди Галсеран. / Burundanga by Jordi Galceran @ the Theatre.\nhttp://www.theatre.ruse.bg/
URL:https://insiderguide.me/event/burundanga-feb/
ATTACH;FMTTYPE=image/jpeg:https://insiderguide.me/wp-content/uploads/2016/07/dohodno5-1.jpg
END:VEVENT
BEGIN:VEVENT
DTSTART;TZID=Europe/Sofia:20170206T190000
DTEND;TZID=Europe/Sofia:20170206T210000
DTSTAMP:20260423T040821
CREATED:20170129T113019Z
LAST-MODIFIED:20170129T113019Z
UID:3429-1486407600-1486414800@insiderguide.me
SUMMARY:Канев Център
DESCRIPTION:“Бог Рок”\, рок спектакъл с участието на: Филип Аврамов\, Калин Велъов\, Красимир Спиридонов\, Венцислав Велев\, Севинч Ибрахим. / God Rock\, rock theatre performance @ Kaneff Centre.\nhttps://www.uni-ruse.bg/kaneff
URL:https://insiderguide.me/event/god-rock-feb/
ATTACH;FMTTYPE=image/jpeg:https://insiderguide.me/wp-content/uploads/2016/05/kaneff.jpg
END:VEVENT
BEGIN:VEVENT
DTSTART;TZID=Europe/Sofia:20170206T163000
DTEND;TZID=Europe/Sofia:20170206T183000
DTSTAMP:20260423T040821
CREATED:20170217T075925Z
LAST-MODIFIED:20170217T075925Z
UID:3504-1486398600-1486405800@insiderguide.me
SUMMARY:Драматичен театър Сава Огнянов
DESCRIPTION:“Отворена брачна двойка”\, Дарио Фо и Франка Раме. / Open Marriage\, by Dario Fo and Franca Rame @ the Profit-Yielding Bldg.\nhttp://www.dohodnozdanie.com/
URL:https://insiderguide.me/event/open-marriage-march/
ATTACH;FMTTYPE=image/jpeg:https://insiderguide.me/wp-content/uploads/2016/07/dohodno-zdanie-ruse.jpg
END:VEVENT
BEGIN:VEVENT
DTSTART;TZID=Europe/Sofia:20170205T190000
DTEND;TZID=Europe/Sofia:20170205T210000
DTSTAMP:20260423T040821
CREATED:20170129T113658Z
LAST-MODIFIED:20170129T113658Z
UID:3432-1486321200-1486328400@insiderguide.me
SUMMARY:Канев Център
DESCRIPTION:“Когато котката я няма”\, спектакъл. / When the Cat’s Gone spectacle @ Kaneff Centre.\nhttps://www.uni-ruse.bg/kaneff
URL:https://insiderguide.me/event/catsgone-feb/
ATTACH;FMTTYPE=image/jpeg:https://insiderguide.me/wp-content/uploads/2016/05/kaneff.jpg
END:VEVENT
BEGIN:VEVENT
DTSTART;TZID=Europe/Sofia:20170205T110000
DTEND;TZID=Europe/Sofia:20170205T130000
DTSTAMP:20260423T040821
CREATED:20170129T113420Z
LAST-MODIFIED:20170129T113420Z
UID:3430-1486292400-1486299600@insiderguide.me
SUMMARY:Държавен куклен театър Русе
DESCRIPTION:“Принцесата и свинарят” по Ханс Кристиан Андерсен\, представление за деца. / The Princess and the Swineherd by Hans Christian Andersen\, play for children @ the Puppet House.\nhttp://puppetruse.com/
URL:https://insiderguide.me/event/princess-swineherd-feb1/
ATTACH;FMTTYPE=image/jpeg:https://insiderguide.me/wp-content/uploads/2016/09/kuklen.jpg
END:VEVENT
BEGIN:VEVENT
DTSTART;TZID=Europe/Sofia:20170204T120000
DTEND;TZID=Europe/Sofia:20170204T130000
DTSTAMP:20260423T040821
CREATED:20170131T144832Z
LAST-MODIFIED:20170131T144832Z
UID:3454-1486209600-1486213200@insiderguide.me
SUMMARY:Площад хотел Дунав
DESCRIPTION:Русе Айс Фест 2016\, детско магическо шоу. / Rousse Ice Fest 2016\, Magic Show for Children @ Dunav Square.
URL:https://insiderguide.me/event/magic-show-children/
ATTACH;FMTTYPE=image/jpeg:https://insiderguide.me/wp-content/uploads/2016/12/ploshatd_dunav.jpg
END:VEVENT
BEGIN:VEVENT
DTSTART;VALUE=DATE:20170204
DTEND;VALUE=DATE:20170205
DTSTAMP:20260423T040821
CREATED:20170131T144017Z
LAST-MODIFIED:20170131T144017Z
UID:3449-1486166400-1486252799@insiderguide.me
SUMMARY:МОЛ Русе
DESCRIPTION:Мода на хартия\, Ателие ММ. / Fashion on Paper\, by MM Atelier @ the Rousse MALL.\nhttp://www.mallrousse.bg/
URL:https://insiderguide.me/event/fashion-on-paper/
ATTACH;FMTTYPE=image/jpeg:https://insiderguide.me/wp-content/uploads/2016/07/IMG_4856.jpg
END:VEVENT
BEGIN:VEVENT
DTSTART;TZID=Europe/Sofia:20170203T210000
DTEND;TZID=Europe/Sofia:20170203T230000
DTSTAMP:20260423T040821
CREATED:20170129T113900Z
LAST-MODIFIED:20170129T113900Z
UID:3433-1486155600-1486162800@insiderguide.me
SUMMARY:ВН Културен Център
DESCRIPTION:BH Friday Live: Acoustic soul\, концерт. / BH Friday Live: Acoustic soul @ Buddha House.\nhttps://www.facebook.com/BHCafeLibrary
URL:https://insiderguide.me/event/acoustic-soul/
ATTACH;FMTTYPE=image/jpeg:https://insiderguide.me/wp-content/uploads/2016/12/bh1-min-300x225.jpg
END:VEVENT
BEGIN:VEVENT
DTSTART;TZID=Europe/Sofia:20170203T190000
DTEND;TZID=Europe/Sofia:20170203T210000
DTSTAMP:20260423T040821
CREATED:20170131T143516Z
LAST-MODIFIED:20170131T143516Z
UID:3446-1486148400-1486155600@insiderguide.me
SUMMARY:Държавна опера Русе
DESCRIPTION:“Аида”. / Aida @ Opera.\nhttp://www.ruseopera.com/
URL:https://insiderguide.me/event/aida-feb/
ATTACH;FMTTYPE=image/jpeg:https://insiderguide.me/wp-content/uploads/2016/01/operata_big-1.jpg
END:VEVENT
BEGIN:VEVENT
DTSTART;TZID=Europe/Sofia:20170203T190000
DTEND;TZID=Europe/Sofia:20170203T210000
DTSTAMP:20260423T040821
CREATED:20170131T132346Z
LAST-MODIFIED:20170131T132346Z
UID:3434-1486148400-1486155600@insiderguide.me
SUMMARY:ВН Културен Център
DESCRIPTION:Как игрите ни помагат да удвоим продуктивността си\, презентация за технологично инвестиране (Русе). / How Games Help Us Improve Our Efficiency @ Buddha House.\nhttps://www.facebook.com/BHCafeLibrary
URL:https://insiderguide.me/event/games-efficiency/
ATTACH;FMTTYPE=image/jpeg:https://insiderguide.me/wp-content/uploads/2016/12/bh1-min-300x225.jpg
END:VEVENT
BEGIN:VEVENT
DTSTART;TZID=Europe/Sofia:20170202T183000
DTEND;TZID=Europe/Sofia:20170202T200000
DTSTAMP:20260423T040821
CREATED:20170202T150809Z
LAST-MODIFIED:20170202T150809Z
UID:3458-1486060200-1486065600@insiderguide.me
SUMMARY:Русенски университет
DESCRIPTION:Дизайн на игрите и системите в тях\, конференция. / game Design and Systems\, conference @ the Rousse University.\nhttps://www.uni-ruse.bg/
URL:https://insiderguide.me/event/game-design-conf/
ATTACH;FMTTYPE=image/jpeg:https://insiderguide.me/wp-content/uploads/2016/02/Optimized-IMG_0293.jpg
END:VEVENT
BEGIN:VEVENT
DTSTART;TZID=Europe/Sofia:20170202T163000
DTEND;TZID=Europe/Sofia:20170202T180000
DTSTAMP:20260423T040821
CREATED:20170131T134037Z
LAST-MODIFIED:20170131T134037Z
UID:3435-1486053000-1486058400@insiderguide.me
SUMMARY:Регионална библиотека
DESCRIPTION:Хари Потър и професорите на “Хогуортс”\, игри и изненади за децата. / Harry Potter and the Professors from Hogwarts\, games and surprises for the kids @ the Library.\nhttp://www.libruse.bg/
URL:https://insiderguide.me/event/harry-potter-games/
ATTACH;FMTTYPE=image/jpeg:https://insiderguide.me/wp-content/uploads/2016/05/library.jpg
END:VEVENT
BEGIN:VEVENT
DTSTART;TZID=Europe/Sofia:20170201T190000
DTEND;TZID=Europe/Sofia:20170201T210000
DTSTAMP:20260423T040821
CREATED:20170131T143413Z
LAST-MODIFIED:20170131T143413Z
UID:3445-1485975600-1485982800@insiderguide.me
SUMMARY:Държавна опера Русе
DESCRIPTION:Травиата. / La Traviata @ Opera.\nhttp://www.ruseopera.com/
URL:https://insiderguide.me/event/traviata-feb/
ATTACH;FMTTYPE=image/jpeg:https://insiderguide.me/wp-content/uploads/2016/01/operata_big-1.jpg
END:VEVENT
BEGIN:VEVENT
DTSTART;VALUE=DATE:20170201
DTEND;VALUE=DATE:20170206
DTSTAMP:20260423T040821
CREATED:20170116T211725Z
LAST-MODIFIED:20170116T211725Z
UID:3364-1485907200-1486339199@insiderguide.me
SUMMARY:Доходно здание
DESCRIPTION:Испанско кино в Русе\, вход свободен.\nПрограма:\nСряда\, 1 февруари\, 18.00ч.\n“В търсене на Еймиш ”(Испания\, 2012) 84 мин.\nРежисьор: Ана Родригес Росел \nЧетвъртък\, 2 февруари\, 18.00ч.\n“Овцете не изпускат влака” (Испания\, 2014) 103 мин.\nРежисьор: Алваро Фернандес Армеро \nПетък\, 3 февруари\, 18.00ч.\n“Falling” (Испания\, 2015) 89 мин.\nРежисьор: Ана Родригес Росел \nСъбота\, 4 февруари\, 11.00ч.\n“Стокхолм” (Испания\, 2013) 89 мин.\nРежисьор: Родриго Сорогойен \nНеделя\, 5 февруари\, 11.00ч.\n“Разни хора”(Испания\, 2013) 77 мин.\nРежисьор: Ана Родригес Росел / Spanish Cinema in Rousse @ the Profit-Yielding Bldg.\nhttp://www.dohodnozdanie.com/
URL:https://insiderguide.me/event/spanish-cinema/
ATTACH;FMTTYPE=image/jpeg:https://insiderguide.me/wp-content/uploads/2016/07/dohodno-zdanie-ruse.jpg
END:VEVENT
BEGIN:VEVENT
DTSTART;TZID=Europe/Sofia:20170131T190000
DTEND;TZID=Europe/Sofia:20170131T210000
DTSTAMP:20260423T040821
CREATED:20170107T080723Z
LAST-MODIFIED:20170107T080723Z
UID:3342-1485889200-1485896400@insiderguide.me
SUMMARY:Драматичен театър Сава Огнянов
DESCRIPTION:„Бел ами“ от Юрий Дачев по Ги дьо Мопасан. / Bel Ami by Yuri Datchev based on Guy de Maupassant’s work @ the Theatre.\nhttp://www.theatre.ruse.bg/
URL:https://insiderguide.me/event/belami-jan/
ATTACH;FMTTYPE=image/jpeg:https://insiderguide.me/wp-content/uploads/2016/07/dohodno5-1.jpg
END:VEVENT
BEGIN:VEVENT
DTSTART;TZID=Europe/Sofia:20170131T190000
DTEND;TZID=Europe/Sofia:20170131T210000
DTSTAMP:20260423T040821
CREATED:20161125T115739Z
LAST-MODIFIED:20170107T082817Z
UID:3110-1485889200-1485896400@insiderguide.me
SUMMARY:Държавна опера Русе
DESCRIPTION:Фондацията\, концерт. / The Foundation\, live @ Opera.\nhttp://www.ruseopera.com/
URL:https://insiderguide.me/event/foundation-live/
ATTACH;FMTTYPE=image/jpeg:https://insiderguide.me/wp-content/uploads/2016/06/opera.jpg
END:VEVENT
BEGIN:VEVENT
DTSTART;TZID=Europe/Sofia:20170131T183000
DTEND;TZID=Europe/Sofia:20170131T190000
DTSTAMP:20260423T040821
CREATED:20170124T163318Z
LAST-MODIFIED:20170124T163318Z
UID:3390-1485887400-1485889200@insiderguide.me
SUMMARY:Доходно здание
DESCRIPTION:АРТ САЛОН „ЛЮБОВ И ВИНО“  31 януари – 23 февруари 2017: На чаша вино с Винарска изба Седем поколения. / ART SALON LOVE AND WINE from January 31 to February 23: glass of wine from the Seven Generations Winery @ the Profit-Yielding Bldg.\nhttp://www.dohodnozdanie.com/
URL:https://insiderguide.me/event/seven-generations-windery/
ATTACH;FMTTYPE=image/jpeg:https://insiderguide.me/wp-content/uploads/2016/07/dohodno-zdanie-ruse.jpg
END:VEVENT
BEGIN:VEVENT
DTSTART;VALUE=DATE:20170131
DTEND;VALUE=DATE:20170224
DTSTAMP:20260423T040821
CREATED:20170124T160837Z
LAST-MODIFIED:20170124T160837Z
UID:3378-1485820800-1487894399@insiderguide.me
SUMMARY:Доходно здание
DESCRIPTION:АРТ САЛОН „ЛЮБОВ И ВИНО“  31 януари – 23 февруари 2017\, Сатирична изложба „Вино и любов”\, СБХ – София\, секция Карикатура. / ART SALON LOVE AND WINE from January 31 to February 23\, Satirical exhibition Wine and Love @ the Profit-Yielding Bldg.\nhttp://www.dohodnozdanie.com/
URL:https://insiderguide.me/event/statirical-expo/
ATTACH;FMTTYPE=image/jpeg:https://insiderguide.me/wp-content/uploads/2016/07/dohodno-zdanie-ruse.jpg
END:VEVENT
BEGIN:VEVENT
DTSTART;TZID=Europe/Sofia:20170130T180000
DTEND;TZID=Europe/Sofia:20170130T190000
DTSTAMP:20260423T040821
CREATED:20170107T080204Z
LAST-MODIFIED:20170107T080204Z
UID:3340-1485799200-1485802800@insiderguide.me
SUMMARY:Доходно здание
DESCRIPTION:Концерт на специалност Класическо пеене. / Concert of the Class in Classical Singing @ the Profit-Yielding Bldg.\nhttp://www.dohodnozdanie.com/
URL:https://insiderguide.me/event/calssical-singing-class/
ATTACH;FMTTYPE=image/jpeg:https://insiderguide.me/wp-content/uploads/2016/07/dohodno5-1.jpg
END:VEVENT
BEGIN:VEVENT
DTSTART;VALUE=DATE:20170130
DTEND;VALUE=DATE:20170131
DTSTAMP:20260423T040821
CREATED:20170113T185026Z
LAST-MODIFIED:20170113T185026Z
UID:3357-1485734400-1485820799@insiderguide.me
SUMMARY:Русенски университет
DESCRIPTION:Дигитална България\, конференция. / Digital Bulgaria\, conference @ the Rousse University.\nhttps://www.uni-ruse.bg/
URL:https://insiderguide.me/event/digitalbg-uni/
ATTACH;FMTTYPE=image/jpeg:https://insiderguide.me/wp-content/uploads/2016/02/Optimized-IMG_0293.jpg
END:VEVENT
BEGIN:VEVENT
DTSTART;TZID=Europe/Sofia:20170129T190000
DTEND;TZID=Europe/Sofia:20170129T200000
DTSTAMP:20260423T040821
CREATED:20161227T121125Z
LAST-MODIFIED:20161227T121125Z
UID:3295-1485716400-1485720000@insiderguide.me
SUMMARY:Държавна опера Русе
DESCRIPTION:Снежанка и седемте джуджета\, опера за деца. / Snow White and the Seven Dwarfs\, opera for children at the Opera House.\nhttp://www.ruseopera.com/
URL:https://insiderguide.me/event/snow-white-jan/
ATTACH;FMTTYPE=image/jpeg:https://insiderguide.me/wp-content/uploads/2016/11/operata6.jpg
END:VEVENT
END:VCALENDAR