BEGIN:VCALENDAR
VERSION:2.0
PRODID:-// - ECPv6.15.14//NONSGML v1.0//EN
CALSCALE:GREGORIAN
METHOD:PUBLISH
X-ORIGINAL-URL:https://insiderguide.me
X-WR-CALDESC:Events for 
REFRESH-INTERVAL;VALUE=DURATION:PT1H
X-Robots-Tag:noindex
X-PUBLISHED-TTL:PT1H
BEGIN:VTIMEZONE
TZID:Europe/Sofia
BEGIN:DAYLIGHT
TZOFFSETFROM:+0200
TZOFFSETTO:+0300
TZNAME:EEST
DTSTART:20160327T010000
END:DAYLIGHT
BEGIN:STANDARD
TZOFFSETFROM:+0300
TZOFFSETTO:+0200
TZNAME:EET
DTSTART:20161030T010000
END:STANDARD
BEGIN:DAYLIGHT
TZOFFSETFROM:+0200
TZOFFSETTO:+0300
TZNAME:EEST
DTSTART:20170326T010000
END:DAYLIGHT
BEGIN:STANDARD
TZOFFSETFROM:+0300
TZOFFSETTO:+0200
TZNAME:EET
DTSTART:20171029T010000
END:STANDARD
BEGIN:DAYLIGHT
TZOFFSETFROM:+0200
TZOFFSETTO:+0300
TZNAME:EEST
DTSTART:20180325T010000
END:DAYLIGHT
BEGIN:STANDARD
TZOFFSETFROM:+0300
TZOFFSETTO:+0200
TZNAME:EET
DTSTART:20181028T010000
END:STANDARD
END:VTIMEZONE
BEGIN:VEVENT
DTSTART;TZID=Europe/Sofia:20170318T180000
DTEND;TZID=Europe/Sofia:20170318T190000
DTSTAMP:20260423T021654
CREATED:20170126T124016Z
LAST-MODIFIED:20170126T124033Z
UID:3403-1489860000-1489863600@insiderguide.me
SUMMARY:Доходно здание
DESCRIPTION:Мартенски музикални дни:\nЗаключителен концерт на майсторските класове\nпо камерна музика и акордеон. / March Music days: Final concert of the maestro classes @ the Profit-Yielding Bldg.\nhttp://www.dohodnozdanie.com/
URL:https://insiderguide.me/event/maestro-classes18/
ATTACH;FMTTYPE=image/jpeg:https://insiderguide.me/wp-content/uploads/2016/07/dohodno-zdanie-ruse.jpg
END:VEVENT
BEGIN:VEVENT
DTSTART;TZID=Europe/Sofia:20170318T170000
DTEND;TZID=Europe/Sofia:20170318T183000
DTSTAMP:20260423T021654
CREATED:20170308T115702Z
LAST-MODIFIED:20170308T115702Z
UID:3598-1489856400-1489861800@insiderguide.me
SUMMARY:Startup Factory
DESCRIPTION:Uncover P2P Lending\, презентация (https://www.facebook.com/events/668664143337303/). / Uncover P2P Lending\, presentation @ the office of Startup Factory.\nhttps://www.facebook.com/events/491450197707891/
URL:https://insiderguide.me/event/uncover-p2p-lending/
ATTACH;FMTTYPE=image/png:https://insiderguide.me/wp-content/uploads/2016/02/startup-factory.png
END:VEVENT
BEGIN:VEVENT
DTSTART;TZID=Europe/Sofia:20170318T140000
DTEND;TZID=Europe/Sofia:20170318T160000
DTSTAMP:20260423T021654
CREATED:20170316T154025Z
LAST-MODIFIED:20170316T154034Z
UID:3612-1489845600-1489852800@insiderguide.me
SUMMARY:Художествена галерия
DESCRIPTION:Арт работилница за деца. Участие само с предварително записване на 0879 27 99 39 и 082 82 17 35\, Бистра Лозанова. / Art Workshop for Children @ City Gallery.\nhttp://ruseartgallery.weebly.com/
URL:https://insiderguide.me/event/art-workshop-children-18march/
ATTACH;FMTTYPE=image/jpeg:https://insiderguide.me/wp-content/uploads/2016/06/gallery.jpeg
END:VEVENT
BEGIN:VEVENT
DTSTART;TZID=Europe/Sofia:20170318T110000
DTEND;TZID=Europe/Sofia:20170318T130000
DTSTAMP:20260423T021654
CREATED:20170126T123912Z
LAST-MODIFIED:20170126T124111Z
UID:3402-1489834800-1489842000@insiderguide.me
SUMMARY:Доходно здание
DESCRIPTION:Мартенски музикални дни:\nСтрунен ансамбъл 12 ЕNSEMBLE\nВ. А. Моцарт – Струнен квинтет\, сол минор\nР. Щраус – Струнен секстет из оп. Капричио\nД. Табакова – Такива различни пътеки\nР. Щраус – Метаморфози. / March Music days: 12 ЕNSEMBLE @ the Profit-Yielding Bldg.\nhttp://www.dohodnozdanie.com/
URL:https://insiderguide.me/event/12ensemble18/
ATTACH;FMTTYPE=image/jpeg:https://insiderguide.me/wp-content/uploads/2016/07/dohodno-zdanie-ruse.jpg
END:VEVENT
BEGIN:VEVENT
DTSTART;TZID=Europe/Sofia:20170318T103000
DTEND;TZID=Europe/Sofia:20170318T180000
DTSTAMP:20260423T021654
CREATED:20170228T110406Z
LAST-MODIFIED:20170228T110406Z
UID:3588-1489833000-1489860000@insiderguide.me
SUMMARY:Регионална библиотека
DESCRIPTION:Събуждане – 5. / Awakening – 5 @ the Library.\nhttp://www.libruse.bg/
URL:https://insiderguide.me/event/awakening5-march/
ATTACH;FMTTYPE=image/jpeg:https://insiderguide.me/wp-content/uploads/2016/05/library.jpg
END:VEVENT
BEGIN:VEVENT
DTSTART;VALUE=DATE:20170318
DTEND;VALUE=DATE:20170319
DTSTAMP:20260423T021654
CREATED:20170124T150649Z
LAST-MODIFIED:20170124T154840Z
UID:3374-1489795200-1489881599@insiderguide.me
SUMMARY:Спортна зала Дунав
DESCRIPTION:“Русчуклийска среща”\, Шести национален фестивал на школи и клубове за любители\, изучаващи български народни танци.\nПрограма първи етап:\n10.00 часа Конкурсна част (раздел хора)\n13.30 – 14.00 часа Почивка\n14.00 часа Конкурсна част (раздел хора)\nПрограма втори етап: “Играете каквото Ви душа сака”\nПрограма трети етап: Надиграване на Ръченица за Мис и Мистър “Русчуклийска среща” 2017.\nЗаседания на журито и концерт на ФТТ “Найден Киров”. / Ruschukliyska Sreshta\, Sixth National Festival of Folk Dances with the participation of schools and amateur clubs @ the Dunav Sports Hall.\nhttp://wikimapia.org/16057245/bg
URL:https://insiderguide.me/event/ruschukliiska-sreshta-2017/
ATTACH;FMTTYPE=image/jpeg:https://insiderguide.me/wp-content/uploads/2016/05/zaladunav.jpg
END:VEVENT
BEGIN:VEVENT
DTSTART;TZID=Europe/Sofia:20170317T220000
DTEND;TZID=Europe/Sofia:20170317T230000
DTSTAMP:20260423T021654
CREATED:20170228T103723Z
LAST-MODIFIED:20170228T103723Z
UID:3578-1489788000-1489791600@insiderguide.me
SUMMARY:Караоке стар
DESCRIPTION:New Day Coming/ Spot /Пердах\, концерт. / New Day Coming/ Spot/ Perdah\, live @ Karaoke Star.\nhttps://www.facebook.com/karaokestarruse
URL:https://insiderguide.me/event/new-day-coming-2/
ATTACH;FMTTYPE=image/jpeg:https://insiderguide.me/wp-content/uploads/2016/11/karaoke-star-300x157.jpg
END:VEVENT
BEGIN:VEVENT
DTSTART;TZID=Europe/Sofia:20170317T210000
DTEND;TZID=Europe/Sofia:20170317T230000
DTSTAMP:20260423T021654
CREATED:20170315T133139Z
LAST-MODIFIED:20170315T133139Z
UID:3601-1489784400-1489791600@insiderguide.me
SUMMARY:ВН Културен Център
DESCRIPTION:Светла и Владислав\, концерт. / Svetla & Vladislav\, live @ Buddha House.\nhttps://www.facebook.com/BHCafeLibrary
URL:https://insiderguide.me/event/svetla-vladislav-march/
ATTACH;FMTTYPE=image/jpeg:https://insiderguide.me/wp-content/uploads/2016/12/bh1-min-300x225.jpg
END:VEVENT
BEGIN:VEVENT
DTSTART;TZID=Europe/Sofia:20170317T190000
DTEND;TZID=Europe/Sofia:20170317T210000
DTSTAMP:20260423T021654
CREATED:20170126T133641Z
LAST-MODIFIED:20170126T133641Z
UID:3421-1489777200-1489784400@insiderguide.me
SUMMARY:Зала Филхармония
DESCRIPTION:Мартенски музикални дни:\nМАТИАС ГЬОРНЕ баритон\nМАРИЯ ПРИНЦ пиано\nс участието на актьора СИМЕОН ЛЮТАКОВ\nЙ. Брамс – Вокален цикъл Хубавата Магелона. / March Music Days Junior: Vocal Cycle @ the Philharmony Hall.\nhttp://www.ruseopera.com/
URL:https://insiderguide.me/event/vocal-cycle17/
ATTACH;FMTTYPE=image/jpeg:https://insiderguide.me/wp-content/uploads/2016/12/филх.jpg
END:VEVENT
BEGIN:VEVENT
DTSTART;TZID=Europe/Sofia:20170317T170000
DTEND;TZID=Europe/Sofia:20170317T180000
DTSTAMP:20260423T021654
CREATED:20170316T153136Z
LAST-MODIFIED:20170316T153136Z
UID:3609-1489770000-1489773600@insiderguide.me
SUMMARY:Площад Свобода
DESCRIPTION:Хоро\, организирано от танцова школа “Играорци”\, на площада пред Общината. / Folklore dancing initiative\, organized by Folk Dance School Igraortsi in front of the Municipality.\nhttp://www.ruse-bg.eu/index.php
URL:https://insiderguide.me/event/folklore-dance-march/
ATTACH;FMTTYPE=image/jpeg:https://insiderguide.me/wp-content/uploads/2016/12/municipality.jpg
END:VEVENT
BEGIN:VEVENT
DTSTART;VALUE=DATE:20170317
DTEND;VALUE=DATE:20170319
DTSTAMP:20260423T021654
CREATED:20170228T101248Z
LAST-MODIFIED:20170228T101248Z
UID:3569-1489708800-1489881599@insiderguide.me
SUMMARY:Канев Център
DESCRIPTION:Национален фолклорен конкурс за изпълнители на народна музика. / National Contest for Folklore Music @ Kaneff Centre.\nhttps://www.uni-ruse.bg/kaneff
URL:https://insiderguide.me/event/folklore-music-contest-2/
ATTACH;FMTTYPE=image/jpeg:https://insiderguide.me/wp-content/uploads/2016/05/kaneff.jpg
END:VEVENT
BEGIN:VEVENT
DTSTART;TZID=Europe/Sofia:20170316T190000
DTEND;TZID=Europe/Sofia:20170316T210000
DTSTAMP:20260423T021654
CREATED:20170126T123726Z
LAST-MODIFIED:20170126T123726Z
UID:3401-1489690800-1489698000@insiderguide.me
SUMMARY:Доходно здание
DESCRIPTION:Мартенски музикални дни:\nАмадеус\nСОФИЙСКА ФИЛХАРМОНИЯ\nСолист и концертмайстор СВЕТЛИН РУСЕВ цигулка\nСолисти ЕВГЕНИ БОЖАНОВ пиано\nПАВЕЛ ЗЛАТАРОВ цигулка\nВ. А. Моцарт – Концертоне за две цигулки\, до мажор\nВ. А. Моцарт – Концерт за пиано №17\, сол мажор\nВ. А. Моцарт – Концерт за цигулка №5\, ла мажор\nВ. А. Моцарт – Концерт за пиано №23\, ла мажор. / March Music days: Sofia Philharmony\, Amadeus @ the Profit-Yielding Bldg.\nhttp://www.dohodnozdanie.com/
URL:https://insiderguide.me/event/amadeus16/
ATTACH;FMTTYPE=image/jpeg:https://insiderguide.me/wp-content/uploads/2016/07/dohodno-zdanie-ruse.jpg
END:VEVENT
BEGIN:VEVENT
DTSTART;TZID=Europe/Sofia:20170316T173000
DTEND;TZID=Europe/Sofia:20170316T190000
DTSTAMP:20260423T021654
CREATED:20170228T110041Z
LAST-MODIFIED:20170228T110051Z
UID:3586-1489685400-1489690800@insiderguide.me
SUMMARY:Регионална библиотека
DESCRIPTION:Хранене за профилактика\, лечение и добавяне на живот към годините. / The Eating Habits\, discussion @ the Library.\nhttp://www.libruse.bg/
URL:https://insiderguide.me/event/eating-habits-discuss/
ATTACH;FMTTYPE=image/jpeg:https://insiderguide.me/wp-content/uploads/2016/05/library.jpg
END:VEVENT
BEGIN:VEVENT
DTSTART;TZID=Europe/Sofia:20170316T080000
DTEND;TZID=Europe/Sofia:20170331T170000
DTSTAMP:20260423T021654
CREATED:20170320T121601Z
LAST-MODIFIED:20170320T121601Z
UID:3627-1489651200-1490979600@insiderguide.me
SUMMARY:Художествена галерия
DESCRIPTION:Музика\, обща изложба. / Music\, joint exhibition @ City Gallery.\nhttp://ruseartgallery.weebly.com/
URL:https://insiderguide.me/event/music-expo/
ATTACH;FMTTYPE=image/jpeg:https://insiderguide.me/wp-content/uploads/2016/06/gallery.jpeg
END:VEVENT
BEGIN:VEVENT
DTSTART;TZID=Europe/Sofia:20170315T190000
DTEND;TZID=Europe/Sofia:20170315T210000
DTSTAMP:20260423T021654
CREATED:20170217T080728Z
LAST-MODIFIED:20170217T080728Z
UID:3510-1489604400-1489611600@insiderguide.me
SUMMARY:Драматичен театър Сава Огнянов
DESCRIPTION:„Бурунданга“ от Жорди Галсеран. / Burundanga by Jordi Galceran @ the Theatre.\nhttp://www.theatre.ruse.bg/
URL:https://insiderguide.me/event/burundanga-march/
ATTACH;FMTTYPE=image/jpeg:https://insiderguide.me/wp-content/uploads/2016/07/dohodno-zdanie-ruse.jpg
END:VEVENT
BEGIN:VEVENT
DTSTART;TZID=Europe/Sofia:20170315T190000
DTEND;TZID=Europe/Sofia:20170315T210000
DTSTAMP:20260423T021654
CREATED:20170125T090010Z
LAST-MODIFIED:20170125T090010Z
UID:3400-1489604400-1489611600@insiderguide.me
SUMMARY:Доходно здание
DESCRIPTION:Мартенски музикални дни:\nЧетирите годишни времена\nСаксофонен квартет SIGNUM\nМАРТИНАС ЛЕВИЦКИС акордеон\nЙ. С. Бах – Италиански концерт BWV 971\nА. Вивалди – Четирите годишни времена\nА. Пиацола – Четирите годишни времена\nна Буенос Айрес. / March Music days: Signum Sax Quartet @ the Profit-Yielding Bldg.\nhttp://www.dohodnozdanie.com/
URL:https://insiderguide.me/event/signum-quartet15/
ATTACH;FMTTYPE=image/jpeg:https://insiderguide.me/wp-content/uploads/2016/07/dohodno-zdanie-ruse.jpg
END:VEVENT
BEGIN:VEVENT
DTSTART;VALUE=DATE:20170315
DTEND;VALUE=DATE:20170318
DTSTAMP:20260423T021654
CREATED:20170126T132838Z
LAST-MODIFIED:20170126T132838Z
UID:3418-1489536000-1489795199@insiderguide.me
SUMMARY:Доходно здание
DESCRIPTION:Мартенски музикални дни ДЖУНИЪР:\nSIGNUM4Kids:\nМузиката – страстта\, която ни възпламенява…\nСаксофонен квартет Signum\nМартинас Левицкис акордеон\n(пърформанс за деца и тийнейджъри). / March Music Days Junior: SIGNUM4Kids @ the Profit-Yielding Bldg.\nhttp://www.dohodnozdanie.com/
URL:https://insiderguide.me/event/signum4kids15/
ATTACH;FMTTYPE=image/jpeg:https://insiderguide.me/wp-content/uploads/2016/07/dohodno-zdanie-ruse.jpg
END:VEVENT
BEGIN:VEVENT
DTSTART;TZID=Europe/Sofia:20170314T190000
DTEND;TZID=Europe/Sofia:20170314T210000
DTSTAMP:20260423T021654
CREATED:20170125T085903Z
LAST-MODIFIED:20170125T085903Z
UID:3399-1489518000-1489525200@insiderguide.me
SUMMARY:Доходно здание
DESCRIPTION:Мартенски музикални дни:\nДуо кончертанте:\n20 години концертна дейност\nРОСЕН ИДЕАЛОВ\nкларинет\nГЕОРГИТА БОЯДЖИЕВА – НИКОЛОВА\nвиолончело\nВ програмата:\nтворби от П. Хиндемит\, В. Казанджиев\nЙ. С. Бах\, Бен-Амос\, Е. М. Маккинли\nВ. А. Моцарт\, Д. Йосифов\, К. Илиев. / March Music days: Duo Concertante @ the Profit-Yielding Bldg.\nhttp://www.dohodnozdanie.com/
URL:https://insiderguide.me/event/concertante14/
ATTACH;FMTTYPE=image/jpeg:https://insiderguide.me/wp-content/uploads/2016/07/dohodno-zdanie-ruse.jpg
END:VEVENT
BEGIN:VEVENT
DTSTART;VALUE=DATE:20170314
DTEND;VALUE=DATE:20170401
DTSTAMP:20260423T021654
CREATED:20170328T073936Z
LAST-MODIFIED:20170328T073936Z
UID:3658-1489449600-1491004799@insiderguide.me
SUMMARY:Художествена галерия
DESCRIPTION:Изложба „Избрани постъпления 2015 – 2016“. / Selected paintings\, exhibition @ City Gallery.\nhttp://ruseartgallery.weebly.com/
URL:https://insiderguide.me/event/selected-paintings/
ATTACH;FMTTYPE=image/jpeg:https://insiderguide.me/wp-content/uploads/2016/06/gallery.jpeg
END:VEVENT
BEGIN:VEVENT
DTSTART;TZID=Europe/Sofia:20170313T190000
DTEND;TZID=Europe/Sofia:20170313T210000
DTSTAMP:20260423T021654
CREATED:20170125T085800Z
LAST-MODIFIED:20170125T085800Z
UID:3398-1489431600-1489438800@insiderguide.me
SUMMARY:Доходно здание
DESCRIPTION:Мартенски музикални дни:\nЕВГЕНИ БОЖАНОВ пиано\nПрограма: Й. Брамс\, Р. Шуман. / March Music days: Evgeni Bozhinov\, piano @ the Profit-Yielding Bldg.\nhttp://www.dohodnozdanie.com/
URL:https://insiderguide.me/event/bozhinov13/
ATTACH;FMTTYPE=image/jpeg:https://insiderguide.me/wp-content/uploads/2016/07/dohodno-zdanie-ruse.jpg
END:VEVENT
BEGIN:VEVENT
DTSTART;TZID=Europe/Sofia:20170312T190000
DTEND;TZID=Europe/Sofia:20170312T210000
DTSTAMP:20260423T021654
CREATED:20170124T170922Z
LAST-MODIFIED:20170124T170922Z
UID:3397-1489345200-1489352400@insiderguide.me
SUMMARY:Доходно здание
DESCRIPTION:Мартенски музикални дни:\nРУСЕНСКА ФИЛХАРМОНИЯ\nХор ДУНАВСКИ ЗВУЦИ\nДиригент ГЕОРГИ ДИМИТРОВ\nСолист: ГОТЛИБ ВАЛИШ пиано\nИВАН КОНСУЛОВ баритон\nЛ.В.Бетовен – Фантазия за пиано\, хор и оркестър\nГ. Малер – Песни на странстващия калфа\nВ. А. Моцарт – Концерт за пиано №25. / March Music Days: Rousse Philharmonic Orchestra @ the Profit-Yielding Bldg.\nhttp://www.dohodnozdanie.com/
URL:https://insiderguide.me/event/rousse-philh17/
ATTACH;FMTTYPE=image/jpeg:https://insiderguide.me/wp-content/uploads/2016/07/dohodno-zdanie-ruse.jpg
END:VEVENT
BEGIN:VEVENT
DTSTART;TZID=Europe/Sofia:20170312T180000
DTEND;TZID=Europe/Sofia:20170312T200000
DTSTAMP:20260423T021654
CREATED:20170228T100518Z
LAST-MODIFIED:20170228T100529Z
UID:3566-1489341600-1489348800@insiderguide.me
SUMMARY:Държавна опера Русе
DESCRIPTION:ТАНЦОВА ГАЛА ВЕЧЕР\, с участието на студио за модерен балет “FREEDOM”. / Dance gala evening @ Opera.\nhttp://www.ruseopera.com/
URL:https://insiderguide.me/event/dance-gala-eve2/
ATTACH;FMTTYPE=image/jpeg:https://insiderguide.me/wp-content/uploads/2016/01/operata_big-1.jpg
END:VEVENT
BEGIN:VEVENT
DTSTART;TZID=Europe/Sofia:20170312T170000
DTEND;TZID=Europe/Sofia:20170312T190000
DTSTAMP:20260423T021654
CREATED:20170126T134146Z
LAST-MODIFIED:20170126T134146Z
UID:3423-1489338000-1489345200@insiderguide.me
SUMMARY:Доходно здание
DESCRIPTION:Мартенски музикални дни\, паралелна програма:\nММД през обектива\nфотоизложба на Евгени Станимиров. / March Music Days: March Music Days\, photo exhibition @ the Profit-Yielding Bldg.\nhttp://www.dohodnozdanie.com/
URL:https://insiderguide.me/event/mmd-photo-expo12/
ATTACH;FMTTYPE=image/jpeg:https://insiderguide.me/wp-content/uploads/2016/07/dohodno-zdanie-ruse.jpg
END:VEVENT
BEGIN:VEVENT
DTSTART;TZID=Europe/Sofia:20170312T110000
DTEND;TZID=Europe/Sofia:20170312T130000
DTSTAMP:20260423T021654
CREATED:20170124T170804Z
LAST-MODIFIED:20170124T170804Z
UID:3396-1489316400-1489323600@insiderguide.me
SUMMARY:Доходно здание
DESCRIPTION:Мартенски музикални дни:\nСтрунен квартет ФРОШ\nД. Шостакович – Струнен квартет №8\, оп.110\nД. Йосифов – …Van…\nА. Хинастера – Струнен квартет №2. / March Music days: Frosch Quartet @ the Profit-Yielding Bldg.\nhttp://www.dohodnozdanie.com/
URL:https://insiderguide.me/event/frosch-quartet17/
ATTACH;FMTTYPE=image/jpeg:https://insiderguide.me/wp-content/uploads/2016/07/dohodno-zdanie-ruse.jpg
END:VEVENT
BEGIN:VEVENT
DTSTART;TZID=Europe/Sofia:20170312T110000
DTEND;TZID=Europe/Sofia:20170312T120000
DTSTAMP:20260423T021654
CREATED:20170228T110702Z
LAST-MODIFIED:20170228T110717Z
UID:3590-1489316400-1489320000@insiderguide.me
SUMMARY:Държавен куклен театър Русе
DESCRIPTION:“Принцесата и Змея”\, представление за деца. / The Princess and the Dragon\, play for children @ the Puppet House.\nhttp://puppetruse.com/
URL:https://insiderguide.me/event/princess-dragon/
ATTACH;FMTTYPE=image/jpeg:https://insiderguide.me/wp-content/uploads/2016/09/kuklen.jpg
END:VEVENT
BEGIN:VEVENT
DTSTART;TZID=Europe/Sofia:20170311T220000
DTEND;TZID=Europe/Sofia:20170311T230000
DTSTAMP:20260423T021654
CREATED:20170228T104446Z
LAST-MODIFIED:20170228T104446Z
UID:3583-1489269600-1489273200@insiderguide.me
SUMMARY:Макс клуб
DESCRIPTION:ВАСКО КРЪПКАТА И КРАСИ ТАБАКОВ ACOUSTIC\, концерт. / Vasko the Patch Krapkata & Krassi Tabakov\, acoustic live @ Max Club.\nhttp://www.maxclubruse.com/
URL:https://insiderguide.me/event/vasko-krapkata-krassi-tabakov/
ATTACH;FMTTYPE=image/jpeg:https://insiderguide.me/wp-content/uploads/2016/11/max-club.jpg
END:VEVENT
BEGIN:VEVENT
DTSTART;TZID=Europe/Sofia:20170311T220000
DTEND;TZID=Europe/Sofia:20170311T230000
DTSTAMP:20260423T021654
CREATED:20170228T103528Z
LAST-MODIFIED:20170228T103528Z
UID:3577-1489269600-1489273200@insiderguide.me
SUMMARY:Караоке стар
DESCRIPTION:Сорт & Шанолин\, НИЩО ОБЩО. / Sort & Shanolin\, Nothing in Common\, live @ Karaoke Star.\nhttps://www.facebook.com/karaokestarruse
URL:https://insiderguide.me/event/sort-shanolin-live/
ATTACH;FMTTYPE=image/jpeg:https://insiderguide.me/wp-content/uploads/2016/11/karaoke-star-300x157.jpg
END:VEVENT
BEGIN:VEVENT
DTSTART;TZID=Europe/Sofia:20170311T180000
DTEND;TZID=Europe/Sofia:20170311T200000
DTSTAMP:20260423T021654
CREATED:20170228T100425Z
LAST-MODIFIED:20170228T100425Z
UID:3565-1489255200-1489262400@insiderguide.me
SUMMARY:Държавна опера Русе
DESCRIPTION:ТАНЦОВА ГАЛА ВЕЧЕР\, с участието на студио за модерен балет “FREEDOM”. / Dance gala evening @ Opera.\nhttp://www.ruseopera.com/
URL:https://insiderguide.me/event/dance-gala-eve/
ATTACH;FMTTYPE=image/jpeg:https://insiderguide.me/wp-content/uploads/2016/01/operata_big-1.jpg
END:VEVENT
BEGIN:VEVENT
DTSTART;TZID=Europe/Sofia:20170311T170000
DTEND;TZID=Europe/Sofia:20170311T190000
DTSTAMP:20260423T021654
CREATED:20170126T134033Z
LAST-MODIFIED:20170126T134033Z
UID:3422-1489251600-1489258800@insiderguide.me
SUMMARY:Доходно здание
DESCRIPTION:Мартенски музикални дни\, паралелна програма:\nМеломания – изложба конкурс. / March Music Days: Music Lovers\, contest exhibition @ the Profit-Yielding Bldg.\nhttp://www.dohodnozdanie.com/
URL:https://insiderguide.me/event/music-lovers-expo11/
ATTACH;FMTTYPE=image/jpeg:https://insiderguide.me/wp-content/uploads/2016/07/dohodno-zdanie-ruse.jpg
END:VEVENT
BEGIN:VEVENT
DTSTART;TZID=Europe/Sofia:20170311T130000
DTEND;TZID=Europe/Sofia:20170311T170000
DTSTAMP:20260423T021654
CREATED:20170306T093542Z
LAST-MODIFIED:20170306T093542Z
UID:3594-1489237200-1489251600@insiderguide.me
SUMMARY:Startup Factory
DESCRIPTION:Как да постигнем максимално възнаграждение\, презентация (https://www.facebook.com/events/259113147848465/). / How to Achieve Higher Pay\, presentation @ the office of Startup Factory.\nhttps://www.facebook.com/events/491450197707891/
URL:https://insiderguide.me/event/higher-pay-presentation/
ATTACH;FMTTYPE=image/png:https://insiderguide.me/wp-content/uploads/2016/02/startup-factory.png
END:VEVENT
END:VCALENDAR