BEGIN:VCALENDAR
VERSION:2.0
PRODID:-// - ECPv6.15.14//NONSGML v1.0//EN
CALSCALE:GREGORIAN
METHOD:PUBLISH
X-ORIGINAL-URL:https://insiderguide.me
X-WR-CALDESC:Events for 
REFRESH-INTERVAL;VALUE=DURATION:PT1H
X-Robots-Tag:noindex
X-PUBLISHED-TTL:PT1H
BEGIN:VTIMEZONE
TZID:Europe/Sofia
BEGIN:DAYLIGHT
TZOFFSETFROM:+0200
TZOFFSETTO:+0300
TZNAME:EEST
DTSTART:20160327T010000
END:DAYLIGHT
BEGIN:STANDARD
TZOFFSETFROM:+0300
TZOFFSETTO:+0200
TZNAME:EET
DTSTART:20161030T010000
END:STANDARD
BEGIN:DAYLIGHT
TZOFFSETFROM:+0200
TZOFFSETTO:+0300
TZNAME:EEST
DTSTART:20170326T010000
END:DAYLIGHT
BEGIN:STANDARD
TZOFFSETFROM:+0300
TZOFFSETTO:+0200
TZNAME:EET
DTSTART:20171029T010000
END:STANDARD
BEGIN:DAYLIGHT
TZOFFSETFROM:+0200
TZOFFSETTO:+0300
TZNAME:EEST
DTSTART:20180325T010000
END:DAYLIGHT
BEGIN:STANDARD
TZOFFSETFROM:+0300
TZOFFSETTO:+0200
TZNAME:EET
DTSTART:20181028T010000
END:STANDARD
END:VTIMEZONE
BEGIN:VEVENT
DTSTART;TZID=Europe/Sofia:20170419T190000
DTEND;TZID=Europe/Sofia:20170419T203000
DTSTAMP:20260423T003512
CREATED:20170317T103151Z
LAST-MODIFIED:20170317T103151Z
UID:3620-1492628400-1492633800@insiderguide.me
SUMMARY:Доходно здание
DESCRIPTION:Концерт на Биг Бенд Русе. / Big Band Rousse\, live @ the Profit-Yielding Bldg.\nhttp://www.dohodnozdanie.com/
URL:https://insiderguide.me/event/big-band-rousse-april/
ATTACH;FMTTYPE=image/jpeg:https://insiderguide.me/wp-content/uploads/2016/07/dohodno2.jpg
END:VEVENT
BEGIN:VEVENT
DTSTART;TZID=Europe/Sofia:20170418T190000
DTEND;TZID=Europe/Sofia:20170418T203000
DTSTAMP:20260423T003512
CREATED:20170403T150135Z
LAST-MODIFIED:20170403T150135Z
UID:3782-1492542000-1492547400@insiderguide.me
SUMMARY:ВН Културен Център
DESCRIPTION:10 ключа към изграждането на успешен бизнес\, Светослав Димов. / 10 Keys to Build Successful Businesses @ Buddha House.\nhttps://www.facebook.com/BHCafeLibrary
URL:https://insiderguide.me/event/10keys-successful-businesses/
ATTACH;FMTTYPE=image/jpeg:https://insiderguide.me/wp-content/uploads/2016/12/bh1-min-300x225.jpg
END:VEVENT
BEGIN:VEVENT
DTSTART;TZID=Europe/Sofia:20170418T150000
DTEND;TZID=Europe/Sofia:20170418T180000
DTSTAMP:20260423T003512
CREATED:20170410T090217Z
LAST-MODIFIED:20170410T090217Z
UID:3817-1492527600-1492538400@insiderguide.me
SUMMARY:Русенски университет
DESCRIPTION:Семинар в Русе за учители. Повече на https://daskal.eu/blog/seminar-v-ruse-za-uchiteli/. / Seminar for teachers. More @ https://daskal.eu/blog/seminar-v-ruse-za-uchiteli/. Will be held @ Rousse University.\nhttps://www.uni-ruse.bg/
URL:https://insiderguide.me/event/seminar-for-teachers/
ATTACH;FMTTYPE=image/jpeg:https://insiderguide.me/wp-content/uploads/2015/12/uni-last.jpg
END:VEVENT
BEGIN:VEVENT
DTSTART;VALUE=DATE:20170417
DTEND;VALUE=DATE:20170418
DTSTAMP:20260423T003512
CREATED:20170415T165809Z
LAST-MODIFIED:20170415T165809Z
UID:3822-1492387200-1492473599@insiderguide.me
SUMMARY:Парк на младежта
DESCRIPTION:“Великденско съкровище”\, организирано от Интеракт клуб – младежи канят малки и големи да се включат в различни игри в Парка на младежта. / Easter Treasure\, organizaed by the Interact club – young people invite passers-by to get involved into different games at the Youth Park.\nhttp://www.nasamnatam.com/
URL:https://insiderguide.me/event/easter-treasure-2017/
ATTACH;FMTTYPE=image/jpeg:https://insiderguide.me/wp-content/uploads/2016/04/youth-park.jpg
END:VEVENT
BEGIN:VEVENT
DTSTART;TZID=Europe/Sofia:20170416T220000
DTEND;TZID=Europe/Sofia:20170416T235500
DTSTAMP:20260423T003512
CREATED:20170410T085859Z
LAST-MODIFIED:20170410T085859Z
UID:3815-1492380000-1492386900@insiderguide.me
SUMMARY:Бар Roots & Culture
DESCRIPTION:Секта на живо в Русе. Повече на https://www.facebook.com/events/166568117198181/. / All Age Party. More @ https://www.facebook.com/events/166568117198181/.\nhttps://www.facebook.com/RNCBar/
URL:https://insiderguide.me/event/all-age-party/
ATTACH;FMTTYPE=image/jpeg:https://insiderguide.me/wp-content/uploads/2017/04/rootsculturebar.jpg
END:VEVENT
BEGIN:VEVENT
DTSTART;TZID=Europe/Sofia:20170416T120000
DTEND;TZID=Europe/Sofia:20170416T170000
DTSTAMP:20260423T003512
CREATED:20170410T085456Z
LAST-MODIFIED:20170410T085456Z
UID:3810-1492344000-1492362000@insiderguide.me
SUMMARY:Бар Roots & Culture
DESCRIPTION:Музикален пътуващ базар за грамофонни плочи Soul Searchin. / Soul Searchin LP Traveling Bazaar @ Roots & Culture Bar.\nhttps://www.facebook.com/RNCBar/
URL:https://insiderguide.me/event/lp-bazaar/
ATTACH;FMTTYPE=image/jpeg:https://insiderguide.me/wp-content/uploads/2017/04/rootsculturebar.jpg
END:VEVENT
BEGIN:VEVENT
DTSTART;TZID=Europe/Sofia:20170416T103000
DTEND;TZID=Europe/Sofia:20170416T120000
DTSTAMP:20260423T003512
CREATED:20170403T081401Z
LAST-MODIFIED:20170403T081401Z
UID:3683-1492338600-1492344000@insiderguide.me
SUMMARY:Община Русе
DESCRIPTION:Великденско хоро съвместно с ФТТ „Найден Киров“ и изпълнители от ОбДЦКИ. / Easter Folk Dancing @ the Municipality.\nhttp://www.ruse-bg.eu/index.php
URL:https://insiderguide.me/event/easter-folk-dancing/
ATTACH;FMTTYPE=image/jpeg:https://insiderguide.me/wp-content/uploads/2016/12/municipality.jpg
END:VEVENT
BEGIN:VEVENT
DTSTART;TZID=Europe/Sofia:20170415T230000
DTEND;TZID=Europe/Sofia:20170415T233000
DTSTAMP:20260423T003512
CREATED:20170330T062412Z
LAST-MODIFIED:20170330T062412Z
UID:3677-1492297200-1492299000@insiderguide.me
SUMMARY:Стейшън Хол
DESCRIPTION:Submonks pres. “Planet Bass” 2017\, дръм-енд-бейс парти. / Submonks pres. Planet Bass 2017\, live @ Station Hall.\nhttps://www.facebook.com/Station-HALL-298379270314875/
URL:https://insiderguide.me/event/submonks-easter-2017/
ATTACH;FMTTYPE=image/jpeg:https://insiderguide.me/wp-content/uploads/2016/01/stationhall-mine.jpg
END:VEVENT
BEGIN:VEVENT
DTSTART;TZID=Europe/Sofia:20170415T220000
DTEND;TZID=Europe/Sofia:20170415T235500
DTSTAMP:20260423T003512
CREATED:20170410T085717Z
LAST-MODIFIED:20170410T085717Z
UID:3813-1492293600-1492300500@insiderguide.me
SUMMARY:Бар Roots & Culture
DESCRIPTION:Swingin’ Tonight. Повече на https://www.facebook.com/events/1898883407067811/. / Swingin’ Tonight @ Roots & Culture Bar. More @ https://www.facebook.com/events/1898883407067811/.\nhttps://www.facebook.com/RNCBar/
URL:https://insiderguide.me/event/swingin-tonight/
ATTACH;FMTTYPE=image/jpeg:https://insiderguide.me/wp-content/uploads/2017/04/rootsculturebar.jpg
END:VEVENT
BEGIN:VEVENT
DTSTART;TZID=Europe/Sofia:20170415T220000
DTEND;TZID=Europe/Sofia:20170415T220000
DTSTAMP:20260423T003512
CREATED:20170403T145319Z
LAST-MODIFIED:20170403T145319Z
UID:3772-1492293600-1492293600@insiderguide.me
SUMMARY:Караоке стар
DESCRIPTION:Last Remains\, As Orchids Wither\, 8 m/s\, This Burning Day\, концерт. / Last Remains\, As Orchids Wither\, 8 m/s\, This Burning Day\, live @ Karaoke Star.\nhttps://www.facebook.com/karaokestarruse
URL:https://insiderguide.me/event/last-remains-15april/
ATTACH;FMTTYPE=image/jpeg:https://insiderguide.me/wp-content/uploads/2016/11/karaoke-star-300x157.jpg
END:VEVENT
BEGIN:VEVENT
DTSTART;TZID=Europe/Sofia:20170415T220000
DTEND;TZID=Europe/Sofia:20170415T220000
DTSTAMP:20260423T003512
CREATED:20170403T144856Z
LAST-MODIFIED:20170403T144856Z
UID:3764-1492293600-1492293600@insiderguide.me
SUMMARY:Макс клуб
DESCRIPTION:“The Real Dream Theater Tribute “\, концерт. / The Real Dream Theater Tribute \, live @ Max Club.\nhttp://www.maxclubruse.com/
URL:https://insiderguide.me/event/the-real-dream-theatre-tribute/
ATTACH;FMTTYPE=image/jpeg:https://insiderguide.me/wp-content/uploads/2016/11/max-club.jpg
END:VEVENT
BEGIN:VEVENT
DTSTART;TZID=Europe/Sofia:20170415T140000
DTEND;TZID=Europe/Sofia:20170415T160000
DTSTAMP:20260423T003512
CREATED:20170316T154353Z
LAST-MODIFIED:20170316T154353Z
UID:3616-1492264800-1492272000@insiderguide.me
SUMMARY:Художествена галерия
DESCRIPTION:Арт работилница за деца. Участие само с предварително записване на 0879 27 99 39 и 082 82 17 35\, Бистра Лозанова. / Art Workshop for Children @ City Gallery.\nhttp://ruseartgallery.weebly.com/
URL:https://insiderguide.me/event/art-workshop-15april/
ATTACH;FMTTYPE=image/jpeg:https://insiderguide.me/wp-content/uploads/2016/06/gallery.jpeg
END:VEVENT
BEGIN:VEVENT
DTSTART;TZID=Europe/Sofia:20170415T100000
DTEND;TZID=Europe/Sofia:20170415T100000
DTSTAMP:20260423T003512
CREATED:20170403T150013Z
LAST-MODIFIED:20170403T150013Z
UID:3780-1492250400-1492250400@insiderguide.me
SUMMARY:ВН Културен Център
DESCRIPTION:Научна работилница за малки изследователи. / Workshop for Young Explorers @ Buddha House.\nhttps://www.facebook.com/BHCafeLibrary
URL:https://insiderguide.me/event/workshop-young-explorers/
ATTACH;FMTTYPE=image/jpeg:https://insiderguide.me/wp-content/uploads/2016/12/bh1-min-300x225.jpg
END:VEVENT
BEGIN:VEVENT
DTSTART;TZID=Europe/Sofia:20170413T190000
DTEND;TZID=Europe/Sofia:20170413T210000
DTSTAMP:20260423T003512
CREATED:20170403T143420Z
LAST-MODIFIED:20170403T143420Z
UID:3749-1492110000-1492117200@insiderguide.me
SUMMARY:Държавна опера Русе
DESCRIPTION:Международен майсторски клас по оперно дирижиране под ръководството на Деян Савич. „Мадам  Бътерфлай“ – опера от Джакомо Пучини. Диригенти: Крис МакКракън\, Набуаки Наката и  Пиер Валтер. Участват: Владислава Гарвалова\, Ребека Ан Старлин Мая Владимирова\, Петър Костов\, Александър Крунев\, Димитър Кюркчиев\, Стоян Стоянджов\, Георги Ганчев. Оркестър\, хор и солисти на Държавна опера – Русе. / International Master Class in Conducting @ Opera.\nhttp://www.ruseopera.com/
URL:https://insiderguide.me/event/master-class-conducting-13april/
ATTACH;FMTTYPE=image/jpeg:https://insiderguide.me/wp-content/uploads/2016/01/operata_big.jpg
END:VEVENT
BEGIN:VEVENT
DTSTART;TZID=Europe/Sofia:20170413T190000
DTEND;TZID=Europe/Sofia:20170413T210000
DTSTAMP:20260423T003512
CREATED:20170403T142722Z
LAST-MODIFIED:20170403T142728Z
UID:3737-1492110000-1492117200@insiderguide.me
SUMMARY:Драматичен театър "Сава Огнянов"
DESCRIPTION:Премиера „Дуелът“\, адаптация по пиесата „Двубой” от Иван Вазов. Режисьор Йосиф Сърчаджиев. Участват: Дайана Михайлова\, Дина Шошева\,  Надя Банчева\, Ясена Господинова\, Венцислав Петков\, Ивайло Спасимиров\, Ивайло Ненов\, Кадри Хабил\, Велико Великов\, Любомир Кънев. / The Duel (premiere)\, play @ the Theatre.\nhttp://www.theatre.ruse.bg/
URL:https://insiderguide.me/event/duel-premiere-13april/
ATTACH;FMTTYPE=image/jpeg:https://insiderguide.me/wp-content/uploads/2016/07/dohodno5.jpg
END:VEVENT
BEGIN:VEVENT
DTSTART;TZID=Europe/Sofia:20170413T180000
DTEND;TZID=Europe/Sofia:20170413T193000
DTSTAMP:20260423T003512
CREATED:20170403T084744Z
LAST-MODIFIED:20170403T084744Z
UID:3719-1492106400-1492111800@insiderguide.me
SUMMARY:Исторически музей
DESCRIPTION:„33 албума от социализма“. Автори: проф. Николай Ненов\, Искрен Великов и Диляна Иванова. / 33 Albums from Socialism @ the Regional Museum of History.\nhttp://www.museumruse.com/
URL:https://insiderguide.me/event/socialism-albums/
ATTACH;FMTTYPE=image/jpeg:https://insiderguide.me/wp-content/uploads/2016/06/muzei.jpg
END:VEVENT
BEGIN:VEVENT
DTSTART;TZID=Europe/Sofia:20170412T190000
DTEND;TZID=Europe/Sofia:20170412T210000
DTSTAMP:20260423T003512
CREATED:20170228T101820Z
LAST-MODIFIED:20170228T101820Z
UID:3570-1492023600-1492030800@insiderguide.me
SUMMARY:Доходно здание
DESCRIPTION:“Осмото чудо”\, новият спектакъл на “Българе”. / The Eighth Miracle\, by folklore ensemble Bulgare @ the Profit-Yielding Bldg.\nhttp://www.dohodnozdanie.com/
URL:https://insiderguide.me/event/eighth-miracle-bulgare/
ATTACH;FMTTYPE=image/jpeg:https://insiderguide.me/wp-content/uploads/2016/07/dohodno-zdanie-ruse.jpg
END:VEVENT
BEGIN:VEVENT
DTSTART;TZID=Europe/Sofia:20170411T190000
DTEND;TZID=Europe/Sofia:20170411T210000
DTSTAMP:20260423T003512
CREATED:20170403T142007Z
LAST-MODIFIED:20170403T142007Z
UID:3727-1491937200-1491944400@insiderguide.me
SUMMARY:Драматичен театър Сава Огнянов
DESCRIPTION:Драматичен театър – Търговище: “Да се влюбиш в пеперуда” – автор Ленард Герш. Режисьор Александър Илинденов. Участват: Параскева Джукелова\, Теменуга Первазова\, Симеон Велков\, Ивайло Брусовски. / Falling In Love With a Butterfly\, play @ the Drama Theatre.\nhttp://www.theatre.ruse.bg/
URL:https://insiderguide.me/event/falling-in-love-butterfly/
ATTACH;FMTTYPE=image/jpeg:https://insiderguide.me/wp-content/uploads/2016/07/dohodno5.jpg
END:VEVENT
BEGIN:VEVENT
DTSTART;TZID=Europe/Sofia:20170411T190000
DTEND;TZID=Europe/Sofia:20170411T210000
DTSTAMP:20260423T003512
CREATED:20170217T080125Z
LAST-MODIFIED:20170217T080125Z
UID:3506-1491937200-1491944400@insiderguide.me
SUMMARY:Канев Център
DESCRIPTION:“Жена ми се казва Борис”. / My Wife’s Name’s Boris @ Kaneff Centre.\nhttps://www.uni-ruse.bg/kaneff
URL:https://insiderguide.me/event/mywifes-names-boris-april/
ATTACH;FMTTYPE=image/jpeg:https://insiderguide.me/wp-content/uploads/2016/05/kaneff.jpg
END:VEVENT
BEGIN:VEVENT
DTSTART;VALUE=DATE:20170411
DTEND;VALUE=DATE:20170504
DTSTAMP:20260423T003512
CREATED:20170328T073752Z
LAST-MODIFIED:20170328T073752Z
UID:3656-1491868800-1493855999@insiderguide.me
SUMMARY:Художествена галерия
DESCRIPTION:„Национален конкурс Алианц България за живопис\, скулптура и графика”\, изложба. / National contest of Allianz Bank Nulgaria for painting\, exhibition @ City Gallery.\nhttp://ruseartgallery.weebly.com/
URL:https://insiderguide.me/event/national-contest-allianz/
ATTACH;FMTTYPE=image/jpeg:https://insiderguide.me/wp-content/uploads/2016/06/gallery.jpeg
END:VEVENT
BEGIN:VEVENT
DTSTART;VALUE=DATE:20170411
DTEND;VALUE=DATE:20170414
DTSTAMP:20260423T003512
CREATED:20170405T124921Z
LAST-MODIFIED:20170405T124921Z
UID:3797-1491868800-1492127999@insiderguide.me
SUMMARY:Исторически музей
DESCRIPTION:„Музейни приключения“\, тридневна работилница за ученици от 1 до 4 клас. Таксата за участие е 5.00 лв. на ден. Максималният брой учениците в групата е 15. Записването се извършва до запълване на бройките на 0886 072 085. / Adventures in the Museum\, workshop for first-\, second-\, third-\, and fourth-graders @ the Regional Museum of History.\nhttp://www.museumruse.com/
URL:https://insiderguide.me/event/adventures-museum/
ATTACH;FMTTYPE=image/jpeg:https://insiderguide.me/wp-content/uploads/2016/06/muzei.jpg
END:VEVENT
BEGIN:VEVENT
DTSTART;TZID=Europe/Sofia:20170410T190000
DTEND;TZID=Europe/Sofia:20170410T210000
DTSTAMP:20260423T003512
CREATED:20170403T143300Z
LAST-MODIFIED:20170403T143308Z
UID:3746-1491850800-1491858000@insiderguide.me
SUMMARY:Държавна опера Русе
DESCRIPTION:Международен майсторски клас по оперно дирижиране под ръководството на Деян Савич. „Самсон и Далила“ – опера от Камий Сен- Санс. Диригенти: Алекс Поликов\, Карън Капфпийрър и Андрин Холчи. Режисьор Александър Текелиев. Хореография Марияна Захариевa. Участват: Андреана Николова\, Петър Костов Александър Крунев\, Момчил Миланов\, Георги Ганчев Стоян Стоянджов\, Александър Баранов и Пламен Троански. Оркестър\, хор\, балет и солисти на Държавна опера- Русе. / International Master Class in Conducting @ Opera.\nhttp://www.ruseopera.com/
URL:https://insiderguide.me/event/master-class-conducting-10april/
ATTACH;FMTTYPE=image/jpeg:https://insiderguide.me/wp-content/uploads/2016/01/operata_big.jpg
END:VEVENT
BEGIN:VEVENT
DTSTART;TZID=Europe/Sofia:20170410T190000
DTEND;TZID=Europe/Sofia:20170410T210000
DTSTAMP:20260423T003512
CREATED:20170403T142630Z
LAST-MODIFIED:20170403T142630Z
UID:3735-1491850800-1491858000@insiderguide.me
SUMMARY:Драматичен театър "Сава Огнянов"
DESCRIPTION:Премиера „Дуелът“\, адаптация по пиесата „Двубой” от Иван Вазов. Режисьор Йосиф Сърчаджиев. Участват: Дайана Михайлова\, Дина Шошева\,  Надя Банчева\, Ясена Господинова\, Венцислав Петков\, Ивайло Спасимиров\, Ивайло Ненов\, Кадри Хабил\,Велико Великов\, Любомир Кънев. / The Duel (premiere)\, play @ the Theatre.\nhttp://www.theatre.ruse.bg/
URL:https://insiderguide.me/event/duel-premiere-10april/
ATTACH;FMTTYPE=image/jpeg:https://insiderguide.me/wp-content/uploads/2016/07/dohodno5.jpg
END:VEVENT
BEGIN:VEVENT
DTSTART;TZID=Europe/Sofia:20170410T180000
DTEND;TZID=Europe/Sofia:20170410T200000
DTSTAMP:20260423T003512
CREATED:20170405T135104Z
LAST-MODIFIED:20170405T135104Z
UID:3799-1491847200-1491854400@insiderguide.me
SUMMARY:Доходно здание
DESCRIPTION:Традиционна Великденска изложба на „Дунавска задруга на народните художествени занаяти“. / Traditional exhibition of the Fellowship of Traditional Crafts @ the Profit-Yielding Bldg.\nhttp://www.dohodnozdanie.com/
URL:https://insiderguide.me/event/danube-fellowship-expo/
ATTACH;FMTTYPE=image/jpeg:https://insiderguide.me/wp-content/uploads/2016/07/dohodno-zdanie-ruse.jpg
END:VEVENT
BEGIN:VEVENT
DTSTART;TZID=Europe/Sofia:20170409T110000
DTEND;TZID=Europe/Sofia:20170409T120000
DTSTAMP:20260423T003512
CREATED:20170403T083419Z
LAST-MODIFIED:20170403T083419Z
UID:3703-1491735600-1491739200@insiderguide.me
SUMMARY:Държавен куклен театър Русе
DESCRIPTION:“Пепеляшка”\, представление за деца. / Cinderella\, play for children @ the Puppet House.\nhttp://puppetruse.com/
URL:https://insiderguide.me/event/cinderella-april/
ATTACH;FMTTYPE=image/jpeg:https://insiderguide.me/wp-content/uploads/2016/01/kuklen_teatur_ruse.jpg
END:VEVENT
BEGIN:VEVENT
DTSTART;TZID=Europe/Sofia:20170408T220000
DTEND;TZID=Europe/Sofia:20170408T220000
DTSTAMP:20260423T003512
CREATED:20170403T145224Z
LAST-MODIFIED:20170403T145224Z
UID:3770-1491688800-1491688800@insiderguide.me
SUMMARY:Караоке стар
DESCRIPTION:Stockholm\, концерт. / Stockholm\, live @ Karaoke Star.\nhttps://www.facebook.com/karaokestarruse
URL:https://insiderguide.me/event/stockholm-8april/
ATTACH;FMTTYPE=image/jpeg:https://insiderguide.me/wp-content/uploads/2016/11/karaoke-star-300x157.jpg
END:VEVENT
BEGIN:VEVENT
DTSTART;TZID=Europe/Sofia:20170408T220000
DTEND;TZID=Europe/Sofia:20170408T220000
DTSTAMP:20260423T003512
CREATED:20170403T144757Z
LAST-MODIFIED:20170403T144757Z
UID:3762-1491688800-1491688800@insiderguide.me
SUMMARY:Макс клуб
DESCRIPTION:“Ugly Pearls”\, концерт. / Ugly Pearls\, live @ Max Club.\nhttp://www.maxclubruse.com/
URL:https://insiderguide.me/event/ugly-pearls-8april/
ATTACH;FMTTYPE=image/jpeg:https://insiderguide.me/wp-content/uploads/2016/11/max-club.jpg
END:VEVENT
BEGIN:VEVENT
DTSTART;TZID=Europe/Sofia:20170408T140000
DTEND;TZID=Europe/Sofia:20170408T160000
DTSTAMP:20260423T003512
CREATED:20170316T154302Z
LAST-MODIFIED:20170316T154302Z
UID:3615-1491660000-1491667200@insiderguide.me
SUMMARY:Художествена галерия
DESCRIPTION:Арт работилница за деца. Участие само с предварително записване на 0879 27 99 39 и 082 82 17 35\, Бистра Лозанова. / Art Workshop for Children @ City Gallery.\nhttp://ruseartgallery.weebly.com/
URL:https://insiderguide.me/event/art-workshop-8april/
ATTACH;FMTTYPE=image/jpeg:https://insiderguide.me/wp-content/uploads/2016/06/gallery.jpeg
END:VEVENT
BEGIN:VEVENT
DTSTART;TZID=Europe/Sofia:20170408T110000
DTEND;TZID=Europe/Sofia:20170408T130000
DTSTAMP:20260423T003512
CREATED:20170403T145725Z
LAST-MODIFIED:20170403T145725Z
UID:3776-1491649200-1491656400@insiderguide.me
SUMMARY:ВН Културен Център
DESCRIPTION:Как да създаваме работещи бизнес решения с дизайн мислене?\, презентация. / Creating Successful Businesses Combined with Design Options\, presentation @ Buddha House.\nhttps://www.facebook.com/BHCafeLibrary
URL:https://insiderguide.me/event/successful-businesses-design/
ATTACH;FMTTYPE=image/jpeg:https://insiderguide.me/wp-content/uploads/2016/12/bh1-min-300x225.jpg
END:VEVENT
BEGIN:VEVENT
DTSTART;TZID=Europe/Sofia:20170408T103000
DTEND;TZID=Europe/Sofia:20170408T171500
DTSTAMP:20260423T003512
CREATED:20170316T152738Z
LAST-MODIFIED:20170316T152738Z
UID:3608-1491647400-1491671700@insiderguide.me
SUMMARY:Русенски университет
DESCRIPTION:Muffin Conference Ruse 2017\, конференция. Повече на https://www.facebook.com/events/185625141927683/. / Muffin Conference Ruse 2017. More @ https://www.facebook.com/events/185625141927683/. Will be held @ Rousse University.\nhttps://www.uni-ruse.bg/
URL:https://insiderguide.me/event/muffin-conf-2017/
ATTACH;FMTTYPE=image/jpeg:https://insiderguide.me/wp-content/uploads/2016/02/Optimized-IMG_0293.jpg
END:VEVENT
END:VCALENDAR