BEGIN:VCALENDAR
VERSION:2.0
PRODID:-// - ECPv6.15.14//NONSGML v1.0//EN
CALSCALE:GREGORIAN
METHOD:PUBLISH
X-ORIGINAL-URL:https://insiderguide.me
X-WR-CALDESC:Events for 
REFRESH-INTERVAL;VALUE=DURATION:PT1H
X-Robots-Tag:noindex
X-PUBLISHED-TTL:PT1H
BEGIN:VTIMEZONE
TZID:Europe/Sofia
BEGIN:DAYLIGHT
TZOFFSETFROM:+0200
TZOFFSETTO:+0300
TZNAME:EEST
DTSTART:20160327T010000
END:DAYLIGHT
BEGIN:STANDARD
TZOFFSETFROM:+0300
TZOFFSETTO:+0200
TZNAME:EET
DTSTART:20161030T010000
END:STANDARD
BEGIN:DAYLIGHT
TZOFFSETFROM:+0200
TZOFFSETTO:+0300
TZNAME:EEST
DTSTART:20170326T010000
END:DAYLIGHT
BEGIN:STANDARD
TZOFFSETFROM:+0300
TZOFFSETTO:+0200
TZNAME:EET
DTSTART:20171029T010000
END:STANDARD
BEGIN:DAYLIGHT
TZOFFSETFROM:+0200
TZOFFSETTO:+0300
TZNAME:EEST
DTSTART:20180325T010000
END:DAYLIGHT
BEGIN:STANDARD
TZOFFSETFROM:+0300
TZOFFSETTO:+0200
TZNAME:EET
DTSTART:20181028T010000
END:STANDARD
END:VTIMEZONE
BEGIN:VEVENT
DTSTART;TZID=Europe/Sofia:20170812T140000
DTEND;TZID=Europe/Sofia:20170812T160000
DTSTAMP:20260422T192904
CREATED:20170720T110311Z
LAST-MODIFIED:20170720T110318Z
UID:4397-1502546400-1502553600@insiderguide.me
SUMMARY:Художествена галерия
DESCRIPTION:Арт работилница за деца. Участие с предварително записване на 0879 27 99 39 и 082 82 17 35\, Бистра Лозанова. / Art Workshop for Children @ City Gallery.\nhttp://ruseartgallery.weebly.com/
URL:https://insiderguide.me/event/workshop-aug12/
ATTACH;FMTTYPE=image/jpeg:https://insiderguide.me/wp-content/uploads/2016/06/gallery.jpeg
END:VEVENT
BEGIN:VEVENT
DTSTART;VALUE=DATE:20170811
DTEND;VALUE=DATE:20170812
DTSTAMP:20260422T192904
CREATED:20170804T135539Z
LAST-MODIFIED:20170804T135539Z
UID:4436-1502409600-1502495999@insiderguide.me
SUMMARY:Две Могили
DESCRIPTION:Фестивал “Орлова чука пее и танцува”. / Orlova Chuka Cave Festival @ the town of Dve Mogili.
URL:https://insiderguide.me/event/orlova-chuka-cave-fest/
ATTACH;FMTTYPE=image/jpeg:https://insiderguide.me/wp-content/uploads/2017/08/dve-mogili.jpg
END:VEVENT
BEGIN:VEVENT
DTSTART;VALUE=DATE:20170810
DTEND;VALUE=DATE:20170829
DTSTAMP:20260422T192904
CREATED:20170813T205206Z
LAST-MODIFIED:20170813T205206Z
UID:4448-1502323200-1503964799@insiderguide.me
SUMMARY:Художествена галерия
DESCRIPTION:Voubs International Photography Awards 2016 – представяне на фотографиите на победителите от конкурса. / Voubs International Photography Awards 2016\, photo exhibition @ City Gallery.\nhttp://ruseartgallery.weebly.com/
URL:https://insiderguide.me/event/vipa-2016-2/
ATTACH;FMTTYPE=image/jpeg:https://insiderguide.me/wp-content/uploads/2016/06/gallery.jpeg
END:VEVENT
BEGIN:VEVENT
DTSTART;TZID=Europe/Sofia:20170808T100000
DTEND;TZID=Europe/Sofia:20170808T120000
DTSTAMP:20260422T192904
CREATED:20170804T084819Z
LAST-MODIFIED:20170804T084819Z
UID:4414-1502186400-1502193600@insiderguide.me
SUMMARY:Площад Батенберг
DESCRIPTION:Лятна библиотека на открито. / Summer library in the open @ the Batenberg Square.\nhttps://foursquare.com/
URL:https://insiderguide.me/event/summer-library-8aug/
ATTACH;FMTTYPE=image/jpeg:https://insiderguide.me/wp-content/uploads/2016/05/batenberg.jpg
END:VEVENT
BEGIN:VEVENT
DTSTART;TZID=Europe/Sofia:20170807T160000
DTEND;TZID=Europe/Sofia:20170807T220000
DTSTAMP:20260422T192904
CREATED:20170804T095336Z
LAST-MODIFIED:20170804T095358Z
UID:4427-1502121600-1502143200@insiderguide.me
SUMMARY:Община Русе
DESCRIPTION:138 години от създаването на Военноморските сили в България.\nПрограма:\n16.00 ч. – Награждаване на военнослужещи от ВМС от кмета на град Русе и съвместна пресконференция с командира на ВМС\, кмета на град Русе и областния управител на Област Русе за представителите на медиите в Заседателна зала на Община Русе.\n18.30 – 19.00 ч. – Концерт на Представителния духов оркестър на ВМС пред Доходното здание.\n19.00 – 19.30 ч. – Празнично шествие от Доходното здание до Паметника на моряка.\n19.30 – 20.00 ч. – Военен ритуал по полагане на венци и цветя на Паметника на моряка.\n20.00 – 20.30 ч. – Празнично шествие от Паметника на моряка до площад „Свобода”.\n20.30 – 21.30 ч. – Военен ритуал за отбелязване на 138-та годишнина от създаването на ВМС\, спектакъл „Вълни” на Представителния духов оркестър и празнична заря на пл. „Свобода”. / 138 Years since the establishment of the Marine Forces in Bulgaria @ the Municipality and the Profit-Yielding Building.\nhttp://www.ruse-bg.eu/index.php
URL:https://insiderguide.me/event/marine-forces-138years/
ATTACH;FMTTYPE=image/jpeg:https://insiderguide.me/wp-content/uploads/2016/12/municipality.jpg
END:VEVENT
BEGIN:VEVENT
DTSTART;VALUE=DATE:20170806
DTEND;VALUE=DATE:20170807
DTSTAMP:20260422T192904
CREATED:20170804T094346Z
LAST-MODIFIED:20170804T094346Z
UID:4425-1501977600-1502063999@insiderguide.me
SUMMARY:Текето (Лесопарк Липник)
DESCRIPTION:Турнир по народна борба и концерт. / Wrestling tournament and live performance @ the Lipnik Forest Park.\nhttp://www.guide359.com/
URL:https://insiderguide.me/event/wrestling-nikolovo/
ATTACH;FMTTYPE=image/jpeg:https://insiderguide.me/wp-content/uploads/2016/04/teketo.jpg
END:VEVENT
BEGIN:VEVENT
DTSTART;VALUE=DATE:20170806
DTEND;VALUE=DATE:20170807
DTSTAMP:20260422T192904
CREATED:20170720T120338Z
LAST-MODIFIED:20170720T120338Z
UID:4403-1501977600-1502063999@insiderguide.me
SUMMARY:Булстрад Арена
DESCRIPTION:Демонстрационен мач на отбора на Българската федерация по тенис за хора в инвалидни колички. / Demonstration match of the team of the Bulgarian Tennis Federation for people in wheelchairs @ Bulstrad Arena.\nhttp://bulstradarena.com/
URL:https://insiderguide.me/event/wheelchairs-demo-game/
ATTACH;FMTTYPE=image/jpeg:https://insiderguide.me/wp-content/uploads/2015/12/bulstrad-arena1.jpg
END:VEVENT
BEGIN:VEVENT
DTSTART;TZID=Europe/Sofia:20170805T190000
DTEND;TZID=Europe/Sofia:20170805T230000
DTSTAMP:20260422T192904
CREATED:20170804T135244Z
LAST-MODIFIED:20170804T135244Z
UID:4434-1501959600-1501974000@insiderguide.me
SUMMARY:Площад Свобода
DESCRIPTION:Съботна жица в Русе. Повече на https://www.facebook.com/events/214675322395585/?acontext=%7B%22ref%22%3A%223%22%2C%22ref_newsfeed_story_type%22%3A%22regular%22%2C%22feed_story_type%22%3A%22263%22%2C%22action_history%22%3A%22null%22%7D. / Saturday acoustic rock live @ the Liberty Square. More @ https://www.facebook.com/events/214675322395585/?acontext=%7B%22ref%22%3A%223%22%2C%22ref_newsfeed_story_type%22%3A%22regular%22%2C%22feed_story_type%22%3A%22263%22%2C%22action_history%22%3A%22null%22%7D.\nhttps://opoznai.bg/view/
URL:https://insiderguide.me/event/sat-rock-live/
ATTACH;FMTTYPE=image/jpeg:https://insiderguide.me/wp-content/uploads/2017/07/feature-image-sights.jpg
END:VEVENT
BEGIN:VEVENT
DTSTART;TZID=Europe/Sofia:20170805T140000
DTEND;TZID=Europe/Sofia:20170805T160000
DTSTAMP:20260422T192904
CREATED:20170720T105947Z
LAST-MODIFIED:20170720T105947Z
UID:4395-1501941600-1501948800@insiderguide.me
SUMMARY:Художествена галерия
DESCRIPTION:Арт работилница за деца. Участие с предварително записване на 0879 27 99 39 и 082 82 17 35\, Бистра Лозанова. / Art Workshop for Children @ City Gallery.\nhttp://ruseartgallery.weebly.com/
URL:https://insiderguide.me/event/workshop-aug5/
ATTACH;FMTTYPE=image/jpeg:https://insiderguide.me/wp-content/uploads/2016/06/gallery.jpeg
END:VEVENT
BEGIN:VEVENT
DTSTART;TZID=Europe/Sofia:20170805T100000
DTEND;TZID=Europe/Sofia:20170805T170000
DTSTAMP:20260422T192904
CREATED:20170720T104245Z
LAST-MODIFIED:20170720T104856Z
UID:4382-1501927200-1501952400@insiderguide.me
SUMMARY:Регионална библиотека
DESCRIPTION:Събуждане\, семинар\, организиран от клуб “Здраве”. / Awakening\, seminar organized by Zdrave Club @ the Library.\nhttp://www.libruse.bg/
URL:https://insiderguide.me/event/awakening-aug5-2017/
ATTACH;FMTTYPE=image/jpeg:https://insiderguide.me/wp-content/uploads/2016/05/library.jpg
END:VEVENT
BEGIN:VEVENT
DTSTART;VALUE=DATE:20170805
DTEND;VALUE=DATE:20170806
DTSTAMP:20260422T192904
CREATED:20170720T092900Z
LAST-MODIFIED:20170720T092900Z
UID:4380-1501891200-1501977599@insiderguide.me
SUMMARY:Текето (Лесопарк Липник)
DESCRIPTION:Седми национален фолклорен събор на любителските клубове по народни танци “Липник 2017”. / Seventh national festival for amateur folk dancers Lipnik 2017 @ the Lipnik Forest Park.\nhttp://www.guide359.com/
URL:https://insiderguide.me/event/lipnik2017-folk-dances/
ATTACH;FMTTYPE=image/jpeg:https://insiderguide.me/wp-content/uploads/2016/04/teketo.jpg
END:VEVENT
BEGIN:VEVENT
DTSTART;TZID=Europe/Sofia:20170804T220000
DTEND;TZID=Europe/Sofia:20170804T233000
DTSTAMP:20260422T192904
CREATED:20170804T135015Z
LAST-MODIFIED:20170804T135015Z
UID:4432-1501884000-1501889400@insiderguide.me
SUMMARY:Бар Roots & Culture
DESCRIPTION:TechNation Volume I. Повече на https://www.facebook.com/events/1403460703034541/?acontext=%7B%22ref%22%3A%223%22%2C%22ref_newsfeed_story_type%22%3A%22regular%22%2C%22feed_story_type%22%3A%22279%22%2C%22action_history%22%3A%22null%22%7D. / TechNation Volume I. More @ https://www.facebook.com/events/1403460703034541/?acontext=%7B%22ref%22%3A%223%22%2C%22ref_newsfeed_story_type%22%3A%22regular%22%2C%22feed_story_type%22%3A%22279%22%2C%22action_history%22%3A%22null%22%7D.\nhttps://www.facebook.com/RNCBar/
URL:https://insiderguide.me/event/technation-volone/
ATTACH;FMTTYPE=image/jpeg:https://insiderguide.me/wp-content/uploads/2017/04/rootsculturebar.jpg
END:VEVENT
BEGIN:VEVENT
DTSTART;TZID=Europe/Sofia:20170804T190000
DTEND;TZID=Europe/Sofia:20170804T220000
DTSTAMP:20260422T192904
CREATED:20170804T094048Z
LAST-MODIFIED:20170804T094048Z
UID:4423-1501873200-1501884000@insiderguide.me
SUMMARY:Текето (Лесопарк Липник)
DESCRIPTION:Ден на отдиха. / Relaxation Day @ the Lipnik Forest Park.\nhttp://www.guide359.com/
URL:https://insiderguide.me/event/reaxation-day-2017/
ATTACH;FMTTYPE=image/jpeg:https://insiderguide.me/wp-content/uploads/2016/04/teketo.jpg
END:VEVENT
BEGIN:VEVENT
DTSTART;TZID=Europe/Sofia:20170804T100000
DTEND;TZID=Europe/Sofia:20170804T120000
DTSTAMP:20260422T192904
CREATED:20170804T084718Z
LAST-MODIFIED:20170804T084718Z
UID:4412-1501840800-1501848000@insiderguide.me
SUMMARY:Площад Батенберг
DESCRIPTION:Лятна библиотека на открито. / Summer library in the open @ the Batenberg Square.\nhttps://foursquare.com/
URL:https://insiderguide.me/event/summer-library-4aug2017/
ATTACH;FMTTYPE=image/jpeg:https://insiderguide.me/wp-content/uploads/2016/05/batenberg.jpg
END:VEVENT
BEGIN:VEVENT
DTSTART;TZID=Europe/Sofia:20170802T190000
DTEND;TZID=Europe/Sofia:20170802T210000
DTSTAMP:20260422T192904
CREATED:20170720T105427Z
LAST-MODIFIED:20170720T105427Z
UID:4389-1501700400-1501707600@insiderguide.me
SUMMARY:Държавна опера Русе
DESCRIPTION:“Мария Десислава”\, опера от Парашкев Хаджиев. / Maria Desislava\, opera by Parashkev Hadjiev @ the Opera House.\nhttp://www.ruseopera.com/
URL:https://insiderguide.me/event/maria-desislava-aug2017/
ATTACH;FMTTYPE=image/jpeg:https://insiderguide.me/wp-content/uploads/2016/11/operata6.jpg
END:VEVENT
BEGIN:VEVENT
DTSTART;VALUE=DATE:20170731
DTEND;VALUE=DATE:20170805
DTSTAMP:20260422T192904
CREATED:20170618T100830Z
LAST-MODIFIED:20170618T100830Z
UID:4231-1501459200-1501891199@insiderguide.me
SUMMARY:Исторически музей
DESCRIPTION:“Лято в музея”\, занималня за деца 7-11 години от 9:30 до 13:00 часа. / Summer in the Museum\, workshops for children aged 7-11\, from 9:30AM to 1:00PM @ the Regional Museum of History.\nhttp://www.museumruse.com/
URL:https://insiderguide.me/event/summer-museum-august2017/
ATTACH;FMTTYPE=image/jpeg:https://insiderguide.me/wp-content/uploads/2016/06/muzei.jpg
END:VEVENT
BEGIN:VEVENT
DTSTART;TZID=Europe/Sofia:20170729T180000
DTEND;TZID=Europe/Sofia:20170729T193000
DTSTAMP:20260422T192904
CREATED:20170705T183002Z
LAST-MODIFIED:20170705T183002Z
UID:4303-1501351200-1501356600@insiderguide.me
SUMMARY:Площад Свобода
DESCRIPTION:Ruse Summer Free Tour\, безплатни пешеходни туристически обиколки в централите части на Русе. Повече на https://www.facebook.com/rusesummerfreetour/. / Ruse Summer Free Tour. More @ https://www.facebook.com/rusesummerfreetour/.
URL:https://insiderguide.me/event/ruse-summer-free-tour-july29/
ATTACH;FMTTYPE=image/jpeg:https://insiderguide.me/wp-content/uploads/2017/07/feature-image-sights.jpg
END:VEVENT
BEGIN:VEVENT
DTSTART;TZID=Europe/Sofia:20170729T140000
DTEND;TZID=Europe/Sofia:20170729T160000
DTSTAMP:20260422T192904
CREATED:20170720T105836Z
LAST-MODIFIED:20170720T105836Z
UID:4393-1501336800-1501344000@insiderguide.me
SUMMARY:Художествена галерия
DESCRIPTION:Арт работилница за деца. Участие с предварително записване на 0879 27 99 39 и 082 82 17 35\, Бистра Лозанова. / Art Workshop for Children @ City Gallery.\nhttp://ruseartgallery.weebly.com/
URL:https://insiderguide.me/event/workshop-jul29/
ATTACH;FMTTYPE=image/jpeg:https://insiderguide.me/wp-content/uploads/2016/06/gallery.jpeg
END:VEVENT
BEGIN:VEVENT
DTSTART;TZID=Europe/Sofia:20170729T100000
DTEND;TZID=Europe/Sofia:20170729T170000
DTSTAMP:20260422T192904
CREATED:20170720T105048Z
LAST-MODIFIED:20170720T105048Z
UID:4386-1501322400-1501347600@insiderguide.me
SUMMARY:Регионална библиотека
DESCRIPTION:Събуждане\, семинар\, организиран от клуб “Здраве”. / Awakening\, seminar organized by Zdrave Club @ the Library.\nhttp://www.libruse.bg/
URL:https://insiderguide.me/event/awakening-jul29-2017/
ATTACH;FMTTYPE=image/jpeg:https://insiderguide.me/wp-content/uploads/2016/05/library.jpg
END:VEVENT
BEGIN:VEVENT
DTSTART;VALUE=DATE:20170729
DTEND;VALUE=DATE:20170730
DTSTAMP:20260422T192904
CREATED:20170705T052656Z
LAST-MODIFIED:20170705T052656Z
UID:4289-1501286400-1501372799@insiderguide.me
SUMMARY:МОЛ Русе
DESCRIPTION:Приказка ще прочетем. След това ще изберем начин да изобразим с вас героя най-любим. / Art workshop for children @ the Rousse MALL.\nhttp://www.mallrousse.bg/
URL:https://insiderguide.me/event/artworkshop-july29/
ATTACH;FMTTYPE=image/jpeg:https://insiderguide.me/wp-content/uploads/2016/07/IMG_4856.jpg
END:VEVENT
BEGIN:VEVENT
DTSTART;TZID=Europe/Sofia:20170728T190000
DTEND;TZID=Europe/Sofia:20170728T210000
DTSTAMP:20260422T192904
CREATED:20170705T045507Z
LAST-MODIFIED:20170705T045635Z
UID:4271-1501268400-1501275600@insiderguide.me
SUMMARY:Държавна опера Русе
DESCRIPTION:“Мадам Бътерфлай”\, опера. / Madama Butterfly\, opera @ the Opera House.\nhttp://www.ruseopera.com/
URL:https://insiderguide.me/event/madama-butterfly-july2017/
ATTACH;FMTTYPE=image/jpeg:https://insiderguide.me/wp-content/uploads/2016/01/operata_big-1.jpg
END:VEVENT
BEGIN:VEVENT
DTSTART;VALUE=DATE:20170728
DTEND;VALUE=DATE:20170730
DTSTAMP:20260422T192904
CREATED:20170712T091309Z
LAST-MODIFIED:20170712T091309Z
UID:4369-1501200000-1501372799@insiderguide.me
SUMMARY:Регионална библиотека
DESCRIPTION:Работилница по актьорско майсторство от 10 до 18 часа на 28 и 29 юли. / Art Workshop on July 28 and 29 from 10am till 6pm. Will be held @ the Library.\nhttp://www.libruse.bg/
URL:https://insiderguide.me/event/art-workshop-july/
ATTACH;FMTTYPE=image/jpeg:https://insiderguide.me/wp-content/uploads/2016/05/library.jpg
END:VEVENT
BEGIN:VEVENT
DTSTART;VALUE=DATE:20170724
DTEND;VALUE=DATE:20170819
DTSTAMP:20260422T192904
CREATED:20170720T104639Z
LAST-MODIFIED:20170720T104639Z
UID:4384-1500854400-1503100799@insiderguide.me
SUMMARY:Регионална библиотека
DESCRIPTION:Подготвителен курс за държавен зрелостен изпит по Български език и литература от 10 до 12:30 часа от 24 юли до 18 август. / Prep course for the exam in Bulgarian Language and Literature from July 24 to August 18 starting at 10am until 12:30pm. Will be held @ the Library.\nhttp://www.libruse.bg/
URL:https://insiderguide.me/event/pre-course-bglitandlang/
ATTACH;FMTTYPE=image/jpeg:https://insiderguide.me/wp-content/uploads/2016/05/library.jpg
END:VEVENT
BEGIN:VEVENT
DTSTART;TZID=Europe/Sofia:20170722T180000
DTEND;TZID=Europe/Sofia:20170722T193000
DTSTAMP:20260422T192904
CREATED:20170705T182908Z
LAST-MODIFIED:20170705T182908Z
UID:4301-1500746400-1500751800@insiderguide.me
SUMMARY:Площад Свобода
DESCRIPTION:Ruse Summer Free Tour\, безплатни пешеходни туристически обиколки в централите части на Русе. Повече на https://www.facebook.com/rusesummerfreetour/. / Ruse Summer Free Tour. More @ https://www.facebook.com/rusesummerfreetour/.
URL:https://insiderguide.me/event/ruse-summer-free-tour-july22/
ATTACH;FMTTYPE=image/jpeg:https://insiderguide.me/wp-content/uploads/2017/07/feature-image-sights.jpg
END:VEVENT
BEGIN:VEVENT
DTSTART;TZID=Europe/Sofia:20170722T140000
DTEND;TZID=Europe/Sofia:20170722T160000
DTSTAMP:20260422T192904
CREATED:20170720T105735Z
LAST-MODIFIED:20170720T105735Z
UID:4391-1500732000-1500739200@insiderguide.me
SUMMARY:Художествена галерия
DESCRIPTION:Арт работилница за деца. Участие с предварително записване на 0879 27 99 39 и 082 82 17 35\, Бистра Лозанова. / Art Workshop for Children @ City Gallery.\nhttp://ruseartgallery.weebly.com/
URL:https://insiderguide.me/event/workshop-jul22/
ATTACH;FMTTYPE=image/jpeg:https://insiderguide.me/wp-content/uploads/2016/06/gallery.jpeg
END:VEVENT
BEGIN:VEVENT
DTSTART;VALUE=DATE:20170722
DTEND;VALUE=DATE:20170724
DTSTAMP:20260422T192904
CREATED:20170720T120632Z
LAST-MODIFIED:20170720T120632Z
UID:4405-1500681600-1500854399@insiderguide.me
SUMMARY:МОЛ Русе
DESCRIPTION:Кулинарно събитие на списанието на BBC GoodFood – на 22 и 23 юли от 16 часа на партера на Mall Rousse. / BBC GoodFood Magazine visits the city. July 22 and 23 at 4pm on the ground floor @ the Rousse MALL.\nhttp://www.mallrousse.bg/
URL:https://insiderguide.me/event/bbc-goodfood-rousse/
ATTACH;FMTTYPE=image/jpeg:https://insiderguide.me/wp-content/uploads/2016/07/IMG_4856.jpg
END:VEVENT
BEGIN:VEVENT
DTSTART;VALUE=DATE:20170722
DTEND;VALUE=DATE:20170723
DTSTAMP:20260422T192904
CREATED:20170705T052603Z
LAST-MODIFIED:20170705T052603Z
UID:4287-1500681600-1500767999@insiderguide.me
SUMMARY:МОЛ Русе
DESCRIPTION:Със любов и за късмет всред полянка и край плет търсихме за вас\, дружина\, четирилистна детелина! / Art workshop for children @ the Rousse MALL.\nhttp://www.mallrousse.bg/
URL:https://insiderguide.me/event/artworkshop-july22/
ATTACH;FMTTYPE=image/jpeg:https://insiderguide.me/wp-content/uploads/2016/07/IMG_4856.jpg
END:VEVENT
BEGIN:VEVENT
DTSTART;TZID=Europe/Sofia:20170720T180000
DTEND;TZID=Europe/Sofia:20170720T190000
DTSTAMP:20260422T192904
CREATED:20170720T092506Z
LAST-MODIFIED:20170720T092506Z
UID:4377-1500573600-1500577200@insiderguide.me
SUMMARY:Книжарница Хеликон
DESCRIPTION:Представяне на сборника с разкази “Преодоляване”. / Overcoming\, presentation of the book with poems @ Helikon Bookstore.\nhttps://www.helikon.bg/helikon/132_ruse.html
URL:https://insiderguide.me/event/overcoming-book/
ATTACH;FMTTYPE=image/jpeg:https://insiderguide.me/wp-content/uploads/2017/07/helikon.jpg
END:VEVENT
BEGIN:VEVENT
DTSTART;TZID=Europe/Sofia:20170719T173000
DTEND;TZID=Europe/Sofia:20170719T190000
DTSTAMP:20260422T192904
CREATED:20170712T093152Z
LAST-MODIFIED:20170712T093152Z
UID:4372-1500485400-1500490800@insiderguide.me
SUMMARY:Община Русе
DESCRIPTION:Национален протест “Да спрем убийствата на пътя”. Повече на https://rousse.info/. / national Protest against the War on the Roads. Will be held @ the Square in front of the Municipality.\nhttp://www.ruse-bg.eu/index.php
URL:https://insiderguide.me/event/national-protest/
ATTACH;FMTTYPE=image/jpeg:https://insiderguide.me/wp-content/uploads/2016/12/municipality.jpg
END:VEVENT
BEGIN:VEVENT
DTSTART;VALUE=DATE:20170717
DTEND;VALUE=DATE:20170801
DTSTAMP:20260422T192904
CREATED:20170720T092149Z
LAST-MODIFIED:20170720T092149Z
UID:4375-1500249600-1501545599@insiderguide.me
SUMMARY:Дружество на художниците
DESCRIPTION:Изложба-живопис на Станчо Станчев. / Stancho Stanchev\, exposition @ Association of Artists.\nhttps://www.facebook.com
URL:https://insiderguide.me/event/stancho-stanchev-expo/
ATTACH;FMTTYPE=image/jpeg:https://insiderguide.me/wp-content/uploads/2017/05/artists-association.jpg
END:VEVENT
END:VCALENDAR