BEGIN:VCALENDAR
VERSION:2.0
PRODID:-// - ECPv6.15.14//NONSGML v1.0//EN
CALSCALE:GREGORIAN
METHOD:PUBLISH
X-ORIGINAL-URL:https://insiderguide.me
X-WR-CALDESC:Events for 
REFRESH-INTERVAL;VALUE=DURATION:PT1H
X-Robots-Tag:noindex
X-PUBLISHED-TTL:PT1H
BEGIN:VTIMEZONE
TZID:Europe/Sofia
BEGIN:DAYLIGHT
TZOFFSETFROM:+0200
TZOFFSETTO:+0300
TZNAME:EEST
DTSTART:20160327T010000
END:DAYLIGHT
BEGIN:STANDARD
TZOFFSETFROM:+0300
TZOFFSETTO:+0200
TZNAME:EET
DTSTART:20161030T010000
END:STANDARD
BEGIN:DAYLIGHT
TZOFFSETFROM:+0200
TZOFFSETTO:+0300
TZNAME:EEST
DTSTART:20170326T010000
END:DAYLIGHT
BEGIN:STANDARD
TZOFFSETFROM:+0300
TZOFFSETTO:+0200
TZNAME:EET
DTSTART:20171029T010000
END:STANDARD
BEGIN:DAYLIGHT
TZOFFSETFROM:+0200
TZOFFSETTO:+0300
TZNAME:EEST
DTSTART:20180325T010000
END:DAYLIGHT
BEGIN:STANDARD
TZOFFSETFROM:+0300
TZOFFSETTO:+0200
TZNAME:EET
DTSTART:20181028T010000
END:STANDARD
END:VTIMEZONE
BEGIN:VEVENT
DTSTART;TZID=Europe/Sofia:20171009T180000
DTEND;TZID=Europe/Sofia:20171009T190000
DTSTAMP:20260422T174210
CREATED:20171008T125814Z
LAST-MODIFIED:20171008T125814Z
UID:4922-1507572000-1507575600@insiderguide.me
SUMMARY:Драматичен театър Сава Огнянов
DESCRIPTION:„Спомени …“ – изложба на театрални костюми. Художник Виолета Радкова\nПредставяне на каталога „Театър на голямата река“ с автор Крум Гергицов. / Theatrical Outfit and book presentation @ the Theatre.\nhttp://www.theatre.ruse.bg/
URL:https://insiderguide.me/event/theatrical-costumes/
ATTACH;FMTTYPE=image/jpeg:https://insiderguide.me/wp-content/uploads/2016/07/dohodno-zdanie-ruse.jpg
END:VEVENT
BEGIN:VEVENT
DTSTART;TZID=Europe/Sofia:20171008T110000
DTEND;TZID=Europe/Sofia:20171008T120000
DTSTAMP:20260422T174210
CREATED:20170928T104407Z
LAST-MODIFIED:20170928T104437Z
UID:4839-1507460400-1507464000@insiderguide.me
SUMMARY:Държавен куклен театър Русе
DESCRIPTION:“Приказка за пътя”\, представление за деца. / A Tale about the Road\, play for children @ the Puppet House.\nhttp://puppetruse.com/
URL:https://insiderguide.me/event/tale-road-oct8/
END:VEVENT
BEGIN:VEVENT
DTSTART;TZID=Europe/Sofia:20171008T080000
DTEND;TZID=Europe/Sofia:20171008T170000
DTSTAMP:20260422T174210
CREATED:20171008T111516Z
LAST-MODIFIED:20171008T111516Z
UID:4896-1507449600-1507482000@insiderguide.me
SUMMARY:Хотел Дунав Плаза
DESCRIPTION:Обучение по комуникация\, свързана с управление на риска. Повече на https://web.facebook.com/events/550080292002304/. / Training in Risk Analysis Communication\, more @ https://web.facebook.com/events/550080292002304/. Will be held @ the Dunav Plaza Hotel.
URL:https://insiderguide.me/event/risk-communication-oct10/
END:VEVENT
BEGIN:VEVENT
DTSTART;TZID=Europe/Sofia:20171007T220000
DTEND;TZID=Europe/Sofia:20171007T235500
DTSTAMP:20260422T174210
CREATED:20170928T103408Z
LAST-MODIFIED:20170928T103408Z
UID:4829-1507413600-1507420500@insiderguide.me
SUMMARY:Макс клуб
DESCRIPTION:Gary Moore Tribute Band\, концерт. / Gary Moore Tribute Band\, live @ Max Club.\nhttp://www.maxclubruse.com/
URL:https://insiderguide.me/event/gary-moore-tribute/
ATTACH;FMTTYPE=image/jpeg:https://insiderguide.me/wp-content/uploads/2016/11/max-club.jpg
END:VEVENT
BEGIN:VEVENT
DTSTART;VALUE=DATE:20171007
DTEND;VALUE=DATE:20171016
DTSTAMP:20260422T174210
CREATED:20170916T084522Z
LAST-MODIFIED:20171008T092807Z
UID:4618-1507334400-1508111999@insiderguide.me
SUMMARY:Дом Канети
DESCRIPTION:Литературен фестивал “Паралелни светове” Русе. Повече на http://thesite.bg/7-15-%D0%BE%D0%BA%D1%82%D0%BE%D0%BC%D0%B2%D1%80%D0%B8-2017-%D0%BB%D0%B8%D1%82%D0%B5%D1%80%D0%B0%D1%82%D1%83%D1%80%D0%B5%D0%BD-%D1%84%D0%B5%D1%81%D1%82%D0%B8%D0%B2%D0%B0%D0%BB-%D1%80%D1%83%D1%81/. / Parallel Worlds Ruse Literature Festival @ Canetti’s House.\nhttp://www.eliascanetti.org/251.0.html?&L=2
URL:https://insiderguide.me/event/%d0%b4%d0%be%d0%bc-%d0%ba%d0%b0%d0%bd%d0%b5%d1%82%d0%b8/
ATTACH;FMTTYPE=image/jpeg:https://insiderguide.me/wp-content/uploads/2016/11/Optimized-canetti4-300x225.jpg
END:VEVENT
BEGIN:VEVENT
DTSTART;VALUE=DATE:20171007
DTEND;VALUE=DATE:20171009
DTSTAMP:20260422T174210
CREATED:20170830T095307Z
LAST-MODIFIED:20170830T095307Z
UID:4500-1507334400-1507507199@insiderguide.me
SUMMARY:Русенски университет
DESCRIPTION:Хакатон CODE4TECH 2.0 – Русе 2017. / 2017 RUSE CODE4TECH 2.0 Hackaton @ Rousse University.\nhttps://www.uni-ruse.bg/
URL:https://insiderguide.me/event/hackaton-ruse-2017/
ATTACH;FMTTYPE=image/jpeg:https://insiderguide.me/wp-content/uploads/2015/12/uni-last.jpg
END:VEVENT
BEGIN:VEVENT
DTSTART;VALUE=DATE:20171006
DTEND;VALUE=DATE:20171009
DTSTAMP:20260422T174210
CREATED:20170928T110058Z
LAST-MODIFIED:20170928T110058Z
UID:4849-1507248000-1507507199@insiderguide.me
SUMMARY:Доходно здание
DESCRIPTION:Международен конкурс за млади изпълнители на българска и популярна песен „Северно сияние“. / Northern Lights International Contest for Bulgarian Song Singing @ the Profit-Yielding Bldg.\nhttp://www.dohodnozdanie.com/
URL:https://insiderguide.me/event/northern-lights-oct/
ATTACH;FMTTYPE=image/jpeg:https://insiderguide.me/wp-content/uploads/2016/07/dohodno-zdanie-ruse.jpg
END:VEVENT
BEGIN:VEVENT
DTSTART;TZID=Europe/Sofia:20171002T190000
DTEND;TZID=Europe/Sofia:20171002T210000
DTSTAMP:20260422T174210
CREATED:20170928T110427Z
LAST-MODIFIED:20170928T110446Z
UID:4851-1506970800-1506978000@insiderguide.me
SUMMARY:Драматичен театър Сава Огнянов
DESCRIPTION:„Бурунданга“ от Жорди Галсеран. / Burundanga by Jordi Galceran @ the Theatre.\nhttp://www.theatre.ruse.bg/
URL:https://insiderguide.me/event/burundanga-oct2/
ATTACH;FMTTYPE=image/jpeg:https://insiderguide.me/wp-content/uploads/2016/07/dohodno-zdanie-ruse.jpg
END:VEVENT
BEGIN:VEVENT
DTSTART;VALUE=DATE:20171002
DTEND;VALUE=DATE:20171013
DTSTAMP:20260422T174210
CREATED:20171008T131746Z
LAST-MODIFIED:20171008T131746Z
UID:4936-1506902400-1507852799@insiderguide.me
SUMMARY:Доходно здание
DESCRIPTION:Самостоятелна изложба с графични творби на арх. Спиридон Ганев. / Architect Spiridon Ganev\, exhibiton of graphical drawings @ the Profit-Yielding Bldg.\nhttp://www.dohodnozdanie.com/
URL:https://insiderguide.me/event/spiridon-ganev/
END:VEVENT
BEGIN:VEVENT
DTSTART;TZID=Europe/Sofia:20171001T110000
DTEND;TZID=Europe/Sofia:20171001T120000
DTSTAMP:20260422T174210
CREATED:20170928T104147Z
LAST-MODIFIED:20170928T104213Z
UID:4837-1506855600-1506859200@insiderguide.me
SUMMARY:Държавен куклен театър Русе
DESCRIPTION:“Патиланци”\, представление за деца. / Trouble-Makers\, play for children @ the Puppet House.\nhttp://puppetruse.com/
URL:https://insiderguide.me/event/trouble-makers-oct1/
ATTACH;FMTTYPE=image/jpeg:https://insiderguide.me/wp-content/uploads/2016/05/kuklen-teatar.jpg
END:VEVENT
BEGIN:VEVENT
DTSTART;TZID=Europe/Sofia:20170930T220000
DTEND;TZID=Europe/Sofia:20170930T230000
DTSTAMP:20260422T174210
CREATED:20170902T122411Z
LAST-MODIFIED:20170902T122411Z
UID:4574-1506808800-1506812400@insiderguide.me
SUMMARY:Макс клуб
DESCRIPTION:Chaplin’s Dream\, концерт. / Chaplin’s Dream Band\, live @ Max Club.\nhttp://www.maxclubruse.com/
URL:https://insiderguide.me/event/chaplins-dream-sept30/
ATTACH;FMTTYPE=image/jpeg:https://insiderguide.me/wp-content/uploads/2016/11/max-club.jpg
END:VEVENT
BEGIN:VEVENT
DTSTART;TZID=Europe/Sofia:20170930T190000
DTEND;TZID=Europe/Sofia:20170930T210000
DTSTAMP:20260422T174210
CREATED:20170928T112337Z
LAST-MODIFIED:20170928T112337Z
UID:4865-1506798000-1506805200@insiderguide.me
SUMMARY:Художествена галерия
DESCRIPTION:Концерт на Николай Иванов и Роланд Хейдрич. / Nikolai Ivanov & Roland Haidrich\, live @ City Gallery.\nhttp://ruseartgallery.weebly.com/
URL:https://insiderguide.me/event/concert-sept30/
ATTACH;FMTTYPE=image/jpeg:https://insiderguide.me/wp-content/uploads/2016/06/gallery.jpeg
END:VEVENT
BEGIN:VEVENT
DTSTART;TZID=Europe/Sofia:20170930T190000
DTEND;TZID=Europe/Sofia:20170930T210000
DTSTAMP:20260422T174210
CREATED:20170902T123915Z
LAST-MODIFIED:20170902T123915Z
UID:4586-1506798000-1506805200@insiderguide.me
SUMMARY:Зала Филхармония
DESCRIPTION:Симфоничен оркестър на Русенска филхармония. / Rousse Philharmonic\, live @ the Philharmony Hall.\nhttp://www.ruseopera.com/
URL:https://insiderguide.me/event/rousse-philhar-sept30/
ATTACH;FMTTYPE=image/jpeg:https://insiderguide.me/wp-content/uploads/2016/12/филх.jpg
END:VEVENT
BEGIN:VEVENT
DTSTART;TZID=Europe/Sofia:20170930T180000
DTEND;TZID=Europe/Sofia:20170930T193000
DTSTAMP:20260422T174210
CREATED:20170813T205921Z
LAST-MODIFIED:20170813T205921Z
UID:4463-1506794400-1506799800@insiderguide.me
SUMMARY:Площад Свобода
DESCRIPTION:Ruse Summer Free Tour\, безплатни пешеходни туристически обиколки в централите части на Русе. Повече на https://www.facebook.com/rusesummerfreetour/. / Ruse Summer Free Tour. More @ https://www.facebook.com/rusesummerfreetour/.
URL:https://insiderguide.me/event/freetour-30sept/
ATTACH;FMTTYPE=image/jpeg:https://insiderguide.me/wp-content/uploads/2017/07/feature-image-sights.jpg
END:VEVENT
BEGIN:VEVENT
DTSTART;VALUE=DATE:20170930
DTEND;VALUE=DATE:20171001
DTSTAMP:20260422T174211
CREATED:20170902T115358Z
LAST-MODIFIED:20170902T115358Z
UID:4554-1506729600-1506815999@insiderguide.me
SUMMARY:МОЛ Русе
DESCRIPTION:Разкажи ми приказка\, ателие за деца. / Art workshop for children @ the Rousse MALL.\nhttp://www.mallrousse.bg/
URL:https://insiderguide.me/event/artworkshop-sept30/
ATTACH;FMTTYPE=image/jpeg:https://insiderguide.me/wp-content/uploads/2016/07/IMG_4856.jpg
END:VEVENT
BEGIN:VEVENT
DTSTART;VALUE=DATE:20170930
DTEND;VALUE=DATE:20171001
DTSTAMP:20260422T174211
CREATED:20170902T114737Z
LAST-MODIFIED:20170902T114737Z
UID:4544-1506729600-1506815999@insiderguide.me
SUMMARY:Исторически музей
DESCRIPTION:Ден на отворените врати на Историческия музей в Русе\, Къща музей „Захари Стоянов“\, АР „Средновековен град Червен“ и Лапидариум. / Free admission day for the Regional Museum of History\, Zachari Stoyanov’s Museum\, Medieval Fortress of Cherven and the Lapidarium @ the Regional Museum of History.\nhttp://www.museumruse.com/
URL:https://insiderguide.me/event/free-admission-day/
ATTACH;FMTTYPE=image/jpeg:https://insiderguide.me/wp-content/uploads/2016/06/muzei.jpg
END:VEVENT
BEGIN:VEVENT
DTSTART;TZID=Europe/Sofia:20170929T210000
DTEND;TZID=Europe/Sofia:20170929T230000
DTSTAMP:20260422T174211
CREATED:20170928T105643Z
LAST-MODIFIED:20170928T105643Z
UID:4847-1506718800-1506726000@insiderguide.me
SUMMARY:ВН Културен Център
DESCRIPTION:G Baby – Jazz & Swing. / G Baby – Jazz & Swing @ Buddha House.\nhttps://www.facebook.com/BHCafeLibrary
URL:https://insiderguide.me/event/gbaby-jazz-swing-sept29/
ATTACH;FMTTYPE=image/jpeg:https://insiderguide.me/wp-content/uploads/2016/12/bh1-min-300x225.jpg
END:VEVENT
BEGIN:VEVENT
DTSTART;TZID=Europe/Sofia:20170929T173000
DTEND;TZID=Europe/Sofia:20170929T230000
DTSTAMP:20260422T174211
CREATED:20170902T114242Z
LAST-MODIFIED:20170902T114242Z
UID:4540-1506706200-1506726000@insiderguide.me
SUMMARY:Исторически музей
DESCRIPTION:Европейска нощ на учените. / European Night of Scientists @ the Regional Museum of History.\nhttp://www.museumruse.com/
URL:https://insiderguide.me/event/european-night-scientists-museum/
ATTACH;FMTTYPE=image/jpeg:https://insiderguide.me/wp-content/uploads/2016/06/muzei.jpg
END:VEVENT
BEGIN:VEVENT
DTSTART;TZID=Europe/Sofia:20170929T170000
DTEND;TZID=Europe/Sofia:20170929T213000
DTSTAMP:20260422T174211
CREATED:20170902T114504Z
LAST-MODIFIED:20170902T114504Z
UID:4542-1506704400-1506720600@insiderguide.me
SUMMARY:Площад Батенберг
DESCRIPTION:Европейска нощ на учените. / European Night of Scientists @ the Batenberg Square.\nhttps://foursquare.com/
URL:https://insiderguide.me/event/european-night-scientists-batenberg/
ATTACH;FMTTYPE=image/jpeg:https://insiderguide.me/wp-content/uploads/2016/05/batenberg.jpg
END:VEVENT
BEGIN:VEVENT
DTSTART;TZID=Europe/Sofia:20170929T110000
DTEND;TZID=Europe/Sofia:20170929T120000
DTSTAMP:20260422T174211
CREATED:20170902T113235Z
LAST-MODIFIED:20170902T113244Z
UID:4534-1506682800-1506686400@insiderguide.me
SUMMARY:Регионална библиотека
DESCRIPTION:Отриване на изложбата от ХІІI Международен конкурс за екслибрис през 2017 г. – „EX LIBRIS – EX LIBERTAS”\, обявяване на резултатите от конкурса и връчване на наградите. / EXLIBRIS Exhibition @ the Library.\nhttp://www.libruse.bg/
URL:https://insiderguide.me/event/exlibris-expo/
ATTACH;FMTTYPE=image/jpeg:https://insiderguide.me/wp-content/uploads/2016/05/library.jpg
END:VEVENT
BEGIN:VEVENT
DTSTART;VALUE=DATE:20170929
DTEND;VALUE=DATE:20170930
DTSTAMP:20260422T174211
CREATED:20170902T113509Z
LAST-MODIFIED:20170902T113521Z
UID:4536-1506643200-1506729599@insiderguide.me
SUMMARY:Регионална библиотека
DESCRIPTION:Европейска нощ на учените. / European Night of Scientists @ the Library.\nhttp://www.libruse.bg/
URL:https://insiderguide.me/event/european-night-scientists-library/
ATTACH;FMTTYPE=image/jpeg:https://insiderguide.me/wp-content/uploads/2016/05/library.jpg
END:VEVENT
BEGIN:VEVENT
DTSTART;TZID=Europe/Sofia:20170928T193000
DTEND;TZID=Europe/Sofia:20170928T210000
DTSTAMP:20260422T174211
CREATED:20170916T082111Z
LAST-MODIFIED:20170916T082111Z
UID:4612-1506627000-1506632400@insiderguide.me
SUMMARY:ВН Културен Център
DESCRIPTION:Представяне на романа АЛИСА И ПЕТЪК ВЕЧЕР. / Alice and Friday Night\, book presentation @ Buddha House.\nhttps://www.facebook.com/BHCafeLibrary
URL:https://insiderguide.me/event/alice-friday-night/
ATTACH;FMTTYPE=image/jpeg:https://insiderguide.me/wp-content/uploads/2016/12/bh1-min-300x225.jpg
END:VEVENT
BEGIN:VEVENT
DTSTART;TZID=Europe/Sofia:20170928T190000
DTEND;TZID=Europe/Sofia:20170928T210000
DTSTAMP:20260422T174211
CREATED:20170902T123712Z
LAST-MODIFIED:20170902T123730Z
UID:4584-1506625200-1506632400@insiderguide.me
SUMMARY:Държавна опера Русе
DESCRIPTION:“Лебедово езеро”\, балет\, П.И.Чайковски. / “Swan Lake” ballet\, P.I.Tchaikovsky at the Opera House.\nhttp://www.ruseopera.com/
URL:https://insiderguide.me/event/swan-lake-sept28/
ATTACH;FMTTYPE=image/jpeg:https://insiderguide.me/wp-content/uploads/2016/01/operata_big-1.jpg
END:VEVENT
BEGIN:VEVENT
DTSTART;TZID=Europe/Sofia:20170927T190000
DTEND;TZID=Europe/Sofia:20170927T210000
DTSTAMP:20260422T174211
CREATED:20170902T120653Z
LAST-MODIFIED:20170902T120653Z
UID:4564-1506538800-1506546000@insiderguide.me
SUMMARY:Драматичен театър Сава Огнянов
DESCRIPTION:“Тайната на един Дон Жуан”\, театър Ямбол. / The Secret of a Don Juan by the theatre in Yambol\, play @ the Drama Theatre.\nhttp://www.theatre.ruse.bg/
URL:https://insiderguide.me/event/secret-don-juan-sept27/
ATTACH;FMTTYPE=image/jpeg:https://insiderguide.me/wp-content/uploads/2016/07/dohodno-zdanie-ruse.jpg
END:VEVENT
BEGIN:VEVENT
DTSTART;TZID=Europe/Sofia:20170926T190000
DTEND;TZID=Europe/Sofia:20170926T210000
DTSTAMP:20260422T174211
CREATED:20170902T123547Z
LAST-MODIFIED:20170902T123606Z
UID:4582-1506452400-1506459600@insiderguide.me
SUMMARY:Държавна опера Русе
DESCRIPTION:Рок концерт с Николо Коцев и група Кикимора. / Nikolo Kotzev and Kikimora Band\, live @ Opera.\nhttp://www.ruseopera.com/
URL:https://insiderguide.me/event/nikolo-kotsev-sept26/
ATTACH;FMTTYPE=image/jpeg:https://insiderguide.me/wp-content/uploads/2016/11/operata6.jpg
END:VEVENT
BEGIN:VEVENT
DTSTART;TZID=Europe/Sofia:20170926T190000
DTEND;TZID=Europe/Sofia:20170926T210000
DTSTAMP:20260422T174211
CREATED:20170902T120435Z
LAST-MODIFIED:20170902T120447Z
UID:4562-1506452400-1506459600@insiderguide.me
SUMMARY:Драматичен театър Сава Огнянов
DESCRIPTION:“Помощ\, жена ми е луда” – от Жан Барбие. С участието на Христо Гърбов. Постановка Орлин Дяков. Участват: Надя Банчева\, Иля Пепеланов\, Ралица Константинова\, Петя Венелинова\, Тихомир Благоев\, Борислав Веженов\, Ивайло Ненов. / Help\, My Wife’s Insane\, play @ the Drama Theatre.\nhttp://www.theatre.ruse.bg/
URL:https://insiderguide.me/event/wifes-mad-sept26/
ATTACH;FMTTYPE=image/jpeg:https://insiderguide.me/wp-content/uploads/2016/07/dohodno2.jpg
END:VEVENT
BEGIN:VEVENT
DTSTART;TZID=Europe/Sofia:20170926T190000
DTEND;TZID=Europe/Sofia:20170926T203000
DTSTAMP:20260422T174211
CREATED:20170920T093930Z
LAST-MODIFIED:20170920T093930Z
UID:4824-1506452400-1506457800@insiderguide.me
SUMMARY:ВН Културен Център
DESCRIPTION:Майсторството на добрите истории с Михаил Стефанов. Повече на https://www.facebook.com/events/2014453088836252. / The Craftsmanship of Telling Good Stories with Mihail Stefanov @ Buddha House. More @ https://www.facebook.com/events/2014453088836252.\nhttps://www.facebook.com/BHCafeLibrary
URL:https://insiderguide.me/event/telling-good-stroies/
ATTACH;FMTTYPE=image/jpeg:https://insiderguide.me/wp-content/uploads/2016/01/IMG_1169-min.jpg
END:VEVENT
BEGIN:VEVENT
DTSTART;TZID=Europe/Sofia:20170926T093000
DTEND;TZID=Europe/Sofia:20170926T153000
DTSTAMP:20260422T174211
CREATED:20170902T113049Z
LAST-MODIFIED:20170902T113049Z
UID:4532-1506418200-1506439800@insiderguide.me
SUMMARY:Регионална библиотека
DESCRIPTION:Обучение за прилагането на Универсална десетична класификация. / Training on the Universal Decimal Classification @ the Library.\nhttp://www.libruse.bg/
URL:https://insiderguide.me/event/decimal-training/
ATTACH;FMTTYPE=image/jpeg:https://insiderguide.me/wp-content/uploads/2016/05/library.jpg
END:VEVENT
BEGIN:VEVENT
DTSTART;TZID=Europe/Sofia:20170924T110000
DTEND;TZID=Europe/Sofia:20170924T120000
DTSTAMP:20260422T174211
CREATED:20170902T120252Z
LAST-MODIFIED:20170902T120252Z
UID:4560-1506250800-1506254400@insiderguide.me
SUMMARY:Държавен куклен театър Русе
DESCRIPTION:“Малката кибритопродавачка”\, представление за деца. / The Little Match Girl\, play for children @ the Puppet House.\nhttp://puppetruse.com/
URL:https://insiderguide.me/event/match-girl-sept24/
ATTACH;FMTTYPE=image/jpeg:https://insiderguide.me/wp-content/uploads/2016/09/kuklen.jpg
END:VEVENT
BEGIN:VEVENT
DTSTART;VALUE=DATE:20170924
DTEND;VALUE=DATE:20170925
DTSTAMP:20260422T174211
CREATED:20170214T111555Z
LAST-MODIFIED:20170214T111555Z
UID:3472-1506211200-1506297599@insiderguide.me
SUMMARY:Площад Свобода
DESCRIPTION:Cборен пункт за кроса между Русе и Гюргево. Трасето е с дължина 4 км – от центъра на Русе до този на Гюргево. / Starting point for the Rousse – Giurgui cross running. The track is 4 km long and is from the centre of Rousse to the centre of Giurgiu.\nhttps://opoznai.bg/view/
URL:https://insiderguide.me/event/ruse-giurgiu-run/
ATTACH;FMTTYPE=image/jpeg:https://insiderguide.me/wp-content/uploads/2016/02/Optimized-IMG_0450.jpg
END:VEVENT
END:VCALENDAR