BEGIN:VCALENDAR
VERSION:2.0
PRODID:-// - ECPv6.15.14//NONSGML v1.0//EN
CALSCALE:GREGORIAN
METHOD:PUBLISH
X-ORIGINAL-URL:https://insiderguide.me
X-WR-CALDESC:Events for 
REFRESH-INTERVAL;VALUE=DURATION:PT1H
X-Robots-Tag:noindex
X-PUBLISHED-TTL:PT1H
BEGIN:VTIMEZONE
TZID:Europe/Sofia
BEGIN:DAYLIGHT
TZOFFSETFROM:+0200
TZOFFSETTO:+0300
TZNAME:EEST
DTSTART:20160327T010000
END:DAYLIGHT
BEGIN:STANDARD
TZOFFSETFROM:+0300
TZOFFSETTO:+0200
TZNAME:EET
DTSTART:20161030T010000
END:STANDARD
BEGIN:DAYLIGHT
TZOFFSETFROM:+0200
TZOFFSETTO:+0300
TZNAME:EEST
DTSTART:20170326T010000
END:DAYLIGHT
BEGIN:STANDARD
TZOFFSETFROM:+0300
TZOFFSETTO:+0200
TZNAME:EET
DTSTART:20171029T010000
END:STANDARD
BEGIN:DAYLIGHT
TZOFFSETFROM:+0200
TZOFFSETTO:+0300
TZNAME:EEST
DTSTART:20180325T010000
END:DAYLIGHT
BEGIN:STANDARD
TZOFFSETFROM:+0300
TZOFFSETTO:+0200
TZNAME:EET
DTSTART:20181028T010000
END:STANDARD
END:VTIMEZONE
BEGIN:VEVENT
DTSTART;VALUE=DATE:20171116
DTEND;VALUE=DATE:20171119
DTSTAMP:20260422T160337
CREATED:20171016T075510Z
LAST-MODIFIED:20171016T075510Z
UID:4963-1510790400-1511049599@insiderguide.me
SUMMARY:Доходно здание
DESCRIPTION:42ри джаз фест Русе на 16\, 17 и 18 ноември от 19 часа. Програма на https://www.facebook.com/896222600390268/. / 42nd Jazz Fest Ruse on NOvember 16\, 17\, and 18 at 7PM @ the Profit-Yielding Bldg. Agenda @ https://www.facebook.com/896222600390268/.\nhttp://www.dohodnozdanie.com/
URL:https://insiderguide.me/event/42-jazz-fest-ruse/
ATTACH;FMTTYPE=image/jpeg:https://insiderguide.me/wp-content/uploads/2016/07/dohodno-zdanie-ruse.jpg
END:VEVENT
BEGIN:VEVENT
DTSTART;TZID=Europe/Sofia:20171115T190000
DTEND;TZID=Europe/Sofia:20171115T210000
DTSTAMP:20260422T160337
CREATED:20171031T162323Z
LAST-MODIFIED:20171031T162530Z
UID:5069-1510772400-1510779600@insiderguide.me
SUMMARY:Държавна опера Русе
DESCRIPTION:“Риголето”\, опера. / Rigoletto\, opera @ the Rousse State Opera.\nhttp://www.ruseopera.com/
URL:https://insiderguide.me/event/rigoletto-nov2017/
END:VEVENT
BEGIN:VEVENT
DTSTART;TZID=Europe/Sofia:20171115T180000
DTEND;TZID=Europe/Sofia:20171115T190000
DTSTAMP:20260422T160337
CREATED:20171031T160247Z
LAST-MODIFIED:20171031T160247Z
UID:5040-1510768800-1510772400@insiderguide.me
SUMMARY:Национално у-ще по изкуствата
DESCRIPTION:Концерт „Камерна музика“. / Chamber Music concert @ the National School of Arts.\nhttp://www.artrousse.com/
URL:https://insiderguide.me/event/chamber-music-nov2017/
END:VEVENT
BEGIN:VEVENT
DTSTART;TZID=Europe/Sofia:20171114T190000
DTEND;TZID=Europe/Sofia:20171114T210000
DTSTAMP:20260422T160337
CREATED:20170705T190603Z
LAST-MODIFIED:20170705T190603Z
UID:4305-1510686000-1510693200@insiderguide.me
SUMMARY:Канев Център
DESCRIPTION:Концерт на Николина Чакърдъкова и Неврокопски танцов ансамбъл. / Nikolina Chakardakova and the Nevrokopski folk dance ensemble @ Kaneff Centre.\nhttps://www.uni-ruse.bg/kaneff
URL:https://insiderguide.me/event/nikolina-chakardakova-nov2017/
ATTACH;FMTTYPE=image/jpeg:https://insiderguide.me/wp-content/uploads/2016/05/kaneff.jpg
END:VEVENT
BEGIN:VEVENT
DTSTART;TZID=Europe/Sofia:20171112T190000
DTEND;TZID=Europe/Sofia:20171112T210000
DTSTAMP:20260422T160337
CREATED:20171031T162208Z
LAST-MODIFIED:20171031T162208Z
UID:5066-1510513200-1510520400@insiderguide.me
SUMMARY:Държавна опера Русе
DESCRIPTION:“Човекът от Ла Манча”\, мюзикъл. / The Man from La Mancha\, musical @ the Rousse State Opera.\nhttp://www.ruseopera.com/
URL:https://insiderguide.me/event/lamancha-musical/
END:VEVENT
BEGIN:VEVENT
DTSTART;TZID=Europe/Sofia:20171112T190000
DTEND;TZID=Europe/Sofia:20171112T210000
DTSTAMP:20260422T160337
CREATED:20171031T155249Z
LAST-MODIFIED:20171031T155249Z
UID:5026-1510513200-1510520400@insiderguide.me
SUMMARY:Драматичен театър Сава Огнянов
DESCRIPTION:„РЕДКИ ТЪПАНАРИ“. / Rare Assholes @ the Theatre.\nhttp://www.theatre.ruse.bg/
URL:https://insiderguide.me/event/rare-assholes-nov2017/
END:VEVENT
BEGIN:VEVENT
DTSTART;TZID=Europe/Sofia:20171112T110000
DTEND;TZID=Europe/Sofia:20171112T120000
DTSTAMP:20260422T160337
CREATED:20171031T153041Z
LAST-MODIFIED:20171031T153041Z
UID:5003-1510484400-1510488000@insiderguide.me
SUMMARY:Държавен куклен театър Русе
DESCRIPTION:„Сливи за смет“ – гастрол на Център за изкуства „За Родопите“\, представление за деца. / Plums for Waste\, play for children @ the Puppet House.\nhttp://puppetruse.com/
URL:https://insiderguide.me/event/plums-for-waste/
END:VEVENT
BEGIN:VEVENT
DTSTART;TZID=Europe/Sofia:20171112T110000
DTEND;TZID=Europe/Sofia:20171112T120000
DTSTAMP:20260422T160337
CREATED:20171031T145052Z
LAST-MODIFIED:20171031T145052Z
UID:4979-1510484400-1510488000@insiderguide.me
SUMMARY:Доходно здание
DESCRIPTION:Дни на изкуството Елиас Канети: Предизвикателства при ползване на български език в интернет пространството\, дискусия. / Elias Canetti Literature Days: Challenges in Using Bulgarian on the Internet\, discussion @ the Profit-Yielding Bldg.\nhttp://www.dohodnozdanie.com/
URL:https://insiderguide.me/event/bglang-internet/
END:VEVENT
BEGIN:VEVENT
DTSTART;TZID=Europe/Sofia:20171111T220000
DTEND;TZID=Europe/Sofia:20171111T235500
DTSTAMP:20260422T160337
CREATED:20171031T145432Z
LAST-MODIFIED:20171031T145432Z
UID:4984-1510437600-1510444500@insiderguide.me
SUMMARY:Макс клуб
DESCRIPTION:Трибют на Pink /Pinkynation Project\, концерт. / Pink Tribute/Pinkynation Project\, live @ Max Club.\nhttp://www.maxclubruse.com/
URL:https://insiderguide.me/event/pink-tribute/
END:VEVENT
BEGIN:VEVENT
DTSTART;TZID=Europe/Sofia:20171111T110000
DTEND;TZID=Europe/Sofia:20171111T120000
DTSTAMP:20260422T160337
CREATED:20171031T144929Z
LAST-MODIFIED:20171031T144929Z
UID:4978-1510398000-1510401600@insiderguide.me
SUMMARY:Доходно здание
DESCRIPTION:Дни на изкуството Елиас Канети: 10ти национален ученичерски конкурс за литературно творчество и журналистика “Стоян Михайловски”. / Elias Canetti Literature Days: 10th National Literature Contest Stoian Mihailovski @ the Profit-Yielding Bldg.\nhttp://www.dohodnozdanie.com/
URL:https://insiderguide.me/event/stoian-mihailovski-lit-contest/
END:VEVENT
BEGIN:VEVENT
DTSTART;VALUE=DATE:20171111
DTEND;VALUE=DATE:20171112
DTSTAMP:20260422T160337
CREATED:20171031T161423Z
LAST-MODIFIED:20171031T161531Z
UID:5054-1510358400-1510444799@insiderguide.me
SUMMARY:МОЛ Русе
DESCRIPTION:Ателие за деца. / Art workshop for children @ the Rousse MALL.\nhttp://www.mallrousse.bg/
URL:https://insiderguide.me/event/artworkshop-nov11/
END:VEVENT
BEGIN:VEVENT
DTSTART;TZID=Europe/Sofia:20171110T210000
DTEND;TZID=Europe/Sofia:20171110T235500
DTSTAMP:20260422T160337
CREATED:20171031T145320Z
LAST-MODIFIED:20171031T145408Z
UID:4983-1510347600-1510358100@insiderguide.me
SUMMARY:Макс клуб
DESCRIPTION:Fusion Tour: Оратница\, концерт. / Fusion Tour: Oratnitsa\, live @ Max Club.\nhttp://www.maxclubruse.com/
URL:https://insiderguide.me/event/oratnitsa-nov2017/
END:VEVENT
BEGIN:VEVENT
DTSTART;TZID=Europe/Sofia:20171110T183000
DTEND;TZID=Europe/Sofia:20171110T193000
DTSTAMP:20260422T160337
CREATED:20171031T160104Z
LAST-MODIFIED:20171031T160104Z
UID:5035-1510338600-1510342200@insiderguide.me
SUMMARY:Национално у-ще по изкуствата
DESCRIPTION:Концерт на учениците от специалност „Класическа китара“. / Concert of Classical Guitar class @ the National School of Arts.\nhttp://www.artrousse.com/
URL:https://insiderguide.me/event/classical-guitar-nov2017/
END:VEVENT
BEGIN:VEVENT
DTSTART;VALUE=DATE:20171110
DTEND;VALUE=DATE:20171113
DTSTAMP:20260422T160337
CREATED:20170228T102305Z
LAST-MODIFIED:20170228T102305Z
UID:3571-1510272000-1510531199@insiderguide.me
SUMMARY:Булстрад Арена
DESCRIPTION:МЕЖДУНАРОДЕН ФЕСТИВАЛ ПО ГИМНАСТИКА „ДУНАВСКА ПЕРЛА“ 2017. / 2017 Danubean Pearl International Contest in Gymnastics @ Bulstrad Arena.\nhttp://bulstradarena.com/
URL:https://insiderguide.me/event/danubean-pearl-2017/
ATTACH;FMTTYPE=image/jpeg:https://insiderguide.me/wp-content/uploads/2015/12/bulstrad-arena1.jpg
END:VEVENT
BEGIN:VEVENT
DTSTART;TZID=Europe/Sofia:20171109T190000
DTEND;TZID=Europe/Sofia:20171109T210000
DTSTAMP:20260422T160337
CREATED:20171031T144015Z
LAST-MODIFIED:20171031T144015Z
UID:4971-1510254000-1510261200@insiderguide.me
SUMMARY:Военен клуб (Летен театър)
DESCRIPTION:“Пилето\, което казва ку”\, моноспектакъл на Иван Юруков. / The Chicken That Says Cou\, mono-spectacle by Ivan Iurumov @ the Military Club (Summer Theatre) in Rousse.\nhttps://www.facebook.com/VoenenKlubRuse
URL:https://insiderguide.me/event/chicken-says/
END:VEVENT
BEGIN:VEVENT
DTSTART;TZID=Europe/Sofia:20171109T190000
DTEND;TZID=Europe/Sofia:20171109T210000
DTSTAMP:20260422T160337
CREATED:20170928T112032Z
LAST-MODIFIED:20170928T112032Z
UID:4863-1510254000-1510261200@insiderguide.me
SUMMARY:Драматичен театър Сава Огнянов
DESCRIPTION:„Гераците“. / The Gerak Family @ the Theatre.\nhttp://www.theatre.ruse.bg/
URL:https://insiderguide.me/event/gerak-family-nov9/
ATTACH;FMTTYPE=image/jpeg:https://insiderguide.me/wp-content/uploads/2016/07/dohodno-zdanie-ruse.jpg
END:VEVENT
BEGIN:VEVENT
DTSTART;TZID=Europe/Sofia:20171109T180000
DTEND;TZID=Europe/Sofia:20171109T200000
DTSTAMP:20260422T160337
CREATED:20171031T144739Z
LAST-MODIFIED:20171031T144900Z
UID:4977-1510250400-1510257600@insiderguide.me
SUMMARY:Доходно здание
DESCRIPTION:Дни на изкуството Елиас Канети: “Покаяние”\, моноспектакъл. / Elias Canetti Literature Days: Repentance\, monospectacle @ the Profit-Yielding Bldg.\nhttp://www.dohodnozdanie.com/
URL:https://insiderguide.me/event/repentence/
END:VEVENT
BEGIN:VEVENT
DTSTART;TZID=Europe/Sofia:20171108T190000
DTEND;TZID=Europe/Sofia:20171108T210000
DTSTAMP:20260422T160337
CREATED:20171031T162105Z
LAST-MODIFIED:20171031T162105Z
UID:5065-1510167600-1510174800@insiderguide.me
SUMMARY:Държавна опера Русе
DESCRIPTION:“Сестра Анджелика”\, опера. / Sister Angelique\, opera @ the Rousse State Opera.\nhttp://www.ruseopera.com/
URL:https://insiderguide.me/event/angelique-nov2017/
END:VEVENT
BEGIN:VEVENT
DTSTART;TZID=Europe/Sofia:20171108T180000
DTEND;TZID=Europe/Sofia:20171108T193000
DTSTAMP:20260422T160337
CREATED:20171031T160017Z
LAST-MODIFIED:20171031T160124Z
UID:5037-1510164000-1510169400@insiderguide.me
SUMMARY:Национално у-ще по изкуствата
DESCRIPTION:Концерт на учениците от специалност „Класическо пеене“. / Concert of Classical Singing class @ the National School of Arts.\nhttp://www.artrousse.com/
URL:https://insiderguide.me/event/classical-singing-nov2017/
END:VEVENT
BEGIN:VEVENT
DTSTART;TZID=Europe/Sofia:20171108T173000
DTEND;TZID=Europe/Sofia:20171108T183000
DTSTAMP:20260422T160337
CREATED:20171031T154650Z
LAST-MODIFIED:20171031T154650Z
UID:5017-1510162200-1510165800@insiderguide.me
SUMMARY:Регионална библиотека
DESCRIPTION:За животните – с любов. Не бъди безразличен. / For Animals with Love\, Take Action.\, presentation organized by the Municipal Shelter for Homeless Animals @ the Library.\nhttp://www.libruse.bg/
URL:https://insiderguide.me/event/animals-love-take-action/
END:VEVENT
BEGIN:VEVENT
DTSTART;TZID=Europe/Sofia:20171107T190000
DTEND;TZID=Europe/Sofia:20171107T210000
DTSTAMP:20260422T160337
CREATED:20170916T083012Z
LAST-MODIFIED:20170916T083012Z
UID:4614-1510081200-1510088400@insiderguide.me
SUMMARY:Канев Център
DESCRIPTION:“Операцията”\, представление. / The Operation\, play @ Kaneff Centre.\nhttps://www.uni-ruse.bg/kaneff
URL:https://insiderguide.me/event/operation-nov7/
ATTACH;FMTTYPE=image/jpeg:https://insiderguide.me/wp-content/uploads/2016/01/Kaneff_Centre.jpg
END:VEVENT
BEGIN:VEVENT
DTSTART;TZID=Europe/Sofia:20171106T180000
DTEND;TZID=Europe/Sofia:20171106T190000
DTSTAMP:20260422T160337
CREATED:20171031T144602Z
LAST-MODIFIED:20171031T144602Z
UID:4974-1509991200-1509994800@insiderguide.me
SUMMARY:Доходно здание
DESCRIPTION:Дни на изкуството Елиас Канети: обявяване на наградите във фото конкурса “Запази духа на Русе” и откриване на изложбата на номинираните. / Elias Canetti Literature Days: awarding the winners in the Keep the Spirit of Rousse photo contest\, opening of the exhibition of the nominations @ the Profit-Yielding Bldg.\nhttp://www.dohodnozdanie.com/
URL:https://insiderguide.me/event/keep-the-spirit-2/
END:VEVENT
BEGIN:VEVENT
DTSTART;TZID=Europe/Sofia:20171105T120000
DTEND;TZID=Europe/Sofia:20171105T130000
DTSTAMP:20260422T160337
CREATED:20171031T152932Z
LAST-MODIFIED:20171031T152932Z
UID:4999-1509883200-1509886800@insiderguide.me
SUMMARY:Държавен куклен театър Русе
DESCRIPTION:Театрална работилничка „Вълшебен свят“ в рамките на Европейска нощ на театрите 2017г. / Theater Workshop Magical World\, admission free\, for children @ the Puppet House.\nhttp://puppetruse.com/
URL:https://insiderguide.me/event/magical-world-workshop/
END:VEVENT
BEGIN:VEVENT
DTSTART;TZID=Europe/Sofia:20171105T110000
DTEND;TZID=Europe/Sofia:20171105T120000
DTSTAMP:20260422T160337
CREATED:20171031T155124Z
LAST-MODIFIED:20171031T155124Z
UID:5023-1509879600-1509883200@insiderguide.me
SUMMARY:Драматичен театър Сава Огнянов
DESCRIPTION:„ВЕСЕЛИЯТ СВЕТОФАР“. / The Merry Semaphore @ the Theatre.\nhttp://www.theatre.ruse.bg/
URL:https://insiderguide.me/event/merry-semaphore/
END:VEVENT
BEGIN:VEVENT
DTSTART;TZID=Europe/Sofia:20171105T110000
DTEND;TZID=Europe/Sofia:20171105T120000
DTSTAMP:20260422T160337
CREATED:20171031T152824Z
LAST-MODIFIED:20171031T152824Z
UID:4998-1509879600-1509883200@insiderguide.me
SUMMARY:Държавен куклен театър Русе
DESCRIPTION:“Приказка за мечтатели”\, представление за деца. / A Dreamers’ Tale\, play for children at the Puppet House.\nhttp://puppetruse.com/
URL:https://insiderguide.me/event/dreamers-tale-nov2017/
END:VEVENT
BEGIN:VEVENT
DTSTART;TZID=Europe/Sofia:20171104T220000
DTEND;TZID=Europe/Sofia:20171104T235500
DTSTAMP:20260422T160337
CREATED:20171016T075112Z
LAST-MODIFIED:20171016T075112Z
UID:4961-1509832800-1509839700@insiderguide.me
SUMMARY:Макс клуб
DESCRIPTION:Обратен ефект\, концерт. / Obraten Efekt\, live @ Max Club.\nhttp://www.maxclubruse.com/
URL:https://insiderguide.me/event/obraten-efekt-nov4/
ATTACH;FMTTYPE=image/jpeg:https://insiderguide.me/wp-content/uploads/2016/11/max-club.jpg
END:VEVENT
BEGIN:VEVENT
DTSTART;TZID=Europe/Sofia:20171104T190000
DTEND;TZID=Europe/Sofia:20171104T210000
DTSTAMP:20260422T160337
CREATED:20171031T155046Z
LAST-MODIFIED:20171031T155046Z
UID:5022-1509822000-1509829200@insiderguide.me
SUMMARY:Драматичен театър Сава Огнянов
DESCRIPTION:„БУРУНДАНГА“. / Burundanga @ the Theatre.\nhttp://www.theatre.ruse.bg/
URL:https://insiderguide.me/event/burundanga-nov2017/
END:VEVENT
BEGIN:VEVENT
DTSTART;TZID=Europe/Sofia:20171104T120000
DTEND;TZID=Europe/Sofia:20171104T163000
DTSTAMP:20260422T160337
CREATED:20171031T154419Z
LAST-MODIFIED:20171031T154516Z
UID:5015-1509796800-1509813000@insiderguide.me
SUMMARY:Регионална библиотека
DESCRIPTION:Прочети. Мечтай. Откривай. Програма:\n12:00 – 16:30 ч. – Детски работилнички с Йо\, Тори и Дани.\n13:30 ч. – Викторина с въпроси\, свързани с детските книжки\, приказки и герои\, и много награди.\n14:30 ч. – Търсене на съкровища\n15:30 ч. – Викторина с въпроси\, свързани с детските  книжки\, приказки и герои\, и много награди.\n16:30 ч. – Време за приказки с Йо. / Read. Dream. Discover.\, event for children @ the Library.\nhttp://www.libruse.bg/
URL:https://insiderguide.me/event/read-dream-discover/
END:VEVENT
BEGIN:VEVENT
DTSTART;TZID=Europe/Sofia:20171104T110000
DTEND;TZID=Europe/Sofia:20171104T120000
DTSTAMP:20260422T160337
CREATED:20171031T155010Z
LAST-MODIFIED:20171031T155010Z
UID:5021-1509793200-1509796800@insiderguide.me
SUMMARY:Драматичен театър Сава Огнянов
DESCRIPTION:„ПРИКАЗКИТЕ НА БАБА“. / Granny’s Tales @ the Theatre.\nhttp://www.theatre.ruse.bg/
URL:https://insiderguide.me/event/grannys-tales/
END:VEVENT
BEGIN:VEVENT
DTSTART;TZID=Europe/Sofia:20171104T110000
DTEND;TZID=Europe/Sofia:20171104T120000
DTSTAMP:20260422T160337
CREATED:20171031T154141Z
LAST-MODIFIED:20171031T154141Z
UID:5009-1509793200-1509796800@insiderguide.me
SUMMARY:Регионална библиотека
DESCRIPTION:Приказки с Коприва\, за деца. / Tales with Nettle\, for children @ the Library.\nhttp://www.libruse.bg/
URL:https://insiderguide.me/event/tales-nettle/
END:VEVENT
END:VCALENDAR