BEGIN:VCALENDAR
VERSION:2.0
PRODID:-// - ECPv6.15.14//NONSGML v1.0//EN
CALSCALE:GREGORIAN
METHOD:PUBLISH
X-ORIGINAL-URL:https://insiderguide.me
X-WR-CALDESC:Events for 
REFRESH-INTERVAL;VALUE=DURATION:PT1H
X-Robots-Tag:noindex
X-PUBLISHED-TTL:PT1H
BEGIN:VTIMEZONE
TZID:Europe/Sofia
BEGIN:DAYLIGHT
TZOFFSETFROM:+0200
TZOFFSETTO:+0300
TZNAME:EEST
DTSTART:20170326T010000
END:DAYLIGHT
BEGIN:STANDARD
TZOFFSETFROM:+0300
TZOFFSETTO:+0200
TZNAME:EET
DTSTART:20171029T010000
END:STANDARD
BEGIN:DAYLIGHT
TZOFFSETFROM:+0200
TZOFFSETTO:+0300
TZNAME:EEST
DTSTART:20180325T010000
END:DAYLIGHT
BEGIN:STANDARD
TZOFFSETFROM:+0300
TZOFFSETTO:+0200
TZNAME:EET
DTSTART:20181028T010000
END:STANDARD
BEGIN:DAYLIGHT
TZOFFSETFROM:+0200
TZOFFSETTO:+0300
TZNAME:EEST
DTSTART:20190331T010000
END:DAYLIGHT
BEGIN:STANDARD
TZOFFSETFROM:+0300
TZOFFSETTO:+0200
TZNAME:EET
DTSTART:20191027T010000
END:STANDARD
END:VTIMEZONE
BEGIN:VEVENT
DTSTART;TZID=Europe/Sofia:20180424T190000
DTEND;TZID=Europe/Sofia:20180424T210000
DTSTAMP:20260422T083017
CREATED:20180403T131009Z
LAST-MODIFIED:20180403T131009Z
UID:5908-1524596400-1524603600@insiderguide.me
SUMMARY:Драматичен театър Сава Огнянов
DESCRIPTION:“Женско царство”. / Women’s Kingdom @ the Theatre.\nhttp://www.theatre.ruse.bg/
URL:https://insiderguide.me/event/womenskingdom-apr242018/
END:VEVENT
BEGIN:VEVENT
DTSTART;TZID=Europe/Sofia:20180424T190000
DTEND;TZID=Europe/Sofia:20180424T210000
DTSTAMP:20260422T083017
CREATED:20180403T130121Z
LAST-MODIFIED:20180403T130121Z
UID:5889-1524596400-1524603600@insiderguide.me
SUMMARY:Държавна опера Русе
DESCRIPTION:Държавна опера Пловдив представя „Коса“. / Hair by the Plovdiv Opera @ the Opera House.\nhttp://www.ruseopera.com/
URL:https://insiderguide.me/event/hair-apr242018/
END:VEVENT
BEGIN:VEVENT
DTSTART;VALUE=DATE:20180424
DTEND;VALUE=DATE:20180426
DTSTAMP:20260422T083017
CREATED:20180403T133517Z
LAST-MODIFIED:20180403T133517Z
UID:5946-1524528000-1524700799@insiderguide.me
SUMMARY:Регионална библиотека
DESCRIPTION:Зала Изкуство. Международна научна конференция „Истини и лъжи за факти\, новини и събития“. Форумът се посвещава на 130-годишнината от създаването на Регионална библиотека „Любен Каравелов“. / Fake News\, international forum @ the Library.\nhttp://www.libruse.bg/
URL:https://insiderguide.me/event/fakenews-apr24252018/
END:VEVENT
BEGIN:VEVENT
DTSTART;VALUE=DATE:20180424
DTEND;VALUE=DATE:20180425
DTSTAMP:20260422T083017
CREATED:20180403T135026Z
LAST-MODIFIED:20180403T135044Z
UID:5977-1524528000-1524614399@insiderguide.me
SUMMARY:Доходно здание
DESCRIPTION:Великденски концерт на Хор Свети Георги победоносец. / Easter concert @ the Profit-Yielding Building.\nhttp://www.dohodnozdanie.com/
URL:https://insiderguide.me/event/easterconcert-apr242018/
END:VEVENT
BEGIN:VEVENT
DTSTART;TZID=Europe/Sofia:20180423T190000
DTEND;TZID=Europe/Sofia:20180423T210000
DTSTAMP:20260422T083017
CREATED:20180403T130930Z
LAST-MODIFIED:20180403T130930Z
UID:5907-1524510000-1524517200@insiderguide.me
SUMMARY:Драматичен театър Сава Огнянов
DESCRIPTION:“Любовните трепети на тарантулите”. / The Love Traits of Tarantulas @ the Theatre.\nhttp://www.theatre.ruse.bg/
URL:https://insiderguide.me/event/tarantulas-apr232018/
END:VEVENT
BEGIN:VEVENT
DTSTART;TZID=Europe/Sofia:20180423T190000
DTEND;TZID=Europe/Sofia:20180423T210000
DTSTAMP:20260422T083017
CREATED:20180403T112713Z
LAST-MODIFIED:20180403T112741Z
UID:5873-1524510000-1524517200@insiderguide.me
SUMMARY:Канев Център
DESCRIPTION:„Чамкория“\, моноспектакъл по Милен Русков. / Chamkoria\, mono-spectale @ Kaneff Centre.\nhttps://www.uni-ruse.bg/kaneff
URL:https://insiderguide.me/event/chamkoria-apr232018/
END:VEVENT
BEGIN:VEVENT
DTSTART;TZID=Europe/Sofia:20180423T180000
DTEND;TZID=Europe/Sofia:20180423T190000
DTSTAMP:20260422T083017
CREATED:20180403T133407Z
LAST-MODIFIED:20180403T133407Z
UID:5945-1524506400-1524510000@insiderguide.me
SUMMARY:Регионална библиотека
DESCRIPTION:Галерия Библиотека. Боже\, защо Господ лъже? Среща с Нидал Алгафари. / God\, Why Does God Lie? @ the Library.\nhttp://www.libruse.bg/
URL:https://insiderguide.me/event/whygodlies-apr232018/
END:VEVENT
BEGIN:VEVENT
DTSTART;TZID=Europe/Sofia:20180422T110000
DTEND;TZID=Europe/Sofia:20180422T120000
DTSTAMP:20260422T083017
CREATED:20180403T113559Z
LAST-MODIFIED:20180403T113559Z
UID:5876-1524394800-1524398400@insiderguide.me
SUMMARY:Държавен куклен театър
DESCRIPTION:“Патиланци”. / naughty Children\, play for children @ the Puppet House.\nhttp://puppetruse.com/
URL:https://insiderguide.me/event/naughty-apr222018/
END:VEVENT
BEGIN:VEVENT
DTSTART;TZID=Europe/Sofia:20180421T220000
DTEND;TZID=Europe/Sofia:20180421T235500
DTSTAMP:20260422T083017
CREATED:20180403T135707Z
LAST-MODIFIED:20180403T135727Z
UID:5990-1524348000-1524354900@insiderguide.me
SUMMARY:Макс клуб
DESCRIPTION:Steelers Rockband @ Max Club.\nhttp://www.maxclubruse.com/
URL:https://insiderguide.me/event/steelers-apr212018/
END:VEVENT
BEGIN:VEVENT
DTSTART;TZID=Europe/Sofia:20180421T190000
DTEND;TZID=Europe/Sofia:20180421T210000
DTSTAMP:20260422T083017
CREATED:20180129T144701Z
LAST-MODIFIED:20180129T144701Z
UID:5496-1524337200-1524344400@insiderguide.me
SUMMARY:Арена Русе
DESCRIPTION:Борис Годунов\, опера. / Boris Godunov\, opera @ Bulstrad Arena.\nhttp://bulstradarena.com/
URL:https://insiderguide.me/event/borisgoduniv-apr212018/
END:VEVENT
BEGIN:VEVENT
DTSTART;TZID=Europe/Sofia:20180421T110000
DTEND;TZID=Europe/Sofia:20180421T130000
DTSTAMP:20260422T083017
CREATED:20180403T133058Z
LAST-MODIFIED:20180403T133058Z
UID:5937-1524308400-1524315600@insiderguide.me
SUMMARY:Регионална библиотека
DESCRIPTION:Зала Изкуство Хоров концерт народни песни с участието на ученици от НУИ „Проф. Веселин Стоянов“. / Choir concert @ the Library.\nhttp://www.libruse.bg/
URL:https://insiderguide.me/event/choir-apr212018/
END:VEVENT
BEGIN:VEVENT
DTSTART;TZID=Europe/Sofia:20180421T110000
DTEND;TZID=Europe/Sofia:20180421T120000
DTSTAMP:20260422T083017
CREATED:20180403T131539Z
LAST-MODIFIED:20180403T131539Z
UID:5905-1524308400-1524312000@insiderguide.me
SUMMARY:Драматичен театър Сава Огнянов
DESCRIPTION:“С огъня шега не бива”. / Dont’t Play with Fire @ the Theatre.\nhttp://www.theatre.ruse.bg/
URL:https://insiderguide.me/event/playfire-apr212018/
END:VEVENT
BEGIN:VEVENT
DTSTART;TZID=Europe/Sofia:20180421T093000
DTEND;TZID=Europe/Sofia:20180421T110000
DTSTAMP:20260422T083017
CREATED:20180403T133650Z
LAST-MODIFIED:20180403T133650Z
UID:5948-1524303000-1524308400@insiderguide.me
SUMMARY:Регионална библиотека
DESCRIPTION:Българските шевици – от баба на внуче. Съорганизатор: „Съюз на пенсионерите 2004“ – Русе. / Bulgarian Embroideries @ the Library.\nhttp://www.libruse.bg/
URL:https://insiderguide.me/event/bgembroideries-apr212018/
END:VEVENT
BEGIN:VEVENT
DTSTART;VALUE=DATE:20180421
DTEND;VALUE=DATE:20180423
DTSTAMP:20260422T083017
CREATED:20180407T065436Z
LAST-MODIFIED:20180407T065455Z
UID:6007-1524268800-1524441599@insiderguide.me
SUMMARY:Доходно здание
DESCRIPTION:Българският географски фестивал: https://dariknews.bg/regioni/ruse/festival-sybira-bylgarskite-geografi-v-ruse-2089327. / Bulgarian Festival in Geography @ the Profit-Yielding Building.\nhttp://www.dohodnozdanie.com/
URL:https://insiderguide.me/event/georgraphyfest-apr21222018/
END:VEVENT
BEGIN:VEVENT
DTSTART;TZID=Europe/Sofia:20180420T190000
DTEND;TZID=Europe/Sofia:20180420T210000
DTSTAMP:20260422T083017
CREATED:20180403T132255Z
LAST-MODIFIED:20180403T132255Z
UID:5925-1524250800-1524258000@insiderguide.me
SUMMARY:Зала Филхармония
DESCRIPTION:Концерт на Държавна опера – Русе със солисти ученици от НУИ „ В. Стоянов“ – Русе посветен на Патронния празник на училището. / Rousse Opera live in concert with students from the Art School\, live @ @ the Philharmony Hall.\nhttp://www.ruseopera.com/
URL:https://insiderguide.me/event/operastudents-apr202018/
END:VEVENT
BEGIN:VEVENT
DTSTART;TZID=Europe/Sofia:20180420T190000
DTEND;TZID=Europe/Sofia:20180420T210000
DTSTAMP:20260422T083017
CREATED:20180403T112610Z
LAST-MODIFIED:20180403T112610Z
UID:5860-1524250800-1524258000@insiderguide.me
SUMMARY:Канев Център
DESCRIPTION:„Доктор“\, комедия. / Doctor\, comedy @ Kaneff Centre.\nhttps://www.uni-ruse.bg/kaneff
URL:https://insiderguide.me/event/doctor-apr2022018/
END:VEVENT
BEGIN:VEVENT
DTSTART;VALUE=DATE:20180420
DTEND;VALUE=DATE:20180421
DTSTAMP:20260422T083017
CREATED:20180403T134629Z
LAST-MODIFIED:20180403T134648Z
UID:5970-1524182400-1524268799@insiderguide.me
SUMMARY:Доходно здание
DESCRIPTION:IV Национален географски фестивал. Организатори: Българско Географско дружество\, СУЕЕ\, Община Русе. / 4th National Festival in Geography @ the Profit-Yielding Building.\nhttp://www.dohodnozdanie.com/
URL:https://insiderguide.me/event/geography-apr202018/
END:VEVENT
BEGIN:VEVENT
DTSTART;TZID=Europe/Sofia:20180419T190000
DTEND;TZID=Europe/Sofia:20180419T210000
DTSTAMP:20260422T083017
CREATED:20180403T130009Z
LAST-MODIFIED:20180403T130009Z
UID:5887-1524164400-1524171600@insiderguide.me
SUMMARY:Държавна опера Русе
DESCRIPTION:“Набуко”. / Nabuco @ the Opera House.\nhttp://www.ruseopera.com/
URL:https://insiderguide.me/event/nabuco-apr192018/
END:VEVENT
BEGIN:VEVENT
DTSTART;TZID=Europe/Sofia:20180418T193000
DTEND;TZID=Europe/Sofia:20180418T213000
DTSTAMP:20260422T083017
CREATED:20180403T112527Z
LAST-MODIFIED:20180403T112527Z
UID:5862-1524079800-1524087000@insiderguide.me
SUMMARY:Канев Център
DESCRIPTION:„Методът Грьонхолм“. / Groencholm Method @ Kaneff Centre.\nhttps://www.uni-ruse.bg/kaneff
URL:https://insiderguide.me/event/groencholmmethod-apr182018/
END:VEVENT
BEGIN:VEVENT
DTSTART;TZID=Europe/Sofia:20180418T180000
DTEND;TZID=Europe/Sofia:20180418T210000
DTSTAMP:20260422T083017
CREATED:20180403T135626Z
LAST-MODIFIED:20180403T135626Z
UID:5982-1524074400-1524085200@insiderguide.me
SUMMARY:Макс клуб
DESCRIPTION:Vinyl Meeting @ Max Club.\nhttp://www.maxclubruse.com/
URL:https://insiderguide.me/event/vinyl-apr182018/
END:VEVENT
BEGIN:VEVENT
DTSTART;TZID=Europe/Sofia:20180418T180000
DTEND;TZID=Europe/Sofia:20180418T193000
DTSTAMP:20260422T083017
CREATED:20180403T134254Z
LAST-MODIFIED:20180403T134254Z
UID:5961-1524074400-1524079800@insiderguide.me
SUMMARY:Исторически музей
DESCRIPTION:Праистория от двете страни на река Дунав – Русе и Пиетреле презентация на Румяна Йорданова – археолог. / Prehistoric Past\, presentation @ the Regional Museum of History.\nhttp://www.museumruse.com/
URL:https://insiderguide.me/event/prehistory-apr182018/
END:VEVENT
BEGIN:VEVENT
DTSTART;TZID=Europe/Sofia:20180418T170000
DTEND;TZID=Europe/Sofia:20180418T183000
DTSTAMP:20260422T083017
CREATED:20180403T131255Z
LAST-MODIFIED:20180403T131255Z
UID:5910-1524070800-1524076200@insiderguide.me
SUMMARY:Драматичен театър Сава Огнянов
DESCRIPTION:“Разпитът”. 17 и 19 ч. – вход свободен само за ученици. / The Interrogation\, free admission fr students at 5 and 7 PM @ the Theatre.\nhttp://www.theatre.ruse.bg/
URL:https://insiderguide.me/event/interrogation-apr182018/
END:VEVENT
BEGIN:VEVENT
DTSTART;TZID=Europe/Sofia:20180418T130000
DTEND;TZID=Europe/Sofia:20180418T180000
DTSTAMP:20260422T083017
CREATED:20180407T065214Z
LAST-MODIFIED:20180407T065214Z
UID:6005-1524056400-1524074400@insiderguide.me
SUMMARY:Русенски университет
DESCRIPTION:International Students Festival https://www.facebook.com/events/301679110363022/ @ Rousse University.\nhttps://www.uni-ruse.bg/
URL:https://insiderguide.me/event/ruseunifest-apr182018/
END:VEVENT
BEGIN:VEVENT
DTSTART;VALUE=DATE:20180418
DTEND;VALUE=DATE:20180419
DTSTAMP:20260422T083017
CREATED:20180403T134935Z
LAST-MODIFIED:20180403T134958Z
UID:5976-1524009600-1524095999@insiderguide.me
SUMMARY:Доходно здание
DESCRIPTION:Концерт на Вокална група Приста Джуниър. / Prista Junior\, live @ the Profit-Yielding Building.\nhttp://www.dohodnozdanie.com/
URL:https://insiderguide.me/event/pristajun-apr182018/
END:VEVENT
BEGIN:VEVENT
DTSTART;TZID=Europe/Sofia:20180417T190000
DTEND;TZID=Europe/Sofia:20180417T210000
DTSTAMP:20260422T083017
CREATED:20180403T125903Z
LAST-MODIFIED:20180403T125903Z
UID:5886-1523991600-1523998800@insiderguide.me
SUMMARY:Държавна опера Русе
DESCRIPTION:История на войника от Игор Стравински. / A Soldier’s Story @ the Opera House.\nhttp://www.ruseopera.com/
URL:https://insiderguide.me/event/soldiersstory-apr172018/
END:VEVENT
BEGIN:VEVENT
DTSTART;TZID=Europe/Sofia:20180417T190000
DTEND;TZID=Europe/Sofia:20180417T210000
DTSTAMP:20260422T083017
CREATED:20180403T112438Z
LAST-MODIFIED:20180403T112438Z
UID:5861-1523991600-1523998800@insiderguide.me
SUMMARY:Канев Център
DESCRIPTION:„Уестсайдска история“\, концерт-спектакъл. / West Side Story @ Kaneff Centre.\nhttps://www.uni-ruse.bg/kaneff
URL:https://insiderguide.me/event/westsidestory-apr172018/
END:VEVENT
BEGIN:VEVENT
DTSTART;TZID=Europe/Sofia:20180417T183000
DTEND;TZID=Europe/Sofia:20180417T193000
DTSTAMP:20260422T083017
CREATED:20180403T131815Z
LAST-MODIFIED:20180403T131815Z
UID:5921-1523989800-1523993400@insiderguide.me
SUMMARY:Национално у-ще по изкуствата
DESCRIPTION:Пролетен концерт на специалност „Класическа китара“. / Classic Guitar\, live @ National Art School.\nhttp://www.artrousse.com/
URL:https://insiderguide.me/event/clasicguitar-apr172018/
END:VEVENT
BEGIN:VEVENT
DTSTART;TZID=Europe/Sofia:20180417T173000
DTEND;TZID=Europe/Sofia:20180417T193000
DTSTAMP:20260422T083017
CREATED:20180403T132959Z
LAST-MODIFIED:20180403T132959Z
UID:5936-1523986200-1523993400@insiderguide.me
SUMMARY:Регионална библиотека
DESCRIPTION:Галерия Библиотека. Наследството на Йохана. Представя Антония Атанасова. / Johanna’s Heritage @ the Library.\nhttp://www.libruse.bg/
URL:https://insiderguide.me/event/johanna-apr172018/
END:VEVENT
BEGIN:VEVENT
DTSTART;VALUE=DATE:20180416
DTEND;VALUE=DATE:20180502
DTSTAMP:20260422T083017
CREATED:20180407T064744Z
LAST-MODIFIED:20180407T064807Z
UID:6001-1523836800-1525219199@insiderguide.me
SUMMARY:Парк на младежта
DESCRIPTION:Русенски пролетен панаир 2018. / Spring Fair 2018 in the Youth Park.\nhttp://www.nasamnatam.com/
URL:https://insiderguide.me/event/springfair-apr16may12018/
END:VEVENT
BEGIN:VEVENT
DTSTART;TZID=Europe/Sofia:20180415T180000
DTEND;TZID=Europe/Sofia:20180415T193000
DTSTAMP:20260422T083017
CREATED:20180403T135139Z
LAST-MODIFIED:20180403T135158Z
UID:5980-1523815200-1523820600@insiderguide.me
SUMMARY:Доходно здание
DESCRIPTION:Концерт на Детски хор Дунавски вълни. / Dunvaski Valni\, live @ the Profit-Yielding Building.\nhttp://www.dohodnozdanie.com/
URL:https://insiderguide.me/event/dunavskivalni-apr152018/
END:VEVENT
END:VCALENDAR