BEGIN:VCALENDAR
VERSION:2.0
PRODID:-// - ECPv6.15.14//NONSGML v1.0//EN
CALSCALE:GREGORIAN
METHOD:PUBLISH
X-ORIGINAL-URL:https://insiderguide.me
X-WR-CALDESC:Events for 
REFRESH-INTERVAL;VALUE=DURATION:PT1H
X-Robots-Tag:noindex
X-PUBLISHED-TTL:PT1H
BEGIN:VTIMEZONE
TZID:Europe/Sofia
BEGIN:DAYLIGHT
TZOFFSETFROM:+0200
TZOFFSETTO:+0300
TZNAME:EEST
DTSTART:20170326T010000
END:DAYLIGHT
BEGIN:STANDARD
TZOFFSETFROM:+0300
TZOFFSETTO:+0200
TZNAME:EET
DTSTART:20171029T010000
END:STANDARD
BEGIN:DAYLIGHT
TZOFFSETFROM:+0200
TZOFFSETTO:+0300
TZNAME:EEST
DTSTART:20180325T010000
END:DAYLIGHT
BEGIN:STANDARD
TZOFFSETFROM:+0300
TZOFFSETTO:+0200
TZNAME:EET
DTSTART:20181028T010000
END:STANDARD
BEGIN:DAYLIGHT
TZOFFSETFROM:+0200
TZOFFSETTO:+0300
TZNAME:EEST
DTSTART:20190331T010000
END:DAYLIGHT
BEGIN:STANDARD
TZOFFSETFROM:+0300
TZOFFSETTO:+0200
TZNAME:EET
DTSTART:20191027T010000
END:STANDARD
END:VTIMEZONE
BEGIN:VEVENT
DTSTART;TZID=Europe/Sofia:20180616T110000
DTEND;TZID=Europe/Sofia:20180616T120000
DTSTAMP:20260422T064218
CREATED:20180604T133245Z
LAST-MODIFIED:20180604T133245Z
UID:6299-1529146800-1529150400@insiderguide.me
SUMMARY:МОЛ Русе
DESCRIPTION:Ателие за деца. / Art workshop for children @ the Rousse MALL.
URL:https://insiderguide.me/event/atelier-june162018/
END:VEVENT
BEGIN:VEVENT
DTSTART;VALUE=DATE:20180616
DTEND;VALUE=DATE:20180618
DTSTAMP:20260422T064218
CREATED:20180604T125053Z
LAST-MODIFIED:20180604T125120Z
UID:6254-1529107200-1529279999@insiderguide.me
SUMMARY:Текето (Лесопарк Липник)
DESCRIPTION:Национален фолклорен фестивал „Сцена под липите и Еньовден“. / Under the Linden Folklore Festival @ the Lipnik Forest Park.\nhttp://www.guide359.com/
URL:https://insiderguide.me/event/underlinedn-1617june2018/
END:VEVENT
BEGIN:VEVENT
DTSTART;VALUE=DATE:20180615
DTEND;VALUE=DATE:20180618
DTSTAMP:20260422T064218
CREATED:20180604T124852Z
LAST-MODIFIED:20180604T124919Z
UID:6252-1529020800-1529279999@insiderguide.me
SUMMARY:Хижа Приста
DESCRIPTION:Hационален мото събор. / National Moto Fest @ the Prista Hut.\nhttp://td-prista.org/hut.php?id=4
URL:https://insiderguide.me/event/motoseason-1617june2018/
END:VEVENT
BEGIN:VEVENT
DTSTART;TZID=Europe/Sofia:20180614T190000
DTEND;TZID=Europe/Sofia:20180614T210000
DTSTAMP:20260422T064218
CREATED:20180604T130843Z
LAST-MODIFIED:20180604T130843Z
UID:6275-1529002800-1529010000@insiderguide.me
SUMMARY:Държавна опера Русе
DESCRIPTION:„Макбет“./ Macbeth\, opera @ the State Opera.\nhttp://www.ruseopera.com/
URL:https://insiderguide.me/event/macbeth-14june2018/
END:VEVENT
BEGIN:VEVENT
DTSTART;TZID=Europe/Sofia:20180612T190000
DTEND;TZID=Europe/Sofia:20180612T210000
DTSTAMP:20260422T064218
CREATED:20180604T130747Z
LAST-MODIFIED:20180604T130747Z
UID:6269-1528830000-1528837200@insiderguide.me
SUMMARY:Държавна опера Русе
DESCRIPTION:Лебедово езеро. / Swan Lake\, ballet @ the State Opera.\nhttp://www.ruseopera.com/
URL:https://insiderguide.me/event/swanlake-12june2018/
END:VEVENT
BEGIN:VEVENT
DTSTART;TZID=Europe/Sofia:20180610T113000
DTEND;TZID=Europe/Sofia:20180610T130000
DTSTAMP:20260422T064218
CREATED:20180604T130650Z
LAST-MODIFIED:20180604T130650Z
UID:6268-1528630200-1528635600@insiderguide.me
SUMMARY:Държавна опера Русе
DESCRIPTION:Камерен концерт./ Chamber concert @ the State Opera.\nhttp://www.ruseopera.com/
URL:https://insiderguide.me/event/chamberconcert-10june2018/
END:VEVENT
BEGIN:VEVENT
DTSTART;TZID=Europe/Sofia:20180610T110000
DTEND;TZID=Europe/Sofia:20180610T120000
DTSTAMP:20260422T064218
CREATED:20180604T132915Z
LAST-MODIFIED:20180604T132939Z
UID:6294-1528628400-1528632000@insiderguide.me
SUMMARY:Държавен куклен театър
DESCRIPTION:“Приказка за Ох”\, представление за деца. / Tale about Ouch\, play for children @ the Puppet House.\nhttp://puppetruse.com/
URL:https://insiderguide.me/event/ouchtale-10june2018/
END:VEVENT
BEGIN:VEVENT
DTSTART;VALUE=DATE:20180610
DTEND;VALUE=DATE:20180618
DTSTAMP:20260422T064218
CREATED:20180604T124513Z
LAST-MODIFIED:20180604T124513Z
UID:6248-1528588800-1529279999@insiderguide.me
SUMMARY:Доходно здание
DESCRIPTION:XXII Национален ученически театрален фестивал “Климент Михайлов”. / Climent Mihaylov National Theatre Festival for Students @ the Profit-Yielding Building.\nhttp://www.dohodnozdanie.com/
URL:https://insiderguide.me/event/climentmihaylovfest-1017june2018/
END:VEVENT
BEGIN:VEVENT
DTSTART;VALUE=DATE:20180610
DTEND;VALUE=DATE:20180611
DTSTAMP:20260422T064218
CREATED:20180604T124724Z
LAST-MODIFIED:20180604T124754Z
UID:6250-1528588800-1528675199@insiderguide.me
SUMMARY:Парк на младежта
DESCRIPTION:49. Фолклорен събор “Златната гъдулка”. / The Golden Fiddle Folk Festival 49th edition @ Youth Park.\nhttp://www.nasamnatam.com/
URL:https://insiderguide.me/event/goldenfiddle-10june2018/
END:VEVENT
BEGIN:VEVENT
DTSTART;TZID=Europe/Sofia:20180609T190000
DTEND;TZID=Europe/Sofia:20180609T210000
DTSTAMP:20260422T064218
CREATED:20180521T111431Z
LAST-MODIFIED:20180521T111431Z
UID:6196-1528570800-1528578000@insiderguide.me
SUMMARY:Държавна опера Русе
DESCRIPTION:“Набуко”./ Nabucco\, opera @ the State Opera.\nhttp://www.ruseopera.com/
URL:https://insiderguide.me/event/nabucco-9june2018/
END:VEVENT
BEGIN:VEVENT
DTSTART;TZID=Europe/Sofia:20180609T180000
DTEND;TZID=Europe/Sofia:20180609T193000
DTSTAMP:20260422T064218
CREATED:20180522T080319Z
LAST-MODIFIED:20180522T080428Z
UID:6209-1528567200-1528572600@insiderguide.me
SUMMARY:Площад Свобода
DESCRIPTION:Ruse Summer Free Tour\, безплатни пешеходни туристически обиколки в централите части на Русе. Повече на https://www.facebook.com/rusesummerfreetour/. / Ruse Summer Free Tour. More @ https://www.facebook.com/rusesummerfreetour/.
URL:https://insiderguide.me/event/freetours-9june2018/
END:VEVENT
BEGIN:VEVENT
DTSTART;TZID=Europe/Sofia:20180609T110000
DTEND;TZID=Europe/Sofia:20180609T120000
DTSTAMP:20260422T064218
CREATED:20180604T133221Z
LAST-MODIFIED:20180604T133253Z
UID:6300-1528542000-1528545600@insiderguide.me
SUMMARY:МОЛ Русе
DESCRIPTION:Ателие за деца. / Art workshop for children @ the Rousse MALL.
URL:https://insiderguide.me/event/atelier-9june2018/
END:VEVENT
BEGIN:VEVENT
DTSTART;VALUE=DATE:20180609
DTEND;VALUE=DATE:20180610
DTSTAMP:20260422T064218
CREATED:20180521T120130Z
LAST-MODIFIED:20180521T120158Z
UID:6201-1528502400-1528588799@insiderguide.me
SUMMARY:Паркинг м-н Кауфланд
DESCRIPTION:Парад на ретро автомобили Русе 2018 от паркинга на магазин Кауфланд в Дружба 3. / Retro Cars Parade from the parking lot at Kaufland supermarket in Druzhba 3.
URL:https://insiderguide.me/event/retrocarparade2018-9june2018/
END:VEVENT
BEGIN:VEVENT
DTSTART;TZID=Europe/Sofia:20180607T190000
DTEND;TZID=Europe/Sofia:20180607T210000
DTSTAMP:20260422T064218
CREATED:20180604T130436Z
LAST-MODIFIED:20180604T130436Z
UID:6270-1528398000-1528405200@insiderguide.me
SUMMARY:Държавна опера Русе
DESCRIPTION:„Аида“./ Aida\, opera @ the State Opera.\nhttp://www.ruseopera.com/
URL:https://insiderguide.me/event/aida-7june2018-2/
END:VEVENT
BEGIN:VEVENT
DTSTART;TZID=Europe/Sofia:20180607T190000
DTEND;TZID=Europe/Sofia:20180607T210000
DTSTAMP:20260422T064218
CREATED:20180521T111508Z
LAST-MODIFIED:20180521T111508Z
UID:6197-1528398000-1528405200@insiderguide.me
SUMMARY:Държавна опера Русе
DESCRIPTION:„Аида“./ Aida\, opera @ the State Opera.\nhttp://www.ruseopera.com/
URL:https://insiderguide.me/event/aida-7june2018/
END:VEVENT
BEGIN:VEVENT
DTSTART;TZID=Europe/Sofia:20180606T190000
DTEND;TZID=Europe/Sofia:20180606T203000
DTSTAMP:20260422T064218
CREATED:20180521T110704Z
LAST-MODIFIED:20180521T110746Z
UID:6189-1528311600-1528317000@insiderguide.me
SUMMARY:Канев Център
DESCRIPTION:„Когато котката я няма“. / When the Cat’s Not There @ Kaneff Centre.\nhttps://www.uni-ruse.bg/kaneff
URL:https://insiderguide.me/event/catnotthere-6june2018/
END:VEVENT
BEGIN:VEVENT
DTSTART;TZID=Europe/Sofia:20180606T190000
DTEND;TZID=Europe/Sofia:20180606T203000
DTSTAMP:20260422T064218
CREATED:20180521T110604Z
LAST-MODIFIED:20180521T110737Z
UID:6187-1528311600-1528317000@insiderguide.me
SUMMARY:Канев Център
DESCRIPTION:„Преспанските камбани“. / The Bells of Prespa @ Kaneff Centre.\nhttps://www.uni-ruse.bg/kaneff
URL:https://insiderguide.me/event/perspa-6june2018/
END:VEVENT
BEGIN:VEVENT
DTSTART;TZID=Europe/Sofia:20180606T190000
DTEND;TZID=Europe/Sofia:20180606T203000
DTSTAMP:20260422T064218
CREATED:20180521T110443Z
LAST-MODIFIED:20180521T110511Z
UID:6185-1528311600-1528317000@insiderguide.me
SUMMARY:Драматичен театър Сава Огнянов
DESCRIPTION:„Ти кой си?“. / Who Are You? @ the Theatre.\nhttp://www.theatre.ruse.bg/
URL:https://insiderguide.me/event/whoareyou-6june2018/
END:VEVENT
BEGIN:VEVENT
DTSTART;VALUE=DATE:20180605
DTEND;VALUE=DATE:20180608
DTSTAMP:20260422T064218
CREATED:20180604T122920Z
LAST-MODIFIED:20180604T122920Z
UID:6246-1528156800-1528415999@insiderguide.me
SUMMARY:Община Русе
DESCRIPTION:Фестивал “Ромите и киното”:  \n\n5 юни\, 17:30 – „Заек над бездната“\n6 юни\, 17:30 – „Трансилвания“\n7 юни\, 17:30 – „С лице надолу“\n\nThe Gypsies and the Cinema Festival @ Rousse Municipality.
URL:https://insiderguide.me/event/gypsiescinema-57june2018/
END:VEVENT
BEGIN:VEVENT
DTSTART;TZID=Europe/Sofia:20180604T190000
DTEND;TZID=Europe/Sofia:20180604T210000
DTSTAMP:20260422T064218
CREATED:20180604T131345Z
LAST-MODIFIED:20180604T131345Z
UID:6282-1528138800-1528146000@insiderguide.me
SUMMARY:Държавна опера Русе
DESCRIPTION:„Аида“./ Aida\, opera @ the State Opera.\nhttp://www.ruseopera.com/
URL:https://insiderguide.me/event/aida-4june2018/
END:VEVENT
BEGIN:VEVENT
DTSTART;TZID=Europe/Sofia:20180604T190000
DTEND;TZID=Europe/Sofia:20180604T203000
DTSTAMP:20260422T064218
CREATED:20180521T111156Z
LAST-MODIFIED:20180521T111219Z
UID:6193-1528138800-1528144200@insiderguide.me
SUMMARY:Драматичен театър Сава Огнянов
DESCRIPTION:„Тектоника на чувствата“. / The Tectonics of Feelings @ @ the Theatre.\nhttp://www.theatre.ruse.bg/
URL:https://insiderguide.me/event/tectonics-4jun2018/
END:VEVENT
BEGIN:VEVENT
DTSTART;TZID=Europe/Sofia:20180602T190000
DTEND;TZID=Europe/Sofia:20180602T210000
DTSTAMP:20260422T064218
CREATED:20180129T145209Z
LAST-MODIFIED:20180129T145209Z
UID:5502-1527966000-1527973200@insiderguide.me
SUMMARY:Военен клуб (Летен театър)
DESCRIPTION:Рок-концерт на група JORN. / JORN\, live @ the Military Club (Summer Theatre) in Rousse.\nhttps://www.facebook.com/VoenenKlubRuse
URL:https://insiderguide.me/event/jorn-jun022018/
END:VEVENT
BEGIN:VEVENT
DTSTART;TZID=Europe/Sofia:20180602T180000
DTEND;TZID=Europe/Sofia:20180602T193000
DTSTAMP:20260422T064218
CREATED:20180522T080308Z
LAST-MODIFIED:20180522T080420Z
UID:6208-1527962400-1527967800@insiderguide.me
SUMMARY:Площад Свобода
DESCRIPTION:Ruse Summer Free Tour\, безплатни пешеходни туристически обиколки в централите части на Русе. Повече на https://www.facebook.com/rusesummerfreetour/. / Ruse Summer Free Tour. More @ https://www.facebook.com/rusesummerfreetour/.
URL:https://insiderguide.me/event/freetours-2june2018/
END:VEVENT
BEGIN:VEVENT
DTSTART;TZID=Europe/Sofia:20180531T190000
DTEND;TZID=Europe/Sofia:20180531T210000
DTSTAMP:20260422T064218
CREATED:20180503T182333Z
LAST-MODIFIED:20180503T182408Z
UID:6090-1527793200-1527800400@insiderguide.me
SUMMARY:Драматичен театър Сава Огнянов
DESCRIPTION:„Нос“. / Nose @ the Theatre.\nhttp://www.theatre.ruse.bg/
URL:https://insiderguide.me/event/nose-may312018/
END:VEVENT
BEGIN:VEVENT
DTSTART;TZID=Europe/Sofia:20180531T170000
DTEND;TZID=Europe/Sofia:20180531T180000
DTSTAMP:20260422T064218
CREATED:20180503T184307Z
LAST-MODIFIED:20180503T184307Z
UID:6110-1527786000-1527789600@insiderguide.me
SUMMARY:Регионална библиотека
DESCRIPTION:„Книжовността на българското възраждане“. Среща с проф. Ани Гергова. / The Books of the Bulgarian Rennaisance @ the Library.\nhttp://www.libruse.bg/
URL:https://insiderguide.me/event/books-may312018/
END:VEVENT
BEGIN:VEVENT
DTSTART;TZID=Europe/Sofia:20180531T110000
DTEND;TZID=Europe/Sofia:20180531T120000
DTSTAMP:20260422T064218
CREATED:20180502T193420Z
LAST-MODIFIED:20180502T193420Z
UID:6064-1527764400-1527768000@insiderguide.me
SUMMARY:Държавна опера Русе
DESCRIPTION:„Ани в царството на цветята“./ Ani in the Realm of Flowers\, opera for children @ the State Opera.\nhttp://www.ruseopera.com/
URL:https://insiderguide.me/event/ani-may312018/
END:VEVENT
BEGIN:VEVENT
DTSTART;TZID=Europe/Sofia:20180529T190000
DTEND;TZID=Europe/Sofia:20180529T210000
DTSTAMP:20260422T064218
CREATED:20180502T191702Z
LAST-MODIFIED:20180502T191702Z
UID:6042-1527620400-1527627600@insiderguide.me
SUMMARY:Канев Център
DESCRIPTION:ДТ „Адриана Будевска“ – Бургас и ТК Viva Arte „Малко комедия“ от А. П. Чехов. / A Bit of a Comedy\, comedy @ Kaneff Centre.\nhttps://www.uni-ruse.bg/kaneff
URL:https://insiderguide.me/event/bitcomedy-may292018/
END:VEVENT
BEGIN:VEVENT
DTSTART;TZID=Europe/Sofia:20180529T173000
DTEND;TZID=Europe/Sofia:20180529T190000
DTSTAMP:20260422T064218
CREATED:20180503T185023Z
LAST-MODIFIED:20180503T185023Z
UID:6109-1527615000-1527620400@insiderguide.me
SUMMARY:Регионална библиотека
DESCRIPTION:„За вълновата медицина. От психиката до тялото“. Среща с д-р Пламен Кьосев – хомеопат. / Medicine of Waves @ the Library.\nhttp://www.libruse.bg/
URL:https://insiderguide.me/event/wavesmedicine-may292018/
END:VEVENT
BEGIN:VEVENT
DTSTART;TZID=Europe/Sofia:20180528T190000
DTEND;TZID=Europe/Sofia:20180528T210000
DTSTAMP:20260422T064218
CREATED:20180503T182242Z
LAST-MODIFIED:20180503T182242Z
UID:6080-1527534000-1527541200@insiderguide.me
SUMMARY:Драматичен театър Сава Огнянов
DESCRIPTION:„Сблъсък“. / Collision @ @ the Theatre.\nhttp://www.theatre.ruse.bg/
URL:https://insiderguide.me/event/collision-may282018/
END:VEVENT
BEGIN:VEVENT
DTSTART;TZID=Europe/Sofia:20180528T190000
DTEND;TZID=Europe/Sofia:20180528T210000
DTSTAMP:20260422T064218
CREATED:20180502T193318Z
LAST-MODIFIED:20180502T193318Z
UID:6062-1527534000-1527541200@insiderguide.me
SUMMARY:Държавна опера Русе
DESCRIPTION:„Царицата на Чардаша“. / The Queen of the Czardas @ the State Opera.\nhttp://www.ruseopera.com/
URL:https://insiderguide.me/event/queen-may282018/
END:VEVENT
END:VCALENDAR